Workbook

Sheet 收支餘絀預計表
A1: 積 欠 工 資 墊 償 基 金
A2: 收 支 餘 絀 預 計 表
A3: 中 華 民 國 107年 度
J4: 單位：新臺幣千元
A5: 前年度決算數 | C5: 科 目 | D5: 本年度預算數 | F5: 上年度預算數 | H5: 比較增減(-) | J5: 說 明
A6: 金 額 | B6: % | D6: 金 額 | E6: % | F6: 金 額 | G6: % | H6: 金 額 | I6: %
A8: =SUM(A9:A12) -> 979262 | B8: =ROUND((A8/$A$8)*100,2) -> 100 | C8: 總收入 | D8: =SUM(D9:D12) -> 936068 | E8: =ROUND((D8/$D$8)*100,2) -> 100 | F8: =SUM(F9:F12) -> 878523 | G8: =ROUND((F8/$F$8)*100,2) -> 100 | H8: =SUM(H9:H12) -> 57545 | I8: =ROUND((H8/F8)*100,2) -> 6.55
A9: 224016 | B9: =ROUND((A9/$A$8)*100,2) -> 22.88 | C9: 投資業務收入 | D9: 204530 | E9: =ROUND((D9/$D$8)*100,2) -> 21.85 | F9: 180604 | G9: =ROUND((F9/$F$8)*100,2) -> 20.56 | H9: =D9-F9 -> 23926 | I9: =ROUND((H9/F9)*100,2) -> 13.25 | J9: 詳第11頁投資業務收入明細表。
A10: 75707 | B10: =ROUND((A10/$A$8)*100,2) -> 7.73 | C10: 存款利息收入 | D10: 36238 | E10: =ROUND((D10/$D$8)*100,2) -> 3.87 | F10: 33549 | G10: =ROUND((F10/$F$8)*100,2) -> 3.82 | H10: =D10-F10 -> 2689 | I10: =ROUND((H10/F10)*100,2) -> 8.02 | J10: 詳第12頁存款利息收入明細表。
A11: 665379 | B11: =ROUND((A11/$A$8)*100,2) -> 67.95 | C11: 提繳費收入 | D11: 690300 | E11: =ROUND((D11/$D$8)*100,2) -> 73.74 | F11: 659370 | G11: =ROUND((F11/$F$8)*100,2) -> 75.05 | H11: =D11-F11 -> 30930 | I11: =ROUND((H11/F11)*100,2) -> 4.69 | J11: 詳第 13 頁提繳費收入明細表。
A12: 14160 | B12: =ROUND((A12/$A$8)*100,2) -> 1.45 | C12: 雜項業務收入 | D12: 5000 | E12: =ROUND((D12/$D$8)*100,2) -> 0.53 | F12: 5000 | G12: =ROUND((F12/$F$8)*100,2) -> 0.57 | H12: =D12-F12 -> 0 | I12: =ROUND((H12/F12)*100,2) -> 0 | J12: 已轉銷呆帳墊償案件經司法途徑收回之收入。
A14: =SUM(A15:A17) -> 237158 | B14: =ROUND((A14/$A$8)*100,2) -> 24.22 | C14: 總支出 | D14: =SUM(D15:D17) -> 363865 | E14: =ROUND((D14/$D$8)*100,2) -> 38.87 | F14: =SUM(F15:F17) -> 372305 | G14: =ROUND((F14/$F$8)*100,2) -> 42.38 | H14: =SUM(H15:H17) -> -8440 | I14: =ROUND((H14/F14)*100,2) -> -2.27 | J14: 詳第14頁支出明細表。
A15: 62428 | B15: =ROUND((A15/$A$8)*100,2) -> 6.38 | C15: 投資業務成本 | D15: 0 | E15: 0 | F15: 0 | G15: 0 | H15: 0 | I15: 0
A16: 140805 | B16: =ROUND((A16/$A$8)*100,2) -> 14.38 | C16: 呆帳 | D16: 323707 | E16: =ROUND((D16/$D$8)*100,2) -> 34.58 | F16: 332855 | G16: =ROUND((F16/$F$8)*100,2) -> 37.89 | H16: =D16-F16 -> -9148 | I16: =ROUND((H16/F16)*100,2) -> -2.75
A17: 33925 | B17: =ROUND((A17/$A$8)*100,2) -> 3.46 | C17: 業務費用 | D17: 40158 | E17: =ROUND((D17/$D$8)*100,2) -> 4.29 | F17: 39450 | G17: =ROUND((F17/$F$8)*100,2) -> 4.49 | H17: =D17-F17 -> 708 | I17: =ROUND((H17/F17)*100,2) -> 1.79
A19: =A8-A14 -> 742104 | B19: =B8-B14 -> 75.78 | C19: 本期賸餘(短絀) | D19: =D8-D14 -> 572203 | E19: =E8-E14 -> 61.13 | F19: =F8-F14 -> 506218 | G19: =ROUND((F19/$F$8)*100,2) -> 57.62 | H19: =H8-H14 -> 65985 | I19: =ROUND((H19/F19)*100,2) -> 13.03
A21: 註：1.本年度預算數係參照行政院主計總處核定作業基金採用企業會計準則適用科(項)目編製之數；前年度決算數為審定決算 數、上年度預算數為法定預算數，係導入企業會計準則科目重分類之數。
A22: 2.百分比及前年度決算數細數之和與總數或略有出入，係四捨五入關係。以下各表同。

Sheet 餘絀撥補預計表
A1: 積 欠 工 資 墊 償 基 金
A2: 餘 絀 撥 補 預 計 表
A3: 中 華 民 國 107 年 度
F4: 單位：新臺幣千元
A5: 上 年 度 預 算 數 | C5: 項 目 | D5: 本 年 度 預 算 數 | F5: 說 明
A6: 金 額 | B6: % | D6: 金 額 | E6: %
A8: =SUM(A9:A10) -> 12242649 | B8: =(A8/$A$8)*100 -> 100 | C8: 賸餘之部 | D8: =SUM(D9:D10) -> 13089199 | E8: =(D8/$D$8)*100 -> 100
A9: =收支餘絀預計表!F19 -> 506218 | B9: =(A9/$A$8)*100 -> 4.1348731 | C9: 本期賸餘 | D9: =收支餘絀預計表!D19 -> 572203 | E9: =ROUND((D9/$D$8)*100,2) -> 4.37
A10: 11736431 | B10: =(A10/$A$8)*100 -> 95.865127 | C10: 前期未分配賸餘 | D10: 12516996 | E10: =ROUND((D10/$D$8)*100,2) -> 95.63 | F10: 前期未分配賸餘包括： 1.截至105年底未分配賸 餘12,010,778千元。 2.106年度本期賸餘 506,218千元。
A11: 0 | B11: 0 | C11: 分配之部 | D11: 0 | E11: 0
A12: =A8 -> 12242649 | B12: =(A12/$A$8)*100 -> 100 | C12: 未分配賸餘 | D12: =D8 -> 13089199 | E12: =(D12/$D$8)*100 -> 100 | F12: 留存本基金。

Sheet 現金流量預計表
A1: 積 欠 工 資 墊 償 基 金
A2: 現 金 流 量 預 計 表
A3: 中 華 民 國 107 年 度
D4: 單位：新臺幣千元
A5: 項 目 | B5: 預算數 | C5: 說 明
A7: 業務活動之現金流量
A8: 本期賸餘(短絀) | B8: =收支餘絀預計表!D19 -> 572203 | C8: 詳第7頁收支餘絀預計表。
A9: 利息股利之調整 | B9: =-存款利息收入明細表!E24-投資業務收入明細表!E7 -> -133376 | C9: 利息收入。
A10: 未計利息股利之本期賸餘(短絀) | B10: =B8+B9 -> 438827
A11: 調整非現金項目 | B11: -176850 | C11: 1.提存呆帳 | D11: 323,707千元
C12: 2.固定資產折舊 | D12: 67千元
C13: 3.攤銷無形資產 | D13: 1,589千元
C14: 4.其他淨增（係增加催收墊償工資159,177千元、催收墊償退休金5,400千元及催收墊償資遣費158,400千元）。 | D14: -322,977千元
C15: 5.流動資產淨增 | D15: -179,263千元
C16: 6.流動負債淨增 | D16: 27千元
A17: 未計利息股利之現金流入(流出) | B17: =SUM(B10:B11) -> 261977
A18: 收取利息 | B18: 0
A19: 收取股利 | B19: 0
A20: 支付利息 | B20: 0
A21: 業務活動之淨現金流入(流出) | B21: =SUM(B12:B20) -> 261977
A22: 投資活動之現金流量
A23: 收取利息 | B23: =-B9-預計平衡表!E18 -> 122762 | C23: 利息收現。
A24: 增加流動金融資產及短期貸墊款 | B24: =-預計平衡表!E15 -> -19480 | C24: 係增加其他金融資產（含3個月以上1年以下定期存款）。
A25: 增加投資 | B25: =-預計平衡表!E22 -> -336398 | C25: 係增加無活絡市場之債務工具投資及其他金融資產(含1年以上定期存款)。
A26: 增加無形資產及其他資產 | B26: -1746 | C26: 係增加無形資產。
A27: 投資活動之淨現金流入(流出) | B27: =B23+B24+B25+B26 -> -234862
A28: 現金及約當現金之淨增（淨減） | B28: =B21+B27 -> 27115
A29: 期初現金及約當現金 | B29: =預計平衡表!D10 -> 2091831
A30: 期末現金及約當現金 | B30: =B28+B29 -> 2118946
A31: 註：1. 本表係採現金及約當現金基礎，包括現金及自投資日起3個月內到期或清償之債權證券。
A32: 註：2. 本表「調整非現金項目」欄所列，包括提列呆帳、固定資產折舊、攤銷無形資產、其他淨增、流動
A33: 資產淨增及流動負債淨減。
B34: =B28+B29-B30 -> 0
B35: =B30-預計平衡表!C10 -> 0

Sheet 投資業務收入明細表
A1: 積 欠 工 資 墊 償 基 金
A2: 投 資 業 務 收 入 明 細 表
A3: 中 華 民 國 107 年 度
F4: 單位：新臺幣千元
A5: 項 目 | B5: 營 運 量 （平均餘額） | C5: 報 酬 率 | D5: 期 限 | E5: 金 額 | F5: 說 明
A7: 有價證券 | B7: 4956000 | C7: 0.0196 | D7: 1年 | E7: 97138 | F7: 本項目全數由勞動部勞動基金運用局辦理，係投資公債、庫券、公司債及金融債券等利息收入。
A9: 股票及受益憑證 | B9: 1858000 | C9: 0.0578 | D9: 1年 | E9: 107392 | F9: 本項目全數由勞動部勞動基金運用局辦理，係投資股票及受益憑證之投資利益。
A19: 合 計 | B19: =B9+B7 -> 6814000 | E19: =E9+E7 -> 204530

Sheet 存款利息收入明細表
A1: 積 欠 工 資 墊 償 基 金
A2: 存 款 利 息 收 入 明 細 表
A3: 中 華 民 國 107 年 度
F4: 單位：新臺幣千元
A5: 項 目 | B5: 營 運 量 （平均餘額） | C5: 利率 | D5: 期 限 | E5: 金 額 | F5: 說 明
A7: 買入定期存單 | B7: 5575000 | C7: 0.0065 | D7: 1年 | E7: =ROUND(B7*C7,0) -> 36238 | F7: 本項目全數由勞動部勞動基金運用局辦理，係定期存款。
A24: 合 計 | B24: =B7 -> 5575000 | E24: =E7 -> 36238

Sheet 提繳費收入
A1: 積 欠 工 資 墊 償 基 金
A2: 提 繳 費 收 入 明 細 表
A3: 中 華 民 國 107 年 度
A5: 適 用 業 別 | B5: 適用勞基法有一定雇主之提繳單位 | C5: 適用勞基法有一定雇主之提繳人數 | D5: 平均月 提繳 工資 | E5: 每月提繳 工資總額 (新臺幣元) | F5: 提 繳 率 2.5 0/000 | G5: 每月應 提繳額 (新臺幣元) | H5: 全年應 提繳額 (新臺幣千元)
A7: 一、農林漁牧業 | B7: 2660 | C7: 17200 | D7: 26380 | E7: =C7*D7 -> 453736000 | F7: 2.5 0/000 | G7: =ROUND(E7*0.025%,0) -> 113434 | H7: =ROUND(G7*12/1000,0) -> 1361
A8: 二、礦業及土石採取業 | B8: 350 | C8: 3350 | D8: 33300 | E8: =C8*D8 -> 111555000 | F8: 2.5 0/000 | G8: =ROUND(E8*0.025%,0) -> 27889 | H8: =ROUND(G8*12/1000,0) -> 335
A9: 三、製造業 | B9: 94000 | C9: 2492850 | D9: 33500 | E9: =C9*D9 -> 83510475000 | F9: 2.5 0/000 | G9: =ROUND(E9*0.025%,0) -> 20877619 | H9: =ROUND(G9*12/1000,0) -> 250531
A10: 四、電力及燃氣供應業 | B10: 300 | C10: 20600 | D10: 42100 | E10: =C10*D10 -> 867260000 | F10: 2.5 0/000 | G10: =ROUND(E10*0.025%,0) -> 216815 | H10: =ROUND(G10*12/1000,0) -> 2602
A11: 五、用水供應及污染整治業 | B11: 3370 | C11: 35800 | D11: 30000 | E11: =C11*D11 -> 1074000000 | F11: 2.5 0/000 | G11: =ROUND(E11*0.025%,0) -> 268500 | H11: =ROUND(G11*12/1000,0) -> 3222
A12: 六、營建工程業 | B12: 42100 | C12: 296700 | D12: 31090 | E12: =C12*D12 -> 9224403000 | F12: 2.5 0/000 | G12: =ROUND(E12*0.025%,0) -> 2306101 | H12: =ROUND(G12*12/1000,0) -> 27673
A13: 七、批發及零售業 | B13: 181190 | C13: 1534780 | D13: 29910 | E13: =C13*D13 -> 45905269800 | F13: 2.5 0/000 | G13: =ROUND(E13*0.025%,0) -> 11476317 | H13: =ROUND(G13*12/1000,0) -> 137716
A14: 八、運輸及倉儲業 | B14: 9380 | C14: 226110 | D14: 36900 | E14: =C14*D14 -> 8343459000 | F14: 2.5 0/000 | G14: =ROUND(E14*0.025%,0) -> 2085865 | H14: =ROUND(G14*12/1000,0) -> 25030
A15: 九、住宿及餐飲業 | B15: 22490 | C15: 327400 | D15: 26010 | E15: =C15*D15 -> 8515674000 | F15: 2.5 0/000 | G15: =ROUND(E15*0.025%,0) -> 2128919 | H15: =ROUND(G15*12/1000,0) -> 25547
A16: 十、出版、影音製作、傳播及資通 訊服務業 | B16: 10300 | C16: 230200 | D16: 38000 | E16: =C16*D16 -> 8747600000 | F16: 2.5 0/000 | G16: =ROUND(E16*0.025%,0) -> 2186900 | H16: =ROUND(G16*12/1000,0) -> 26243
A17: 十一、金融及保險業 | B17: 7150 | C17: 339680 | D17: 40100 | E17: =C17*D17 -> 13621168000 | F17: 2.5 0/000 | G17: =ROUND(E17*0.025%,0) -> 3405292 | H17: =ROUND(G17*12/1000,0) -> 40864
A18: 十二、不動產業 | B18: 13400 | C18: 99140 | D18: 32000 | E18: =C18*D18 -> 3172480000 | F18: 2.5 0/000 | G18: =ROUND(E18*0.025%,0) -> 793120 | H18: =ROUND(G18*12/1000,0) -> 9517
... A25: 十九、其他服務業 | B25: 20420 | C25: 144260 | D25: 31000 | E25: =C25*D25 -> 4472060000 | F25: 2.5 0/000 | G25: =ROUND(E25*0.025%,0) -> 1118015 | H25: =ROUND(G25*12/1000,0) -> 13416
A26: 合 計 | B26: =SUM(B7:B25) -> 500000 | C26: =SUM(C7:C25) -> 7080000 | D26: =SUM(E7:E25)/SUM(C7:C25) -> 32499.972 | E26: =SUM(E6:E25) -> 230099798800 | F26: 2.5 0/000 | G26: =SUM(G6:G25) -> 57524951 | H26: =SUM(H7:H25) -> 690300

Sheet 支出明細表
A1: 積 欠 工 資 墊 償 基 金
A2: 支 出 明 細 表
A3: 中 華 民 國 107 年 度
E4: 單位：新臺幣千元
A5: 前年度決算數 | B5: 科 目 名 稱 | C5: 本年度預算數 | D5: 上年度預算數 | E5: 說 明
A7: 62428 | B7: 投資業務成本 | C7: 0 | D7: 0
A8: =SUM(A9:A12) -> 140805 | B8: 呆帳 | C8: =SUM(C9:C12) -> 323707 | D8: =SUM(D9:D12) -> 332855 | E8: 詳第21頁呆帳分析表。
A9: 1180 | B9: 催收提繳費 | C9: 1044 | D9: 1399
A10: 59154 | B10: 催收墊償工資 | C10: 158697 | D10: 143578
A11: 557 | B11: 催收墊償退休金 | C11: 5609 | D11: 66592
A12: 79914 | B12: 催收墊償資遣費 | C12: 158357 | D12: 121286
A13: 33925 | B13: 業務費用 | C13: 40158 | D13: 39450 | E13: 行政經費由基金孳息支應，詳第22頁業務費用分析表。
A18: =A15+A7+A8+A13 -> 237158 | B18: 總 計 | C18: =C15+C7+C8+C13 -> 363865 | D18: =D15+D7+D8+D13 -> 372305

Sheet 固定資產建設改良擴充
A1: 積 欠 工 資 墊 償 基 金
A2: 固 定 資 產 建 設 改 良 擴 充 明 細 表
A3: 中 華 民 國 105 年 度
F4: 單位：新臺幣千元
A5: 項 目 | B5: 機 械 及 設 備 | C5: 交 通 及 運 輸 設 備 | D5: 什 項 設 備 | E5: 合 計 | F5: 說 明
A7: 一般建築及設備計畫 | B7: =B8 -> 92 | E7: =B7+D7 -> 92
A8: 機械及設備 | B8: =B9 -> 92 | E8: =B8 -> 92
A9: 汰換印表機 | B9: 92 | E9: =B9 -> 92
A14: 合 計 | B14: =B7 -> 92 | E14: =B14+D14 -> 92

Sheet 資產折舊
A1: 積 欠 工 資 墊 償 基 金
A2: 資 產 折 舊 明 細 表
A3: 中 華 民 國 107 年 度
D4: 單位：新臺幣千元
A5: 項 目 | B5: 不 動 產 、 廠 房 及 設 備 | E5: 合 計
B6: 機 械 及 設 備 | C6: 交 通 及 運 輸 設 備 | D6: 什 項 設 備
A8: 前年度決算資產原值 | B8: 462 | C8: 552 | D8: 46 | E8: =B8+C8+D8 -> 1060
A9: 上年度預計增減資產原值 | B9: 0 | C9: 0 | D9: 0 | E9: 0
A10: 本年度預計增減資產原值 | B10: 0 | C10: 0 | D10: 0 | E10: 0
A11: 資產重估增值額 | B11: 0 | C11: 0 | D11: 0 | E11: 0
A12: 本年度(12月底)止資產總額 | B12: =B8+B9+B10 -> 462 | C12: =C8+C9+C10 -> 552 | D12: =D8+D9+D10 -> 46 | E12: =E8+E9+E10 -> 1060
A13: 本年度應提折舊額 | B13: =B14 -> 63 | C13: =C14 -> 0 | D13: =D14 -> 4 | E13: =SUM(B13:D13) -> 67
A14: 業務費用 | B14: 63 | C14: 0 | D14: 4 | E14: =SUM(B14:D14) -> 67

Sheet 預計平衡表
A1: 積 欠 工 資 墊 償 基 金
A2: 預 計 平 衡 表
A3: 中 華 民 國 107 年 12 月 31 日
D4: 單位：新臺幣千元
A5: 105年12月31日 實際數 | B5: 科目 | C5: 107年12月31日 預計數 | D5: 106年12月31日 預計數 | E5: 比 較 增 減
A7: =A8+A27+A38+A21+A41-1 -> 12014739 | B7: 資產 | C7: =C8+C21+C27+C38+C41 -> 13093230 | D7: =D8+D21+D27+D38+D41 -> 12521000 | E7: =C7-D7 -> 572230
A8: =A9+A11+A16 -> 5978673 | B8: 流動資產 | C8: =C9+C11+C16 -> 5581570 | D8: =D9+D11+D16 -> 5346193 | E8: =C8-D8 -> 235377
A9: =A10 -> 2638066 | B9: 現金 | C9: =C10 -> 2118946 | D9: =D10 -> 2091831 | E9: =C9-D9 -> 27115
A10: 2638066 | B10: 銀行存款 | C10: 2118946 | D10: 2091831 | E10: =C10-D10 -> 27115
A11: =A12+A13+A15 -> 3088829 | B11: 流動金融資產 | C11: =C12+C13+C15 -> 3289061 | D11: =D12+D13+D15 -> 3096791 | E11: =C11-D11 -> 192270
A12: 1237592 | B12: 透過餘絀按公允價值衡量之金融資產-流動 | C12: 1879354 | D12: 1706564 | E12: =C12-D12 -> 172790
A13: 118737 | B13: 透過餘絀按公允價值衡量之金融資產評價 | C13: 118737 | D13: 118737 | E13: =C13-D13 -> 0
B14: 調整－流動
A15: 1732500 | B15: 其他金融資產－流動 | C15: 1290970 | D15: 1271490 | E15: =C15-D15 -> 19480
A16: =A18+A19+A20+A17 -> 251778 | B16: 應收款項 | C16: =C18+C19+C20+C17 -> 173563 | D16: =D18+D19+D20+D17 -> 157571 | E16: =C16-D16 -> 15992
A17: 0 | B17: 應收帳款 | C17: 0 | D17: 0 | E17: =C17-D17 -> 0
A18: 139926 | B18: 應收利息 | C18: 51589 | D18: 40975 | E18: =C18-D18 -> 10614
A19: 109240 | B19: 應收提繳費 | C19: 119412 | D19: 114014 | E19: =C19-D19 -> 5398
A20: 2612 | B20: 其他應收款 | C20: 2562 | D20: 2582 | E20: =C20-D20 -> -20
A21: =A22 -> 6004690 | B21: 投資 | C21: =C22 -> 7499699 | D21: =D22 -> 7163301 | E21: =C21-D21 -> 336398
A22: =A25+A23+A26 -> 6004690 | B22: 非流動金融資產 | C22: =C25+C23+C26 -> 7499699 | D22: =D25+D23+D26 -> 7163301 | E22: =C22-D22 -> 336398
A23: 500000 | B23: 透過餘絀按公允價值衡量之金融資產－非 | C23: 500000 | D23: 500000 | E23: =C23-D23 -> 0
B24: 流動
A25: 2300000 | B25: 無活絡市場之債務工具投資－非流動 | C25: 4611729 | D25: 4311361 | E25: =C25-D25 -> 300368
A26: 3204690 | B26: 其他金融資產-非流動 | C26: 2387970 | D26: 2351940 | E26: =C26-D26 -> 36030
A27: =A28+A31+A34 -> 205 | B27: 不動產、廠房及設備 | C27: =C28+C31+C34 -> 78 | D27: =D28+D31+D34 -> 145 | E27: =C27-D27 -> -67
A28: =A29-A30 -> 192 | B28: 機械及設備 | C28: =C29-C30 -> 74 | D28: =D29-D30 -> 137 | E28: =C28-D28 -> -63
A29: 462 | B29: 機械及設備 | C29: 462 | D29: 462 | E29: =C29-D29 -> 0
A30: 270 | B30: 累計折舊－機械及設備 | C30: 388 | D30: 325 | E30: =C30-D30 -> 63
A31: =A32-A33 -> 1 | B31: 交通及運輸設備 | C31: 0 | D31: =D32-D33 -> 0 | E31: =C31-D31 -> 0
A32: 552 | B32: 交通及運輸設備 | C32: 552 | D32: 552 | E32: =C32-D32 -> 0
A33: 551 | B33: 累計折舊－交通及運輸設備 | C33: 552 | D33: 552 | E33: =C33-D33 -> 0
A34: =A35-A36 -> 12 | B34: 什項設備 | C34: =C35-C36 -> 4 | D34: =D35-D36 -> 8 | E34: =C34-D34 -> -4
A35: 46 | B35: 什項設備 | C35: 46 | D35: 46 | E35: =C35-D35 -> 0
A36: 34 | B36: 累計折舊－什項設備 | C36: 42 | D36: 38 | E36: =C36-D36 -> 4
A38: =A39 -> 4362 | B38: 無形資產 | C38: =C39 -> 4742 | D38: =D39 -> 4585 | E38: =C38-D38 -> 157
A39: =A40 -> 4362 | B39: 無形資產 | C39: =C40 -> 4742 | D39: =D40 -> 4585 | E39: =C39-D39 -> 157
A40: 4362 | B40: 電腦軟體 | C40: 4742 | D40: 4585 | E40: =C40-D40 -> 157
A41: =A42-A47 -> 26810 | B41: 其他資產 | C41: =C42-C47 -> 7141 | D41: =D42-D47 -> 6776 | E41: =C41-D41 -> 365
A42: =SUM(A43:A46)+1 -> 496333 | B42: 催收款項 | C42: =SUM(C43:C46) -> 814052 | D42: =SUM(D43:D46) -> 789495 | E42: =C42-D42 -> 24557
...

Sheet 員工人數彙計表
A1: 積 欠 工 資 墊 償 基 金
A2: 員 工 人 數 彙 計 表
A3: 中 華 民 國 107 年 度
C4: 單位：人
A5: 職 類（稱） | B5: 本年度員額預計數 | C5: 說 明
A7: 正式職員 | B7: 20 | C7: 依台灣省政府75年府人一字第83884號函核定預算員額15人，嗣該府80年府人一字第140557號函核增預算員額3人。又經行政院104年7月3日院授人組字第10400392165號函核增預算員額4人，合計22人。
A8: 聘用(僱)職員 | B8: 1
A9: 正式工員 | B9: 1
A20: 總 計 | B20: =SUM(B7:B9) -> 22
A21: 註：勞務承攬人力主要係辦理委託事務處理，以及辦公場所清潔與保全等業務，預計7人。

Sheet 用人費用彙計表 
A1: 積 欠 工 資 墊 償 基 金
A2: 用 人 費 用 彙 計 表
A3: 中 華 民 國 107 年 度
C4: 單位：新臺幣千元
A5: 科 目 名 稱 | B5: 本年度預算數 | C5: 說 明
A7: 正式員額薪資 | B7: 16141 | C7: 係預算員額內，依據全國軍公教員工待遇支給要點規定編列16,141千元。
A8: 聘僱人員薪資 | B8: 460 | C8: 係聘用人員薪金460千元。
A9: 超時工作報酬 | B9: 760 | C9: 按業務實際需要編列延長工時及員工不休假加班費760千元。
A10: 獎金 | B10: 4592 | C10: 依據預算員額、軍公教人員年終工作獎金發給注意事項及公務人員考績法等規定編列年終獎金2,087千元及考績獎金2,505千元，合計編列4,592千元。
A11: 退休及卹償金 | B11: 1758 | C11: 依公務人員退休資遣撫卹法、公教人員保險法、勞動基準法及參照財政部所屬國營金融、保險事業人員退休撫卹及資遣辦法暨勞工退休金條例等規定，提儲退休及離職金，合計編列1,758千元。
A12: 福利費 | B12: 2251 | C12: 依全民健康保險法、公教人員保險法、勞工保險條例及就業保險法之規定編列分擔員工及眷屬保險費，另按40歲以上每人2年1次之健康檢查費3,500元標準，編列傷病醫藥費，並依行政院訂頒「行政院與所屬中央及地方各機關公務人員休假改進措施」規定編列員工休假補助費，以上合計編列2,251千元。
A13: 提繳費 | B13: 2 | C13: 依積欠工資墊償基金提繳及墊償管理辦法規定，按投保薪資總額2.50/000提繳工資墊償費用，編列2千元。
A15: 總 計 | B15: =SUM(B7:B14) -> 25964
A16: 註：勞務承攬人力主要係辦理委託事務處理以及辦公場所清潔與保全等業務，預計7人，編列 3,423千元。

Sheet 呆帳
A1: 積 欠 工 資 墊 償 基 金
A2: 呆 帳 分 析 表
A3: 中 華 民 國 107 年 度
C4: 單位：新臺幣千元
A5: 科 目 名 稱 | B5: 本年度預算數 | C5: 說 明
A8: 催收款項
A9: 1.計提備抵呆帳 | B9: =SUM(B10:B13) -> 806911 | C9: 提存呆帳金額係按催收提繳費、催收墊償工資、催收墊償退休金及催收墊償資遣費餘額依回收情況估算。
A10: 1.計提催收提繳費 | B10: 2233
A11: 1.計提催收墊償工資 | B11: 557682
A12: 1.計提催收墊償退休金 | B12: 25473
A13: 1.計提催收墊償資遣費 | B13: 221523
A14: 2.減：上年度備抵呆帳餘額 | B14: =SUM(B15:B18) -> 782719
A15: 2.減：催收提繳費 | B15: 2186
A16: 2.減：催收墊償工資 | B16: 500485
A17: 1.計提催收墊償退休金 | B17: 66999
A18: 1.計提催收墊償資遣費 | B18: 213049
A19: 3.加：本年度預計呆帳核銷數 | B19: =SUM(B20:B23) -> 299515
A20: 2.減：催收提繳費 | B20: 997
A21: 2.減：催收墊償工資 | B21: 101500
A22: 1.計提催收墊償退休金 | B22: 47135
A23: 1.計提催收墊償資遣費 | B23: 149883
A24: 4.本年度增提數 | B24: =SUM(B25:B28) -> 323707
A25: 4.本年催收提繳費 | B25: =B10-B15+B20 -> 1044
A26: 4.本年催收墊償工資 | B26: =B11-B16+B21 -> 158697
A27: 1.計提催收墊償退休金 | B27: =B12-B17+B22 -> 5609
A28: 1.計提催收墊償資遣費 | B28: =B13-B18+B23 -> 158357

Sheet 業務費用
A1: 積 欠 工 資 墊 償 基 金
A2: 業 務 費 用 分 析 表
A3: 中 華 民 國 107 年 度
D4: 單位：新臺幣千元
A5: 前年度決算數 | B5: 上年度預算數 | C5: 科 目 名 稱 | D5: 本年度預算數
A8: 22044 | B8: 25081 | C8: 用人費用 | D8: 25964
A9: 14134 | B9: 15688 | C9: 正式員額薪資 | D9: 16141
A10: 460 | B10: 460 | C10: 聘僱人員薪資 | D10: 460
A11: 388 | B11: 727 | C11: 超時工作報酬 | D11: 760
C12: 津貼
A13: 3896 | B13: 4456 | C13: 獎金 | D13: 4592
A14: 1340 | B14: 1613 | C14: 退休及卹償金 | D14: 1758
A15: 1826 | B15: 2136 | C15: 福利費 | D15: 2251
A16: 1 | B16: 1 | C16: 提繳費 | D16: 2
A17: 6433 | B17: 7436 | C17: 服務費用 | D17: 7036
A18: 141 | B18: 245 | C18: 水電費 | D18: 332
A19: 880 | B19: 1092 | C19: 郵電費 | D19: 1039
A20: 27 | B20: 61 | C20: 旅運費 | D20: 60
A21: 845 | B21: 973 | C21: 印刷裝訂與廣告費 | D21: 952
A22: 59 | B22: 149 | C22: 修理保養費 | D22: 130
A23: 3 | B23: 5 | C23: 保險費 | D23: 5
A24: 3542 | B24: 3587 | C24: 一般服務費 | D24: 3612
... A43: 58 | B43: 61 | C43: 分擔 | D43: 130
A44: 0 | B44: 2 | C44: 其他 | D44: =D45 -> 2
A45: 0 | B45: 2 | C45: 其他費用 | D45: 2
A46: 33925 | B46: 39450 | C46: 合 計 | D46: =D8+D17+D27+D30+D35+D38+D41+D44 -> 40158
A47: =A46-A8-A17-A30-A35-A44-A38-A41-A27 -> 1 | B47: =B46-B8-B17-B30-B35-B44-B38-B41-B27 -> 0 | D47: =D46-D8-D17-D30-D35-D44-D38-D41-D27 -> 0
A48: =A46-SUM(A9:A16)-SUM(A18:A26)-SUM(A28:A29)-SUM(A31:A34)-SUM(A36:A37)-SUM(A39:A40)-SUM(A42:A43)-A45 -> -1 | B48: =B46-SUM(B9:B16)-SUM(B18:B26)-SUM(B28:B29)-SUM(B31:B34)-SUM(B36:B37)-SUM(B39:B40)-SUM(B42:B43)-B45 -> 0 | D48: =D46-SUM(D9:D16)-SUM(D18:D26)-SUM(D28:D29)-SUM(D31:D34)-SUM(D36:D37)-SUM(D39:D40)-SUM(D42:D43)-D45 -> 0

Sheet 業務費用說明
A1: 積 欠 工 資 墊 償 基 金
A2: 業 務 費 用 說 明
A3: 中 華 民 國 107 年 度
A5: 用人費用
A6: 正式員額薪資
A7: 係預算員額內，依據全國軍公教員工待遇支給要點規定編列16,141千元。
A8: 聘僱人員薪資
A9: 係聘用人員薪金460千元。
A10: 超時工作報酬
A11: 按業務實際需要編列延長工時及員工不休假加班費760千元。
A12: 獎金
A13: 依據預算員額、軍公教人員年終工作獎金發給注意事項及公務人員考績法
... A87: 係購置消防器材、滅火器換藥維修等編列其他費用2千元。
