Workbook
Name \0: [1]稅捐!#REF!
Name \d: #REF!
Name _R: #REF!
Name a: #REF!
Name aa: #REF!
Name aaaa: #REF!
Name abcd: #REF!
Name Discount: #REF!
Name Discount1: #REF!
Name K: #REF!
Name kk: '[2](91)主機增租(NEC報價)'!$C$15
Name M: #REF!
Name Print_Area_MI: #REF!
Name Rate3: [3]Rate!$B$3
Name Rate4: [4]Rate!$B$3
Name S: #REF!
Name SALE_UNIT: #N/A
Name Sigma: #REF!
Name T: #REF!
Name 昌: #REF!
Name 非計劃資本支付: '[5](91)主機增租'!$C$15
Name 非計劃資本支出: '[2](91)主機增租(NEC報價)'!$C$15
Name 契約: [6]Rate!$B$3
Name 原住民: #REF!
Name 原住民1: #REF!
Name 預算一欄表: [6]Rate!$B$3
Name 圖: #REF!

Sheet 收支餘絀預計表
A1: 積 欠 工 資 墊 償 基 金
A2: 收 支 餘 絀 預 計 表
A3: 中 華 民 國 108年 度
J4: 單位：新臺幣千元
A5: 前年度決算數 | C5: 科 目 | D5: 本年度預算數 | F5: 上年度預算數 | H5: 比較增減(-) | J5: 說 明
A6: 金 額 | B6: % | D6: 金 額 | E6: % | F6: 金 額 | G6: % | H6: 金 額 | I6: %
A8: =1090696+178 -> 1090874 | B8: =ROUND((A8/$A$8)*100,2) -> 100 | C8: 總收入 | D8: =SUM(D9:D13) -> 984540 | E8: =ROUND((D8/$D$8)*100,2) -> 100 | F8: =SUM(F9:F13) -> 936068 | G8: =ROUND((F8/$F$8)*100,2) -> 100 | H8: =SUM(H9:H13) -> 48472 | I8: =ROUND((H8/F8)*100,2) -> 5.18
A9: 265738 | B9: =ROUND((A9/$A$8)*100,2) -> 24.36 | C9: 投資業務收入 | D9: 218541 | E9: =ROUND((D9/$D$8)*100,2) -> 22.2 | F9: 204530 | G9: =ROUND((F9/$F$8)*100,2) -> 21.85 | H9: =D9-F9 -> 14011 | I9: =ROUND((H9/F9)*100,2) -> 6.85 | J9: 詳第11頁投資業務收入明細表。
A10: 66776 | B10: =ROUND((A10/$A$8)*100,2) -> 6.12 | C10: 存款利息收入 | D10: 41559 | E10: =ROUND((D10/$D$8)*100,2) -> 4.22 | F10: 36238 | G10: =ROUND((F10/$F$8)*100,2) -> 3.87 | H10: =D10-F10 -> 5321 | I10: =ROUND((H10/F10)*100,2) -> 14.68 | J10: 詳第12頁存款利息收入明細表。
A11: =695008+179 -> 695187 | B11: =ROUND((A11/$A$8)*100,2) -> 63.73 | C11: 提繳費收入 | D11: 719440 | E11: =ROUND((D11/$D$8)*100,2) -> 73.07 | F11: 690300 | G11: =ROUND((F11/$F$8)*100,2) -> 73.74 | H11: =D11-F11 -> 29140 | I11: =ROUND((H11/F11)*100,2) -> 4.22 | J11: 詳第 13 頁提繳費收入明細表。
A12: 12 | B12: 0 | C12: 雜項業務收入 | D12: 0 | E12: =ROUND((D12/$D$8)*100,2) -> 0 | F12: 0 | G12: =ROUND((F12/$F$8)*100,2) -> 0 | H12: =D12-F12 -> 0 | I12: 0
A13: 62357 | B13: =ROUND((A13/$A$8)*100,2) -> 5.72 | C13: 收回呆帳 | D13: 5000 | E13: =ROUND((D13/$D$8)*100,2) -> 0.51 | F13: 5000 | G13: =ROUND((F13/$F$8)*100,2) -> 0.53 | H13: =D13-F13 -> 0 | I13: =ROUND((H13/F13)*100,2) -> 0 | J13: 已轉銷呆帳墊償案件經司法途徑收回之收入。
A14: 804 | B14: =ROUND((A14/$A$8)*100,2) -> 0.07 | C14: 雜項收入 | D14: 0 | E14: =ROUND((D14/$D$8)*100,2) -> 0 | F14: 0 | G14: =ROUND((F14/$F$8)*100,2) -> 0 | H14: =D14-F14 -> 0 | I14: 0
A16: =SUM(A17:A20) -> 333487 | B16: =ROUND((A16/$A$8)*100,2) -> 30.57 | C16: 總支出 | D16: =SUM(D17:D20) -> 363551 | E16: =ROUND((D16/$D$8)*100,2) -> 36.93 | F16: =SUM(F17:F20) -> 363865 | G16: =ROUND((F16/$F$8)*100,2) -> 38.87 | H16: =SUM(H17:H20) -> -314 | I16: =ROUND((H16/F16)*100,2) -> -0.09 | J16: 詳第14頁支出明細表。
A17: 60552 | B17: =ROUND((A17/$A$8)*100,2) -> 5.55 | C17: 投資業務成本 | D17: 30 | E17: 0 | F17: 0 | G17: 0 | H17: =D17-F17 -> 30 | I17: -
A18: 235779 | B18: =ROUND((A18/$A$8)*100,2) -> 21.61 | C18: 呆帳 | D18: 323218 | E18: =ROUND((D18/$D$8)*100,2) -> 32.83 | F18: 323707 | G18: =ROUND((F18/$F$8)*100,2) -> 34.58 | H18: =D18-F18 -> -489 | I18: =ROUND((H18/F18)*100,2) -> -0.15
A19: 0 | B19: =ROUND((A19/$A$8)*100,2) -> 0 | C19: 雜項業務成本 | D19: 0 | E19: 0 | F19: 0 | G19: 0 | H19: 0 | I19: 0
A20: 37156 | B20: =ROUND((A20/$A$8)*100,2) -> 3.41 | C20: 業務費用 | D20: 40303 | E20: =ROUND((D20/$D$8)*100,2) -> 4.09 | F20: 40158 | G20: =ROUND((F20/$F$8)*100,2) -> 4.29 | H20: =D20-F20 -> 145 | I20: =ROUND((H20/F20)*100,2) -> 0.36
A22: =757208+179 -> 757387 | B22: =B8-B16 -> 69.43 | C22: 本期賸餘(短絀) | D22: =D8-D16 -> 620989 | E22: =E8-E16 -> 63.07 | F22: =F8-F16 -> 572203 | G22: =ROUND((F22/$F$8)*100,2) -> 61.13 | H22: =H8-H16 -> 48786 | I22: =ROUND((H22/F22)*100,2) -> 8.53
A24: 註：1.上年度預算數及前年度決算數係依會計制度科目重分類之數。
A25: 2.百分比及前年度決算數細數之和與總數或略有出入，係四捨五入關係。以下各表同。

Sheet 餘絀撥補預計表
A1: 積 欠 工 資 墊 償 基 金
A2: 餘 絀 撥 補 預 計 表
A3: 中 華 民 國 108年 度
F4: 單位：新臺幣千元
A5: 上 年 度 預 算 數 | C5: 項 目 | D5: 本 年 度 預 算 數 | F5: 說 明
A6: 金 額 | B6: % | D6: 金 額 | E6: %
A8: =SUM(A9:A10) -> 13089199 | B8: =(A8/$A$8)*100 -> 100 | C8: 賸餘之部 | D8: =SUM(D9:D10) -> 13961357 | E8: =(D8/$D$8)*100 -> 100
A9: 572203 | B9: =(A9/$A$8)*100 -> 4.3715662 | C9: 本期賸餘 | D9: =收支餘絀預計表!D22 -> 620989 | E9: =ROUND((D9/$D$8)*100,2) -> 4.45
A10: 12516996 | B10: =(A10/$A$8)*100 -> 95.628434 | C10: 前期未分配賸餘 | D10: =13340189+179 -> 13340368 | E10: =ROUND((D10/$D$8)*100,2) -> 95.55 | F10: 前期未分配賸餘包括： 1.截至106年底未分配賸 餘12,768,165千元。 2.107年度本期賸餘 572,203千元。
A11: 0 | B11: 0 | C11: 會計政策變動及前期錯 誤更正累積影響數 | D11: 0 | E11: 0
A12: 0 | B12: 0 | C12: 分配之部 | D12: 0 | E12: 0
A13: =A8 -> 13089199 | B13: =(A13/$A$8)*100 -> 100 | C13: 未分配賸餘 | D13: =D8 -> 13961357 | E13: =(D13/$D$8)*100 -> 100 | F13: 留存本基金。

Sheet 現金流量預計表
A1: 積 欠 工 資 墊 償 基 金
A2: 現 金 流 量 預 計 表
A3: 中 華 民 國 108年 度
D4: 單位：新臺幣千元
A5: 項 目 | B5: 預算數 | C5: 說 明
A7: 業務活動之現金流量
A8: 本期賸餘(短絀) | B8: =收支餘絀預計表!D22 -> 620989 | C8: 詳第7頁收支餘絀預計表。
A9: 利息股利之調整 | B9: =-存款利息收入明細表!E23-投資業務收入明細表!E7 -> -150265 | C9: 利息收入。
A10: 未計利息股利之本期賸餘(短絀) | B10: =B8+B9 -> 470724
A11: 調整非現金項目 | B11: -200226 | C11: 1.提存呆帳 | D11: 323,218千元 | F11: 323218
C12: 2.折舊 | D12: 49千元 | F12: 49
C13: 3.攤銷 | D13: 1,711千元 | F13: 1711
C14: 4.其他淨增（係增加催收墊償工資159,227千元、催收墊償退休金7,563千元及催收墊償資遣費159,664千元）。 | D14: -326,454千元 | F14: -326454
C15: 5.流動資產淨增 | D15: -198,767千元 | F15: -198767
C16: 6.流動負債淨增 | D16: 17千元 | F16: 17
A17: 未計利息股利之現金流入(流出) | B17: =SUM(B10:B11) -> 270498
A18: 收取利息 | B18: 0
A19: 收取股利 | B19: 0
A20: 支付利息 | B20: 0
A21: 業務活動之淨現金流入(流出) | B21: =SUM(B12:B20) -> 270498
A22: 投資活動之現金流量
A23: 收取利息 | B23: =-B9-預計平衡表!E18 -> 151410 | C23: 利息收現。
A24: 增加流動金融資產及短期貸墊款 | B24: =-預計平衡表!E15 -> -67090 | C24: 係增加其他金融資產（含3個月以上1年以下定期存款）。
A25: 增加投資 | B25: =-預計平衡表!E22 -> -330463 | C25: 係增加無活絡市場之債務工具投資及其他金融資產(含1年以上定期存款)。
A26: 增加不動產、廠房及設備 | B26: -241 | C26: 係增加不動產、廠房及設備。
A27: 增加無形資產及其他資產 | B27: -1811 | C27: 係增加無形資產。
A28: 投資活動之淨現金流入(流出) | B28: =SUM(B23:B27) -> -248195
A29: 現金及約當現金之淨增（淨減） | B29: =B21+B28 -> 22303
A30: 期初現金及約當現金 | B30: =預計平衡表!D10 -> 1368749
A31: 期末現金及約當現金 | B31: =B29+B30 -> 1391052
B35: =B29+B30-B31 -> 0
B36: =B31-預計平衡表!C10 -> 0

Sheet 投資業務收入明細表
A1: 積 欠 工 資 墊 償 基 金
A2: 投 資 業 務 收 入 明 細 表
A3: 中 華 民 國 108年 度
F4: 單位：新臺幣千元
A5: 項 目 | B5: 營 運 量 （平均餘額） | C5: 報 酬 率 | D5: 期 限 | E5: 金 額 | F5: 說 明
A7: 有價證券 | B7: 5277000 | C7: 0.0206 | D7: 1年 | E7: 108706 | F7: 本項目全數由勞動部勞動基金運用局辦理，係投資公債、庫券、公司債及金融債券等利息收入。
A9: 股票及受益憑證 | B9: 1979000 | C9: 0.0555 | D9: 1年 | E9: 109835 | F9: 本項目全數由勞動部勞動基金運用局辦理，係投資股票及受益憑證之投資利益。
A19: 合 計 | B19: =B9+B7 -> 7256000 | E19: =E9+E7 -> 218541

Sheet 存款利息收入明細表
A1: 積 欠 工 資 墊 償 基 金
A2: 存 款 利 息 收 入 明 細 表
A3: 中 華 民 國 108年 度
F4: 單位：新臺幣千元
A5: 項 目 | B5: 營 運 量 （平均餘額） | C5: 利 率 | D5: 期 限 | E5: 金 額 | F5: 說 明
A7: 買入定期存單 | B7: 5937000 | C7: 0.007 | D7: 1年 | E7: =ROUND(B7*C7,0) -> 41559 | F7: 本項目全數由勞動部勞動基金運用局辦理，係定期存款。
A23: 合 計 | B23: =B7 -> 5937000 | E23: =E7 -> 41559

Sheet 提繳費收入
A1: 積 欠 工 資 墊 償 基 金
A2: 提 繳 費 收 入 明 細 表
A3: 中 華 民 國 108年 度
A5: 適 用 業 別 | B5: 適用勞基法有一定雇主之提繳單位 | C5: 適用勞基法有一定雇主之提繳人數 | D5: 平均月 提繳 工資 | E5: 每月提繳 工資總額 (新臺幣元) | F5: 提 繳 率 2.5 0/000 | G5: 每月應 提繳額 (新臺幣元) | H5: 全年應 提繳額 (新臺幣千元)
A7: 一、農林漁牧業 | B7: 2745 | C7: 17650 | D7: 27930 | E7: =C7*D7 -> 492964500 | F7: 2.5 0/000 | G7: =ROUND(E7*0.025%,0) -> 123241 | H7: =ROUND(G7*12/1000,0) -> 1479
A8: 二、礦業及土石採取業 | B8: 350 | C8: 3230 | D8: 34630 | E8: =C8*D8 -> 111854900 | F8: 2.5 0/000 | G8: =ROUND(E8*0.025%,0) -> 27964 | H8: =ROUND(G8*12/1000,0) -> 336
A9: 三、製造業 | B9: 93940 | C9: 2520220 | D9: 34400 | E9: =C9*D9 -> 86695568000 | F9: 2.5 0/000 | G9: =ROUND(E9*0.025%,0) -> 21673892 | H9: =ROUND(G9*12/1000,0) -> 260087
A10: 四、電力及燃氣供應業 | B10: 330 | C10: 21095 | D10: 43800 | E10: =C10*D10 -> 923961000 | F10: 2.5 0/000 | G10: =ROUND(E10*0.025%,0) -> 230990 | H10: =ROUND(G10*12/1000,0) -> 2772
A11: 五、用水供應及污染整治業 | B11: 3440 | C11: 35330 | D11: 31350 | E11: =C11*D11 -> 1107595500 | F11: 2.5 0/000 | G11: =ROUND(E11*0.025%,0) -> 276899 | H11: =ROUND(G11*12/1000,0) -> 3323
A12: 六、營建工程業 | B12: 42990 | C12: 294715 | D12: 31920 | E12: =C12*D12 -> 9407302800 | F12: 2.5 0/000 | G12: =ROUND(E12*0.025%,0) -> 2351826 | H12: =ROUND(G12*12/1000,0) -> 28222
A13: 七、批發及零售業 | B13: 182470 | C13: 1566370 | D13: 31700 | E13: =C13*D13 -> 49653929000 | F13: 2.5 0/000 | G13: =ROUND(E13*0.025%,0) -> 12413482 | H13: =ROUND(G13*12/1000,0) -> 148962
A14: 八、運輸及倉儲業 | B14: 9485 | C14: 232030 | D14: 37840 | E14: =C14*D14 -> 8780015200 | F14: 2.5 0/000 | G14: =ROUND(E14*0.025%,0) -> 2195004 | H14: =ROUND(G14*12/1000,0) -> 26340
A15: 九、住宿及餐飲業 | B15: 25170 | C15: 345525 | D15: 25250 | E15: =C15*D15 -> 8724506250 | F15: 2.5 0/000 | G15: =ROUND(E15*0.025%,0) -> 2181127 | H15: =ROUND(G15*12/1000,0) -> 26174
A16: 十、出版、影音製作、傳播及資通 訊服務業 | B16: 10790 | C16: 230775 | D16: 38800 | E16: =C16*D16 -> 8954070000 | F16: 2.5 0/000 | G16: =ROUND(E16*0.025%,0) -> 2238518 | H16: =ROUND(G16*12/1000,0) -> 26862
A17: 十一、金融及保險業 | B17: 7275 | C17: 336865 | D17: 41050 | E17: =C17*D17 -> 13828308250 | F17: 2.5 0/000 | G17: =ROUND(E17*0.025%,0) -> 3457077 | H17: =ROUND(G17*12/1000,0) -> 41485
A18: 十二、不動產業 | B18: 13360 | C18: 97850 | D18: 33070 | E18: =C18*D18 -> 3235899500 | F18: 2.5 0/000 | G18: =ROUND(E18*0.025%,0) -> 808975 | H18: =ROUND(G18*12/1000,0) -> 9708
... A25: 十九、其他服務業 | B25: 20750 | C25: 145585 | D25: 32000 | E25: =C25*D25 -> 4658720000 | F25: 2.5 0/000 | G25: =ROUND(E25*0.025%,0) -> 1164680 | H25: =ROUND(G25*12/1000,0) -> 13976
A26: 合 計 | B26: =SUM(B7:B25) -> 508700 | C26: =SUM(C7:C25) -> 7180000 | D26: =SUM(E7:E25)/SUM(C7:C25) -> 33400.094 | E26: =SUM(E6:E25) -> 239812674200 | F26: 2.5 0/000 | G26: =SUM(G6:G25) -> 59953170 | H26: =SUM(H7:H25) -> 719440

Sheet 支出明細表
A1: 積 欠 工 資 墊 償 基 金
A2: 支 出 明 細 表
A3: 中 華 民 國 108年 度
E4: 單位：新臺幣千元
A5: 前年度決算數 | B5: 科 目 名 稱 | C5: 本年度預算數 | D5: 上年度預算數 | E5: 說 明
A7: =收支餘絀預計表!A17 -> 60552 | B7: 投資業務成本 | C7: 30 | D7: 0 | E7: 本項目全數由勞動部勞動基金運用局辦理，係定存利息匯款手續費。
A8: =SUM(A9:A12)-1 -> 235779 | B8: 呆帳 | C8: =SUM(C9:C12) -> 323218 | D8: =SUM(D9:D12) -> 323707 | E8: 詳第23頁呆帳分析表。
A9: 0 | B9: 催收提繳費 | C9: 816 | D9: 1044
A10: 86309 | B10: 催收墊償工資 | C10: 156792 | D10: 158697
A11: 13277 | B11: 催收墊償退休金 | C11: 7736 | D11: 5609
A12: 136194 | B12: 催收墊償資遣費 | C12: 157874 | D12: 158357
A13: 37156 | B13: 業務費用 | C13: 40303 | D13: 40158 | E13: 行政經費由基金孳息支應，詳第24頁業務費用分析表。
A18: =A15+A7+A8+A13 -> 333487 | B18: 合 計 | C18: =C15+C7+C8+C13 -> 363551 | D18: =D15+D7+D8+D13 -> 363865

Sheet 固定資產建設改良擴充
A1: 積 欠 工 資 墊 償 基 金
A2: 固 定 資 產 建 設 改 良 擴 充 明 細 表
A3: 中 華 民 國 108年 度
F4: 單位：新臺幣千元
A5: 項 目 | B5: 不 動 產 、 廠 房 及 設 備 | E5: 合 計 | F5: 說 明
B6: 機 械 及 設 備 | C6: 交 通 及 運 輸 設 備 | D6: 什 項 設 備
A8: 一般建築及設備計畫 | B8: =B9+B10 -> 156 | C8: =C9+C10 -> 0 | D8: =D9+D10 -> 85 | E8: =B8+D8 -> 241
A9: 機械及設備 | B9: 156 | D9: 0 | E9: =B9 -> 156 | F9: 係汰換個人電腦6台。
A10: 什項設備 | B10: 0 | D10: 85 | E10: =D10 -> 85 | F10: 係汰換冷氣機1台。
A15: 合 計 | B15: =B8 -> 156 | C15: =C8 -> 0 | D15: =D8 -> 85 | E15: =E8 -> 241

Sheet 資產折舊
A1: 積 欠 工 資 墊 償 基 金
A2: 資 產 折 舊 明 細 表
A3: 中 華 民 國 108年 度
D4: 單位：新臺幣千元
A5: 項 目 | B5: 不 動 產 、 廠 房 及 設 備 | E5: 合 計
B6: 機 械 及 設 備 | C6: 交 通 及 運 輸 設 備 | D6: 什 項 設 備
A8: 前年度決算資產原值 | B8: 424 | C8: 540 | D8: 32 | E8: =B8+C8+D8 -> 996
A9: 上年度預計增減資產原值 | B9: 0 | C9: 0 | D9: 0 | E9: 0
A10: 本年度預計增減資產原值 | B10: 25 | C10: 0 | D10: 85 | E10: =B10+C10+D10 -> 110
A11: 資產重估增值額 | B11: 0 | C11: 0 | D11: 0 | E11: 0
A12: 本年度(12月底)止資產總額 | B12: =B8+B9+B10 -> 449 | C12: =C8+C9+C10 -> 540 | D12: =D8+D9+D10 -> 117 | E12: =E8+E9+E10 -> 1106
A13: 本年度應提折舊額 | B13: =B14 -> 42 | C13: =C14 -> 0 | D13: =D14 -> 7 | E13: =SUM(B13:D13) -> 49
A14: 業務費用 | B14: 42 | C14: 0 | D14: 7 | E14: =SUM(B14:D14) -> 49

Sheet 資產報廢(秘)
A1: 積 欠 工 資 墊 償 基 金
A2: 資 產 報 廢 明 細 表
A3: 中華民國 108年度
A4: 單位：新臺幣千元
A5: 項 目 | B5: 帳面價值 | E5: 殘餘價值 | F5: 未實現重估增值減少數 | G5: 報廢損失
B6: 成本或 重估價值 | C6: 已提 折舊額 | D6: 淨額
A8: 不動產、廠房及設備 | B8: =B9+B13 -> 131 | C8: =B8 -> 131 | D8: 0
A9: 勞動部勞工保險局 | B9: =B10+B11+B12 -> 0 | C9: =B9 -> 0
A10: 機械及設備 | C10: =B10 -> 0
A11: 交通及運輸設備 | C11: =B11 -> 0
A12: 什項設備 | C12: =B12 -> 0
B13: =B14+B15+B16 -> 131 | C13: =B13 -> 131
A14: 機械及設備 | B14: 131 | C14: =B14 -> 131 | D14: 0
A15: 交通及運輸設備 | B15: 0 | C15: =B15 -> 0
A16: 什項設備 | B16: 0 | C16: =B16 -> 0

Sheet 無形資產
A1: 積 欠 工 資 墊 償 基 金
A2: 無 形 資 產 明 細 表
A3: 中 華 民 國 108年 度
E4: 單位：新臺幣千元
A5: 前年度決算數 | B5: 上年度預算數 | C5: 科目及業務項目 | D5: 本年度預算數 | E5: 說 明
A7: =SUM(A8:A9) -> 1362 | B7: =B8+B9 -> 1746 | C7: 電腦軟體 | D7: =D8+D9 -> 1811
A8: 1341 | B8: 1624 | C8: 委外開發設計應用軟體 | D8: 1545 | E8: 業務諮詢系統開發暨電話服務整合提升案之系統開發費及辦理工資墊償、財務管理、會計等系統及勞保局全球資訊網增修作業共1,545千元。
A9: 21 | B9: 122 | C9: 購置電腦軟體費 | D9: 266 | E9: 業務諮詢系統開發暨電話服務整合提升案之購置電腦軟體費及賡續購置1萬元以上辦公室自動化軟體共266千元。
A18: =SUM(A8:A17) -> 1362 | B18: =SUM(B8:B17) -> 1746 | C18: 合 計 | D18: =SUM(D8:D17) -> 1811

Sheet 預計平衡表
A1: 積 欠 工 資 墊 償 基 金
A2: 預 計 平 衡 表
A3: 中 華 民 國 108年 度
D4: 單位：新臺幣千元
A5: 106年12月31日 實際數 | B5: 科目 | C5: 108年12月31日 預計數 | D5: 107年12月31日 預計數 | E5: 比 較 增 減
A7: =12772173+179 -> 12772352 | B7: 資產 | C7: =C8+C21+C29+C39+C42 -> 13965575 | D7: =D8+D21+D29+D39+D42 -> 13344569 | E7: =C7-D7 -> 621006
A8: =6235401+179 -> 6235580 | B8: 流動資產 | C8: =C9+C11+C16 -> 6556475 | D8: =D9+D11+D16 -> 6270143 | E8: =C8-D8 -> 286332
A9: =A10 -> 1437213 | B9: 現金 | C9: =C10 -> 1391052 | D9: =D10 -> 1368749 | E9: =C9-D9 -> 22303
A10: 1437213 | B10: 銀行存款 | C10: 1391052 | D10: 1368749 | E10: =C10-D10 -> 22303
A11: =A12+A13+A15 -> 4527478 | B11: 流動金融資產 | C11: =C12+C13+C15 -> 4977255 | D11: =D12+D13+D15 -> 4718570 | E11: =C11-D11 -> 258685
A12: 1091221 | B12: 透過餘絀按公允價值衡量之金融資產-流動 | C12: 1968128 | D12: 1776533 | E12: =C12-D12 -> 191595
A13: 161587 | B13: 透過餘絀按公允價值衡量之金融資產評價 | C13: 161587 | D13: 161587 | E13: =C13-D13 -> 0
B14: 調整－流動
A15: 3274670 | B15: 其他金融資產－流動 | C15: 2847540 | D15: 2780450 | E15: =C15-D15 -> 67090
A16: =A18+A19+A20+A17 -> 270888 | B16: 應收款項 | C16: =C18+C19+C20+C17 -> 188168 | D16: =D18+D19+D20+D17 -> 182824 | E16: =C16-D16 -> 5344
A17: 0 | B17: 應收帳款 | C17: 0 | D17: 0 | E17: =C17-D17 -> 0
A18: 153612 | B18: 應收利息 | C18: 57816 | D18: 58961 | E18: =C18-D18 -> -1145
A19: =114252+178 -> 114430 | B19: 應收提繳費 | C19: =127297+179 -> 127476 | D19: =120828+179 -> 121007 | E19: =C19-D19 -> 6469
A20: 2846 | B20: 其他應收款 | C20: 2876 | D20: 2856 | E20: =C20-D20 -> 20
A21: =A22 -> 6493941 | B21: 投資 | C21: =C22 -> 7361915 | D21: =D22 -> 7031452 | E21: =C21-D21 -> 330463
A22: =A27+A23+A28+A25 -> 6493941 | B22: 非流動金融資產 | C22: =C27+C23+C28+C25 -> 7361915 | D22: =D27+D23+D28+D25 -> 7031452 | E22: =C22-D22 -> 330463
A23: 700000 | B23: 透過餘絀按公允價值衡量之金融資產－非 | C23: 700000 | D23: 700000 | E23: =C23-D23 -> 0
B24: 流動
A25: 9450 | B25: 透過餘絀按公允價值衡量之金融資產評價 | C25: 9450 | D25: 9450 | E25: =C25-D25 -> 0
B26: 調整－非流動
A27: 3550000 | B27: 無活絡市場之債務工具投資－非流動 | C27: 4709425 | D27: 4424752 | E27: =C27-D27 -> 284673
A28: 2234491 | B28: 其他金融資產-非流動 | C28: 1943040 | D28: 1897250 | E28: =C28-D28 -> 45790
A29: =A30+A33+A36 -> 127 | B29: 不動產、廠房及設備 | C29: =C30+C33+C36 -> 252 | D29: =D30+D33+D36 -> 60 | E29: =C29-D29 -> 192
A30: =A31-A32 -> 119 | B30: 機械及設備 | C30: =C31-C32 -> 170 | D30: =D31-D32 -> 56 | E30: =C30-D30 -> 114
A31: 424 | B31: 機械及設備 | C31: 449 | D31: 424 | E31: =C31-D31 -> 25
A32: 305 | B32: 累計折舊－機械及設備 | C32: 279 | D32: 368 | E32: =C32-D32 -> -89
A33: 0 | B33: 交通及運輸設備 | C33: 0 | D33: =D34-D35 -> 0 | E33: =C33-D33 -> 0
A34: 540 | B34: 交通及運輸設備 | C34: 540 | D34: 540 | E34: =C34-D34 -> 0
A35: 540 | B35: 累計折舊－交通及運輸設備 | C35: 540 | D35: 540 | E35: =C35-D35 -> 0
A36: =A37-A38 -> 8 | B36: 什項設備 | C36: =C37-C38 -> 82 | D36: =D37-D38 -> 4 | E36: =C36-D36 -> 78
A37: 32 | B37: 什項設備 | C37: 117 | D37: 32 | E37: =C37-D37 -> 85
A38: 24 | B38: 累計折舊－什項設備 | C38: 35 | D38: 28 | E38: =C38-D38 -> 7
A39: =A40 -> 4280 | B39: 無形資產 | C39: =C40 -> 4537 | D39: =D40 -> 4437 | E39: =C39-D39 -> 100
A40: =A41 -> 4280 | B40: 無形資產 | C40: =C41 -> 4537 | D40: =D41 -> 4437 | E40: =C40-D40 -> 100
A41: 4280 | B41: 電腦軟體 | C41: 4537 | D41: 4437 | E41: =C41-D41 -> 100
...

Sheet 員工人數彙計表
A1: 積 欠 工 資 墊 償 基 金
A2: 員 工 人 數 彙 計 表
A3: 中 華 民 國 108年 度
C4: 單位：人
A5: 職 類（稱） | B5: 本年度員額預計數 | C5: 說 明
A7: 正式職員 | B7: 20 | C7: 依台灣省政府75年府人一字第83884號函核定預算員額15人，嗣該府80年府人一字第140557號函核增預算員額3人。又經行政院104年7月3日院授人組字第10400392165號函核增預算員額4人，合計22人。
A8: 聘用(僱)職員 | B8: 1
A9: 正式工員 | B9: 1
A20: 合 計 | B20: =SUM(B7:B9) -> 22
A21: 註：勞務承攬人力主要係辦理委託事務處理，以及辦公場所清潔與保全等業務，預計7人。

Sheet 用人費用彙計表 
A1: 積 欠 工 資 墊 償 基 金
A2: 用 人 費 用 彙 計 表
A3: 中 華 民 國 108年 度
C4: 單位：新臺幣千元
A5: 科 目 名 稱 | B5: 本年度預算數 | C5: 說 明
A7: 正式員額薪資 | B7: 16299 | C7: 係預算員額內，依據全國軍公教員工待遇支給要點規定編列16,299千元。
A8: 聘僱人員薪資 | B8: 474 | C8: 係聘用人員薪金474千元。
A9: 超時工作報酬 | B9: 787 | C9: 按業務實際需要編列超時加班費155千元及員工不休假加班費632千元，合計編列787千元。
A10: 獎金 | B10: 4337 | C10: 依據預算員額、軍公教人員年終工作獎金發給注意事項及公務人員考績法等規定編列年終獎金2,059千元及考績獎金2,278千元，合計編列4,337千元。
A11: 退休及卹償金 | B11: 1657 | C11: 依公務人員退休資遣撫卹法、公教人員保險法、勞動基準法及參照財政部所屬國營金融、保險事業人員退休撫卹及資遣辦法暨勞工退休金條例等規定，提儲退休及離職金，合計編列1,657千元。
A12: 福利費 | B12: 2267 | C12: 編列 2,267千元，包括: 1.依全民健康保險法、公教人員保險法、 勞工保險條例及就業保險法之規定編列 分擔員工及眷屬保險費1,811千元。 2.40歲以上每人2年1次之健康檢查費3,500 元標準，編列傷病醫藥費28千元。 3.依行政院訂頒「行政院與所屬中央及地 方各機關公務人員休假改進措施」規定 編列員工休假補助費428千元。
A13: 提繳費 | B13: 2 | C13: 依積欠工資墊償基金提繳及墊償管理辦法規定，按投保薪資總額2.50/000提繳工資墊償費用，編列2千元。
A15: 合 計 | B15: =SUM(B7:B14) -> 25823
A16: 註：勞務承攬人力主要係辦理委託事務處理以及辦公場所清潔與保全等業務，預計7人，編列 一般服務費3,528千元。

Sheet 呆帳
A1: 積 欠 工 資 墊 償 基 金
A2: 呆 帳 分 析 表
A3: 中 華 民 國 108年 度
C4: 單位：新臺幣千元
A5: 科 目 名 稱 | B5: 本年度預算數 | C5: 說 明
A8: 催收款項
A9: 1.計提備抵呆帳 | B9: =SUM(B10:B13) -> 1026026 | C9: 提存呆帳金額係按催收提繳費、催收墊償工資、催收墊償退休金及催收墊償資遣費餘額依回收情況估算。
A10: 1.計提催收提繳費 | B10: 2178
A11: 1.計提催收墊償工資 | B11: 611125
A12: 1.計提催收墊償退休金 | B12: 10518
A13: 1.計提催收墊償資遣費 | B13: 402205
A14: 2.減：上年度備抵呆帳餘額 | B14: =SUM(B15:B18) -> 895405
A15: 2.減：催收提繳費 | B15: 2268
A16: 2.減：催收墊償工資 | B16: 529333
A17: 1.計提催收墊償退休金 | B17: 14060
A18: 1.計提催收墊償資遣費 | B18: 349744
A19: 3.加：本年度預計呆帳核銷數 | B19: =SUM(B20:B23) -> 192597
A20: 2.減：催收提繳費 | B20: 906
A21: 2.減：催收墊償工資 | B21: 75000
A22: 1.計提催收墊償退休金 | B22: 11278
A23: 1.計提催收墊償資遣費 | B23: 105413
A24: 4.本年度增提數 | B24: =SUM(B25:B28) -> 323218
A25: 4.本年催收提繳費 | B25: =B10-B15+B20 -> 816
A26: 4.本年催收墊償工資 | B26: =B11-B16+B21 -> 156792
A27: 1.計提催收墊償退休金 | B27: =B12-B17+B22 -> 7736
A28: 1.計提催收墊償資遣費 | B28: =B13-B18+B23 -> 157874

Sheet 業務費用
A1: 積 欠 工 資 墊 償 基 金
A2: 業 務 費 用 分 析 表
A3: 中 華 民 國 108年 度
D4: 單位：新臺幣千元
A5: 前年度決算數 | B5: 上年度預算數 | C5: 科 目 名 稱 | D5: 本年度預算數
A8: 24006 | B8: =SUM(B9:B16) -> 25964 | C8: 用人費用 | D8: =SUM(D9:D16) -> 25823
A9: 15329 | B9: 16141 | C9: 正式員額薪資 | D9: 16299
A10: 460 | B10: 460 | C10: 聘僱人員薪資 | D10: 474
A11: 595 | B11: 760 | C11: 超時工作報酬 | D11: 787
C12: 津貼
A13: 4253 | B13: 4592 | C13: 獎金 | D13: 4337
A14: 1426 | B14: 1758 | C14: 退休及卹償金 | D14: 1657
A15: 1943 | B15: 2251 | C15: 福利費 | D15: 2267
A16: 1 | B16: 2 | C16: 提繳費 | D16: 2
A17: 6403 | B17: =SUM(B18:B26) -> 7036 | C17: 服務費用 | D17: =SUM(D18:D26) -> 7281
A18: 263 | B18: 332 | C18: 水電費 | D18: 322
A19: 1013 | B19: 1039 | C19: 郵電費 | D19: 1288
A20: 35 | B20: 60 | C20: 旅運費 | D20: 55
A21: 850 | B21: 952 | C21: 印刷裝訂與廣告費 | D21: 938
A22: 65 | B22: 130 | C22: 修理保養費 | D22: 56
A23: 3 | B23: 5 | C23: 保險費 | D23: 5
A24: 3544 | B24: 3612 | C24: 一般服務費 | D24: 3730
A25: 611 | B25: 886 | C25: 專業服務費 | D25: 867
A26: 17 | B26: 20 | C26: 公共關係費 | D26: 20
A27: 320 | B27: =SUM(B28:B29) -> 294 | C27: 材料及用品費 | D27: =SUM(D28:D29) -> 280
A28: 27 | B28: 27 | C28: 使用材料費 | D28: 27
A29: 293 | B29: 267 | C29: 用品消耗 | D29: 253
A30: 4282 | B30: =SUM(B31:B34) -> 4553 | C30: 租金 | D30: =SUM(D31:D34) -> 4492
A31: 2446 | B31: 2477 | C31: 房租 | D31: 2470
A32: 1778 | B32: 2001 | C32: 機器租金 | D32: 1972
A33: 34 | B33: 36 | C33: 交通及運輸設備租金 | D33: 26
A34: 25 | B34: 39 | C34: 什項設備租金 | D34: 24
A35: =SUM(A36:A37) -> 1522 | B35: 1656 | C35: 折舊及攤銷 | D35: =SUM(D36:D37) -> 1760
A36: 78 | B36: 67 | C36: 不動產、廠房及設備折舊 | D36: 49
A37: 1444 | B37: 1589 | C37: 攤銷 | D37: 1711
A38: =SUM(A39:A40) -> 501 | B38: =SUM(B39:B40) -> 519 | C38: 稅捐與規費（強制費） | D38: =SUM(D39:D40) -> 524
A39: 11 | B39: 12 | C39: 消費與行為稅 | D39: 12
A40: 490 | B40: 507 | C40: 規費 | D40: 512
A41: =SUM(A42:A43) -> 120 | B41: 134 | C41: 會費、捐助與分攤 | D41: =SUM(D42:D43) -> 141
A42: 4 | B42: 4 | C42: 捐助 | D42: 4
...

Sheet 業務費用說明
A1: 積 欠 工 資 墊 償 基 金
A2: 業 務 費 用 說 明
A3: 中 華 民 國 108年 度
A5: 用人費用
A6: 正式員額薪資
A7: 係預算員額內，依據全國軍公教員工待遇支給要點規定編列16,299千元。
A8: 聘僱人員薪資
A9: 係聘用人員薪金474千元。
A10: 超時工作報酬
A11: 按業務實際需要編列超時加班費155千元及員工不休假加班費632千元，合計 編列787千元。
A12: 獎金
A13: 依據預算員額、軍公教人員年終工作獎金發給注意事項及公務人員考績法
... A89: 係購置消防器材、滅火器換藥維修等編列其他費用2千元。
