Workbook
Name \0: [1]稅捐!#REF!
Name \0: [2]稅捐!#REF!
Name \0: [2]稅捐!#REF!
Name \0: [1]稅捐!#REF!
Name \0: [2]稅捐!#REF!
Name \0: [2]稅捐!#REF!
Name \d: #REF!
Name \d: #REF!
Name \d: #REF!
Name _R: #REF!
Name _R: #REF!
Name _R: #REF!
Name _R: #REF!
Name _R: #REF!
Name _R: #REF!
Name _R: #REF!
Name _R: #REF!
Name _R: #REF!
Name _R: #REF!
Name _R: #REF!
Name _R: #REF!
Name _R: #REF!
Name _R: #REF!
Name a: #REF!
Name a: #REF!
Name a: #REF!
Name a: #REF!
Name a: #REF!
Name a: #REF!
Name a: #REF!
Name a: #REF!
Name a: #REF!
Name a: #REF!
Name a: #REF!
Name a: #REF!
Name a: #REF!
Name a: #REF!
Name aa: #REF!
Name aa: #REF!
Name aa: #REF!
Name aa: #REF!
Name aa: #REF!
Name aa: #REF!
Name aa: #REF!
Name aa: #REF!
Name aa: #REF!
Name aa: #REF!
Name aa: #REF!
Name aa: #REF!
Name aa: #REF!
Name aa: #REF!
Name aaaa: #REF!
Name aaaa: #REF!
Name aaaa: #REF!
Name aaaa: #REF!
Name aaaa: #REF!
Name aaaa: #REF!
Name aaaa: #REF!
Name aaaa: #REF!
Name aaaa: #REF!

Sheet 業務計畫
A1: 業務計畫及預算說明

Sheet 圖1
A1: 圖1 | B1: 111年度收入、成本與費用及賸餘
D19: 單位：新臺幣千元
A20: 收 入 | B20: 111年度預算 | C20: 成本與費用及賸餘 | D20: 111年度預算
A21: 業務收入 | B21: =SUM(B22:B25) -> 569991416 | C21: 業務成本與費用 | D21: =SUM(D22:D25) -> 570248391
A22: 租金及權利金收入 | B22: ='收支餘絀預計表-總'!D9 -> 280944 | C22: 出租資產成本 | D22: ='收支餘絀預計表-總'!D61 -> 39738
A23: 投融資業務收入 | B23: ='收支餘絀預計表-總'!D12 -> 36562385 | C23: 投融資業務成本 | D23: ='收支餘絀預計表-總'!D64 -> 1003916
A24: 保險收入 | B24: ='收支餘絀預計表-總'!D34 -> 499649073 | C24: 保險成本 | D24: ='收支餘絀預計表-總'!D76 -> 564491226
A25: 其他業務收入 | B25: ='收支餘絀預計表-總'!D50 -> 33499014 | C25: 其他業務成本 | D25: ='收支餘絀預計表-總'!D99 -> 4713511
A26: 業務外收入 | B26: ='收支餘絀預計表-總'!D107 -> 257048 | C26: 業務外費用 | D26: ='收支餘絀預計表-總'!D137 -> 73
C27: 本期賸餘 | D27: -
A28: 收入總額 | B28: =B21+B26 -> 570248464 | C28: 成本、費用及賸餘總額 | D28: =D21+D26 -> 570248464 | E28: =B28-D28 -> 0
A29: 公式 | B29: =B22/$B$28 -> 0.00049266946 | C29: =+B29*100 -> 0.049266946 | D29: =D22/$D$28 -> 6.9685413e-05 | E29: 0.26 | F29: =+D29*100 -> 0.0069685413
B30: =B23/$B$28 -> 0.064116587 | C30: =+B30*100 -> 6.4116587 | D30: =D23/$D$28 -> 0.0017604887 | E30: 0.26 | F30: =+D30*100 -> 0.17604887
B31: =B24/$B$28 -> 0.87619539 | C31: =+B31*100 -> 87.619539 | D31: =D24/$D$28 -> 0.98990398 | E31: 99.14 | F31: =+D31*100 -> 98.990398
B32: =B25/$B$28 -> 0.058744593 | C32: =+B32*100 -> 5.8744593 | D32: =D25/$D$28 -> 0.0082657145 | E32: 0.6 | F32: =+D32*100 -> 0.82657145
B33: =B26/$B$28 -> 0.00045076491 | C33: =+B33*100 -> 0.045076491 | D33: =D26/$D$28 -> 1.2801437e-07 | E33: 0 | F33: =+D33*100 -> 1.2801437e-05
B34: =SUM(B29:B33) -> 1 | C34: =SUM(C29:C33) -> 100 | D34: =SUM(D29:D33) -> 1 | E34: =SUM(E30:E33) -> 100 | F34: =SUM(F29:F33) -> 100
A36: 檢核 | B36: 租金及權利金收入 | C36: 0.05 | D36: 出租資產成本 | F36: 0.01
B37: 投融資業務收入 | C37: 6.41 | D37: 投融資業務成本 | F37: 0.17
B38: 保險收入 | C38: 87.62 | D38: 保險成本 | F38: 98.99
B39: 其他業務收入 | C39: 5.87 | D39: 其他業務成本 | F39: 0.83
B40: 業務外收入 | C40: 0.05 | D40: 業務外費用 | F40: 0
C41: =SUM(C36:C40) -> 100 | F41: =SUM(F36:F40) -> 100
C42: 記得要改圖表內數字

Sheet 圖2
A1: 圖2
F13: 單位：新臺幣千元
A14: 年度 項目 | B14: 107年度決算 | C14: 108年度決算 | D14: 109年度決算 | E14: 110年度預算 | F14: 111年度預算 | G14: 檢核 | H14: 年度 項目 | I14: 107 | J14: 108 | K14: 109 | L14: 110 | M14: 111
A15: 收入 | H15: 收入
A16: 業務收入 | B16: 564735881 | C16: 606140396 | D16: 694431339 | E16: =533731249-300 -> 533730949 | F16: =圖1!B21 -> 569991416 | H16: 業務收入 | I16: =+B16*1000 -> 564735881000 | J16: =+C16*1000 -> 606140396000 | K16: =+D16*1000 -> 694431339000 | L16: =+E16*1000 -> 533730949000 | M16: =+F16*1000 -> 569991416000
A17: 業務外收入 | B17: 241919 | C17: 309485 | D17: 332594 | E17: 233631 | F17: =圖1!B26 -> 257048 | H17: 業務外收入 | I17: =+B17*1000 -> 241919000 | J17: =+C17*1000 -> 309485000 | K17: =+D17*1000 -> 332594000 | L17: =+E17*1000 -> 233631000 | M17: =+F17*1000 -> 257048000
A18: 收入合計 | B18: =SUM(B16:B17) -> 564977800 | C18: =SUM(C16:C17) -> 606449881 | D18: =SUM(D16:D17) -> 694763933 | E18: =SUM(E16:E17) -> 533964580 | F18: =SUM(F16:F17) -> 570248464 | H18: 收入合計 | I18: =SUM(I16:I17) -> 564977800000 | J18: =SUM(J16:J17) -> 606449881000 | K18: =SUM(K16:K17) -> 694763933000 | L18: =SUM(L16:L17) -> 533964580000 | M18: =SUM(M16:M17) -> 570248464000
A19: 費用 | H19: =A19 -> 費用
A20: 業務成本與費用 | B20: 564974986 | C20: 606448125 | D20: 694763793 | E20: =533964843-300 -> 533964543 | F20: =圖1!D21 -> 570248391 | H20: 業務成本與費用 | I20: =+B20*1000 -> 564974986000 | J20: =+C20*1000 -> 606448125000 | K20: =+D20*1000 -> 694763793000 | L20: =+E20*1000 -> 533964543000 | M20: =+F20*1000 -> 570248391000
A21: 業務外費用 | B21: 2814 | C21: 1756 | D21: 140 | E21: 37 | F21: =圖1!D26 -> 73 | H21: 業務外費用 | I21: =+B21*1000 -> 2814000 | J21: =+C21*1000 -> 1756000 | K21: =+D21*1000 -> 140000 | L21: =+E21*1000 -> 37000 | M21: =+F21*1000 -> 73000
A22: 費用合計 | B22: =SUM(B20:B21) -> 564977800 | C22: =SUM(C20:C21) -> 606449881 | D22: =SUM(D20:D21) -> 694763933 | E22: =SUM(E20:E21) -> 533964580 | F22: =SUM(F20:F21) -> 570248464 | H22: =A22 -> 費用合計 | I22: =SUM(I20:I21) -> 564977800000 | J22: =+C22*1000 -> 606449881000 | K22: =SUM(K20:K21) -> 694763933000 | L22: =SUM(L20:L21) -> 533964580000 | M22: =SUM(M20:M21) -> 570248464000
A23: 本期賸餘 | B23: =B18-B22 -> 0 | C23: =C18-C22 -> 0 | D23: =D18-D22 -> 0 | E23: =E18-E22 -> 0 | F23: =F18-F22 -> 0 | H23: 本期賸餘 | I23: =I18-I22 -> 0 | J23: =J18-J22 -> 0 | K23: =K18-K22 -> 0 | L23: =L18-L22 -> 0 | M23: =M18-M22 -> 0
A24: 註：1.107至109年度決算數為審定決算數；110年度為法定預算數。以下各表同。 2.決算數細數之和與總數或略有出入，係四捨五入關係。

Sheet 空白頁10
A1: 本頁空白

Sheet 收支餘絀預計表-總
A1: 勞 動 部 勞 工 保 險 局
A2: 勞 工 保 險 局 作 業 基 金
A3: 收支餘絀預計表
A4: 中華民國111年度 單位：新臺幣千元
A5: 前年度決算數 | C5: 科 目 | D5: 本年度預算數 | F5: 上年度預算數 | H5: 比較增減(-)
A6: 金 額 | B6: ％ | D6: 金 額 | E6: ％ | F6: 金 額 | G6: ％ | H6: 金 額 | I6: ％
A8: 694431339 | B8: 100 | C8: 業務收入 | D8: =SUM(D9,D12,D34,D50) -> 569991416 | E8: 100 | F8: =SUM(F9,F12,F34,F50) -> 533730949 | G8: 100 | H8: =D8-F8 -> 36260467 | I8: =ROUND(H8/F8*100,2) -> 6.79 | K8: =ROUND(A8/$A$8*100,5) -> 100 | L8: =ROUND(D8/$D$8*100,5) -> 100 | M8: =ROUND(F8/$F$8*100,5) -> 100
A9: 275588 | B9: =ROUND(A9/$A$8*100,2) -> 0.04 | C9: 租金及權利金收入 | D9: =+D10 -> 280944 | E9: =ROUND(D9/$D$8*100,2) -> 0.05 | F9: =+F10 -> 281663 | G9: =ROUND(F9/$F$8*100,2) -> 0.05 | H9: =D9-F9 -> -719 | I9: =ROUND(H9/F9*100,2) -> -0.26 | K9: =ROUND(A9/$A$8*100,5) -> 0.03969 | L9: =ROUND(D9/$D$8*100,5) -> 0.04929 | M9: =ROUND(F9/$F$8*100,5) -> 0.05277
A10: 275588 | B10: =ROUND(A10/$A$8*100,2) -> 0.04 | C10: 投資性不動產收入 | D10: =D11 -> 280944 | E10: =ROUND(D10/$D$8*100,2) -> 0.05 | F10: =F11 -> 281663 | G10: =ROUND(F10/$F$8*100,2) -> 0.05 | H10: =D10-F10 -> -719 | I10: =ROUND(H10/F10*100,2) -> -0.26 | K10: =ROUND(A10/$A$8*100,5) -> 0.03969 | L10: =ROUND(D10/$D$8*100,5) -> 0.04929 | M10: =ROUND(F10/$F$8*100,5) -> 0.05277
A11: 275588 | B11: =ROUND(A11/$A$8*100,2) -> 0.04 | C11: 勞工保險－普通 | D11: 280944 | E11: =ROUND(D11/$D$8*100,2) -> 0.05 | F11: 281663 | G11: =ROUND(F11/$F$8*100,2) -> 0.05 | H11: =D11-F11 -> -719 | I11: =ROUND(H11/F11*100,2) -> -0.26 | K11: =ROUND(A11/$A$8*100,5) -> 0.03969 | L11: =ROUND(D11/$D$8*100,5) -> 0.04929 | M11: =ROUND(F11/$F$8*100,5) -> 0.05277
A12: 228703531 | B12: =ROUND(A12/$A$8*100,2) -> 32.93 | C12: 投融資業務收入 | D12: =D13+D18+D20+D23+D25 -> 36562385 | E12: =ROUND(D12/$D$8*100,2) -> 6.41 | F12: =F13+F18+F20+F23+F25 -> 30203924 | G12: =ROUND(F12/$F$8*100,2) -> 5.66 | H12: =D12-F12 -> 6358461 | I12: =ROUND(H12/F12*100,2) -> 21.05 | K12: =ROUND(A12/$A$8*100,5) -> 32.93393 | L12: =ROUND(D12/$D$8*100,5) -> 6.41455 | M12: =ROUND(F12/$F$8*100,5) -> 5.65902
A13: 211446037 | B13: =ROUND(A13/$A$8*100,2) -> 30.45 | C13: 投資業務收入 | D13: =SUM(D14:D17) -> 34903178 | E13: =ROUND(D13/$D$8*100,2) -> 6.12 | F13: =SUM(F14:F17) -> 28315665 | G13: =ROUND(F13/$F$8*100,2) -> 5.31 | H13: =D13-F13 -> 6587513 | I13: =ROUND(H13/F13*100,2) -> 23.26 | K13: =ROUND(A13/$A$8*100,5) -> 30.4488 | L13: =ROUND(D13/$D$8*100,5) -> 6.12346 | M13: =ROUND(F13/$F$8*100,5) -> 5.30523
A14: 209646164 | B14: =ROUND(A14/$A$8*100,2) -> 30.19 | C14: 勞工保險－普通 | D14: =28037117+417417+5000000 -> 33454534 | E14: =ROUND(D14/$D$8*100,2) -> 5.87 | F14: 26579869 | G14: =ROUND(F14/$F$8*100,2) -> 4.98 | H14: =D14-F14 -> 6874665 | I14: =ROUND(H14/F14*100,2) -> 25.86 | K14: =ROUND(A14/$A$8*100,5) -> 30.18962 | L14: =ROUND(D14/$D$8*100,5) -> 5.8693 | M14: =ROUND(F14/$F$8*100,5) -> 4.98001
A15: 39698 | B15: =ROUND(A15/$A$8*100,2) -> 0.01 | C15: 勞工保險－職災 | D15: 15540 | E15: =ROUND(D15/$D$8*100,2) -> 0 | F15: 40005 | G15: =ROUND(F15/$F$8*100,2) -> 0.01 | H15: =D15-F15 -> -24465 | I15: =ROUND(H15/F15*100,2) -> -61.15 | K15: =ROUND(A15/$A$8*100,5) -> 0.00572 | L15: =ROUND(D15/$D$8*100,5) -> 0.00273 | M15: =ROUND(F15/$F$8*100,5) -> 0.0075
A16: 1760176 | B16: =ROUND(A16/$A$8*100,2) -> 0.25 | C16: 就業保險 | D16: 1401654 | E16: =ROUND(D16/$D$8*100,2) -> 0.25 | F16: 1695791 | G16: =ROUND(F16/$F$8*100,2) -> 0.32 | H16: =D16-F16 -> -294137 | I16: =ROUND(H16/F16*100,2) -> -17.35 | K16: =ROUND(A16/$A$8*100,5) -> 0.25347 | L16: =ROUND(D16/$D$8*100,5) -> 0.24591 | M16: =ROUND(F16/$F$8*100,5) -> 0.31772
A17: 0 | B17: =ROUND(A17/$A$8*100,2) -> 0 | C17: 勞職保及保護 | D17: 31450 | E17: =ROUND(D17/$D$8*100,2) -> 0.01 | F17: 0 | G17: =ROUND(F17/$F$8*100,2) -> 0 | H17: =D17-F17 -> 31450 | I17: 0 | K17: =ROUND(A17/$A$8*100,5) -> 0 | L17: =ROUND(D17/$D$8*100,5) -> 0.00552 | M17: =ROUND(F17/$F$8*100,5) -> 0
A18: 608541 | B18: =ROUND(A18/$A$8*100,2) -> 0.09 | C18: 融資業務收入 | D18: =D19 -> 534618 | E18: =ROUND(D18/$D$8*100,2) -> 0.09 | F18: =F19 -> 550450 | G18: =ROUND(F18/$F$8*100,2) -> 0.1 | H18: =D18-F18 -> -15832 | I18: =ROUND(H18/F18*100,2) -> -2.88 | K18: =ROUND(A18/$A$8*100,5) -> 0.08763 | L18: =ROUND(D18/$D$8*100,5) -> 0.09379 | M18: =ROUND(F18/$F$8*100,5) -> 0.10313
A19: 608541 | B19: =ROUND(A19/$A$8*100,2) -> 0.09 | C19: 勞工保險－普通 | D19: 534618 | E19: =ROUND(D19/$D$8*100,2) -> 0.09 | F19: 550450 | G19: =ROUND(F19/$F$8*100,2) -> 0.1 | H19: =D19-F19 -> -15832 | I19: =ROUND(H19/F19*100,2) -> -2.88 | K19: =ROUND(A19/$A$8*100,5) -> 0.08763 | L19: =ROUND(D19/$D$8*100,5) -> 0.09379 | M19: =ROUND(F19/$F$8*100,5) -> 0.10313
A20: 15135767 | B20: =ROUND(A20/$A$8*100,2) -> 2.18 | C20: 兌換賸餘 | D20: =SUM(D21:D22) -> 0 | E20: =ROUND(D20/$D$8*100,2) -> 0 | F20: =SUM(F21:F22) -> 0 | G20: =ROUND(F20/$F$8*100,2) -> 0 | H20: =H21 -> 0 | I20: 0 | K20: =ROUND(A20/$A$8*100,5) -> 2.17959 | L20: =ROUND(D20/$D$8*100,5) -> 0 | M20: =ROUND(F20/$F$8*100,5) -> 0
A21: 14628318 | B21: =ROUND(A21/$A$8*100,2) -> 2.11 | C21: 勞工保險－普通 | D21: 0 | E21: =ROUND(D21/$D$8*100,2) -> 0 | F21: 0 | G21: =ROUND(F21/$F$8*100,2) -> 0 | H21: 0 | I21: 0 | K21: =ROUND(A21/$A$8*100,5) -> 2.10652 | L21: =ROUND(D21/$D$8*100,5) -> 0 | M21: =ROUND(F21/$F$8*100,5) -> 0
A22: 507449 | B22: =ROUND(A22/$A$8*100,2) -> 0.07 | C22: 就業保險 | D22: 0 | E22: =ROUND(D22/$D$8*100,2) -> 0 | F22: 0 | G22: =ROUND(F22/$F$8*100,2) -> 0 | H22: 0 | I22: 0 | K22: =ROUND(A22/$A$8*100,5) -> 0.07307 | L22: =ROUND(D22/$D$8*100,5) -> 0 | M22: =ROUND(F22/$F$8*100,5) -> 0
A23: 175326 | B23: =ROUND(A23/$A$8*100,2) -> 0.03 | C23: 手續費收入 | D23: =D24 -> 0 | E23: =ROUND(D23/$D$8*100,2) -> 0 | F23: =F24 -> 0 | G23: =ROUND(F23/$F$8*100,2) -> 0 | H23: =D23-F23 -> 0 | I23: 0 | K23: =ROUND(A23/$A$8*100,5) -> 0.02525 | L23: =ROUND(D23/$D$8*100,5) -> 0 | M23: =ROUND(F23/$F$8*100,5) -> 0
A24: 175326 | B24: =ROUND(A24/$A$8*100,2) -> 0.03 | C24: 勞工保險－普通 | D24: 0 | E24: =ROUND(D24/$D$8*100,2) -> 0 | F24: 0 | G24: =ROUND(F24/$F$8*100,2) -> 0 | H24: =D24-F24 -> 0 | I24: 0 | K24: =ROUND(A24/$A$8*100,5) -> 0.02525 | L24: =ROUND(D24/$D$8*100,5) -> 0 | M24: =ROUND(F24/$F$8*100,5) -> 0
A25: 1337860 | B25: =ROUND(A25/$A$8*100,2) -> 0.19 | C25: 存款利息收入 | D25: =SUM(D26:D33) -> 1124589 | E25: =ROUND(D25/$D$8*100,2) -> 0.2 | F25: =SUM(F26:F33) -> 1337809 | G25: =ROUND(F25/$F$8*100,2) -> 0.25 | H25: =D25-F25 -> -213220 | I25: =ROUND(H25/F25*100,2) -> -15.94 | K25: =ROUND(A25/$A$8*100,5) -> 0.19266 | L25: =ROUND(D25/$D$8*100,5) -> 0.1973 | M25: =ROUND(F25/$F$8*100,5) -> 0.25065
A26: 687895 | B26: =ROUND(A26/$A$8*100,2) -> 0.1 | C26: 勞工保險－普通 | D26: =652376+13565 -> 665941 | E26: =ROUND(D26/$D$8*100,2) -> 0.12 | F26: 821264 | G26: =ROUND(F26/$F$8*100,2) -> 0.15 | H26: =D26-F26 -> -155323 | I26: =ROUND(H26/F26*100,2) -> -18.91 | K26: =ROUND(A26/$A$8*100,5) -> 0.09906 | L26: =ROUND(D26/$D$8*100,5) -> 0.11683 | M26: =ROUND(F26/$F$8*100,5) -> 0.15387
A27: 136301 | B27: =ROUND(A27/$A$8*100,2) -> 0.02 | C27: 勞工保險－職災 | D27: 31507 | E27: =ROUND(D27/$D$8*100,2) -> 0.01 | F27: 135350 | G27: =ROUND(F27/$F$8*100,2) -> 0.03 | H27: =D27-F27 -> -103843 | I27: =ROUND(H27/F27*100,2) -> -76.72 | K27: =ROUND(A27/$A$8*100,5) -> 0.01963 | L27: =ROUND(D27/$D$8*100,5) -> 0.00553 | M27: =ROUND(F27/$F$8*100,5) -> 0.02536
A28: 425431 | B28: =ROUND(A28/$A$8*100,2) -> 0.06 | C28: 就業保險 | D28: 294798 | E28: =ROUND(D28/$D$8*100,2) -> 0.05 | F28: 308466 | G28: =ROUND(F28/$F$8*100,2) -> 0.06 | H28: =D28-F28 -> -13668 | I28: =ROUND(H28/F28*100,2) -> -4.43 | K28: =ROUND(A28/$A$8*100,5) -> 0.06126 | L28: =ROUND(D28/$D$8*100,5) -> 0.05172 | M28: =ROUND(F28/$F$8*100,5) -> 0.05779
A29: 124 | B29: =ROUND(A29/$A$8*100,2) -> 0 | C29: 農保 | D29: 92 | E29: =ROUND(D29/$D$8*100,2) -> 0 | F29: 184 | G29: =ROUND(F29/$F$8*100,2) -> 0 | H29: =D29-F29 -> -92 | I29: =ROUND(H29/F29*100,2) -> -50 | K29: =ROUND(A29/$A$8*100,5) -> 2e-05 | L29: =ROUND(D29/$D$8*100,5) -> 2e-05 | M29: =ROUND(F29/$F$8*100,5) -> 3e-05
A30: 123 | B30: =ROUND(A30/$A$8*100,2) -> 0 | C30: 農職保 | D30: 92 | E30: =ROUND(D30/$D$8*100,2) -> 0 | F30: 20 | G30: =ROUND(F30/$F$8*100,2) -> 0 | H30: =D30-F30 -> 72 | I30: =ROUND(H30/F30*100,2) -> 360 | K30: =ROUND(A30/$A$8*100,5) -> 2e-05 | L30: =ROUND(D30/$D$8*100,5) -> 2e-05 | M30: =ROUND(F30/$F$8*100,5) -> 0
A31: 87353 | B31: =ROUND(A31/$A$8*100,2) -> 0.01 | C31: 職災保護－已加保勞工 | D31: 20484 | E31: =ROUND(D31/$D$8*100,2) -> 0 | F31: 72194 | G31: =ROUND(F31/$F$8*100,2) -> 0.01 | H31: =D31-F31 -> -51710 | I31: =ROUND(H31/F31*100,2) -> -71.63 | K31: =ROUND(A31/$A$8*100,5) -> 0.01258 | L31: =ROUND(D31/$D$8*100,5) -> 0.00359 | M31: =ROUND(F31/$F$8*100,5) -> 0.01353
A32: 632 | B32: =ROUND(A32/$A$8*100,2) -> 0 | C32: 職災保護－未加保勞工 | D32: 116 | E32: =ROUND(D32/$D$8*100,2) -> 0 | F32: 331 | G32: =ROUND(F32/$F$8*100,2) -> 0 | H32: =D32-F32 -> -215 | I32: =ROUND(H32/F32*100,2) -> -64.95 | K32: =ROUND(A32/$A$8*100,5) -> 9e-05 | L32: =ROUND(D32/$D$8*100,5) -> 2e-05 | M32: =ROUND(F32/$F$8*100,5) -> 6e-05
A33: 0 | B33: =ROUND(A33/$A$8*100,2) -> 0 | C33: 勞職保及保護 | D33: 111559 | E33: =ROUND(D33/$D$8*100,2) -> 0.02 | F33: 0 | G33: =ROUND(F33/$F$8*100,2) -> 0 | H33: =D33-F33 -> 111559 | I33: 0 | K33: =ROUND(A33/$A$8*100,5) -> 0 | L33: =ROUND(D33/$D$8*100,5) -> 0.01957 | M33: =ROUND(F33/$F$8*100,5) -> 0
A34: 441507016 | B34: =ROUND(A34/$A$8*100,2) -> 63.58 | C34: 保險收入 | D34: =D35+D42 -> 499649073 | E34: =ROUND(D34/$D$8*100,2) -> 87.66 | F34: =F35+F42 -> 477611869 | G34: =ROUND(F34/$F$8*100,2) -> 89.49 | H34: =D34-F34 -> 22037204 | I34: =ROUND(H34/F34*100,2) -> 4.61 | K34: =ROUND(A34/$A$8*100,5) -> 63.57821 | L34: =ROUND(D34/$D$8*100,5) -> 87.65905 | M34: =ROUND(F34/$F$8*100,5) -> 89.48551
A35: 441051718 | B35: =ROUND(A35/$A$8*100,2) -> 63.51 | C35: 保費收入 | D35: =SUM(D36:D41) -> 479888341 | E35: =ROUND(D35/$D$8*100,2) -> 84.19 | F35: =SUM(F36:F41) -> 466231821 | G35: =ROUND(F35/$F$8*100,2) -> 87.35 | H35: =D35-F35 -> 13656520 | I35: =ROUND(H35/F35*100,2) -> 2.93 | K35: =ROUND(A35/$A$8*100,5) -> 63.51265 | L35: =ROUND(D35/$D$8*100,5) -> 84.1922 | M35: =ROUND(F35/$F$8*100,5) -> 87.35334
A36: 400600454 | B36: =ROUND(A36/$A$8*100,2) -> 57.69 | C36: 勞工保險－普通 | D36: 436584448 | E36: =ROUND(D36/$D$8*100,2) -> 76.59 | F36: 424680213 | G36: =ROUND(F36/$F$8*100,2) -> 79.57 | H36: =D36-F36 -> 11904235 | I36: =ROUND(H36/F36*100,2) -> 2.8 | K36: =ROUND(A36/$A$8*100,5) -> 57.68755 | L36: =ROUND(D36/$D$8*100,5) -> 76.59492 | M36: =ROUND(F36/$F$8*100,5) -> 79.56822
A37: 8026727 | B37: =ROUND(A37/$A$8*100,2) -> 1.16 | C37: 勞工保險－職災 | D37: 2881067 | E37: =ROUND(D37/$D$8*100,2) -> 0.51 | F37: 8385038 | G37: =ROUND(F37/$F$8*100,2) -> 1.57 | H37: =D37-F37 -> -5503971 | I37: =ROUND(H37/F37*100,2) -> -65.64 | K37: =ROUND(A37/$A$8*100,5) -> 1.15587 | L37: =ROUND(D37/$D$8*100,5) -> 0.50546 | M37: =ROUND(F37/$F$8*100,5) -> 1.57102
A38: 29065026 | B38: =ROUND(A38/$A$8*100,2) -> 4.19 | C38: 就業保險 | D38: 30396889 | E38: =ROUND(D38/$D$8*100,2) -> 5.33 | F38: 29807684 | G38: =ROUND(F38/$F$8*100,2) -> 5.58 | H38: =D38-F38 -> 589205 | I38: =ROUND(H38/F38*100,2) -> 1.98 | K38: =ROUND(A38/$A$8*100,5) -> 4.18544 | L38: =ROUND(D38/$D$8*100,5) -> 5.33287 | M38: =ROUND(F38/$F$8*100,5) -> 5.58478
A39: 3281172 | B39: =ROUND(A39/$A$8*100,2) -> 0.47 | C39: 農保 | D39: 3169722 | E39: =ROUND(D39/$D$8*100,2) -> 0.56 | F39: 3250886 | G39: =ROUND(F39/$F$8*100,2) -> 0.61 | H39: =D39-F39 -> -81164 | I39: =ROUND(H39/F39*100,2) -> -2.5 | K39: =ROUND(A39/$A$8*100,5) -> 0.4725 | L39: =ROUND(D39/$D$8*100,5) -> 0.5561 | M39: =ROUND(F39/$F$8*100,5) -> 0.60909
A40: 78338 | B40: =ROUND(A40/$A$8*100,2) -> 0.01 | C40: 農職保 | D40: 96000 | E40: =ROUND(D40/$D$8*100,2) -> 0.02 | F40: 108000 | G40: =ROUND(F40/$F$8*100,2) -> 0.02 | H40: =D40-F40 -> -12000 | I40: =ROUND(H40/F40*100,2) -> -11.11 | K40: =ROUND(A40/$A$8*100,5) -> 0.01128 | L40: =ROUND(D40/$D$8*100,5) -> 0.01684 | M40: =ROUND(F40/$F$8*100,5) -> 0.02023
A41: 0 | B41: =ROUND(A41/$A$8*100,2) -> 0 | C41: 勞職保及保護 | D41: 6760215 | E41: =ROUND(D41/$D$8*100,2) -> 1.19 | F41: 0 | G41: =ROUND(F41/$F$8*100,2) -> 0 | H41: =D41-F41 -> 6760215 | I41: 0 | L41: =ROUND(D41/$D$8*100,5) -> 1.18602
...

Sheet 收支餘絀預計表說明
A1: 勞 動 部 勞 工 保 險 局
A2: 勞 工 保 險 局 作 業 基 金
A3: 收支餘絀預計表說明
A4: 中華民國111年度
A6: 一、本年度業務收入569,991,416千元：
A7: （一）租金及權利金收入280,944千元，係基金出租投資性不動產所獲得之收入等。
A8: （二）投融資業務收入36,562,385千元，係本基金投資運用收益、存款利息收入及融資業 務收入。
A9: （三）保險收入499,649,073千元，包含保費收入479,888,341千元及收回責任準備 19,760,732千元。
A10: （四）其他業務收入33,499,014千元，係政府撥補勞工保險基金、農保虧損由政府補助、 未加入勞工保險而遭遇職業災害勞工之各項補助收入等。
A11: 二、本年度業務成本與費用570,248,391千元：
A12: （一）出租資產成本39,738千元，係提列投資取得不動產之折舊及基金不動產鑑價費用、 基金投資不動產之地價稅及房屋修護費用等。
A13: （二）投融資業務成本1,003,916千元，係本基金投資運用之委託經營經理費、國外投資 保管費及被保險人貸款手續費等。
... A15: （四）其他業務成本4,713,511千元，係依就業保險法第12條第3項規定辦理促進就業等業 務、農保虧損借款之利息支出、政府對未加保勞工而遭遇職業災害者之各項補助 及依勞工職業災害保險及保護法第62條規定辦理職業災害預防及重建等業務。
A16: 三、 | B16: 本年度業務外收入257,048千元：
A17: （一）財務收入421千元，係利息收入。
A18: （二）其他業務外收入256,627千元，係違規罰款收入、收回呆帳及雜項收入等。
A19: 四、本年度業務外費用73千元，係應付保管款滿4年轉雜項收入後再提出申請等。
A20: 五、本年度收支相抵後，賸餘無列數。

Sheet 餘絀撥補預計表
A1: 勞 動 部 勞 工 保 險 局
A2: 勞 工 保 險 局 作 業 基 金
A3: 餘絀撥補預計表
A4: 中華民國111年度 單位：新臺幣千元
A5: 上年度預算數 | C5: 項目 | D5: 本年度預算數 | F5: 說 明
A6: 金 額 | B6: ％ | D6: 金 額 | E6: ％
A8: - | B8: - | C8: 賸餘之部 | D8: - | E8: -
A9: - | B9: - | C9: 本期賸餘 | D9: - | E9: -
A10: - | B10: - | C10: 未分配賸餘 | D10: - | E10: -

Sheet 現金流量預計表-總
A1: 勞 動 部 勞 工 保 險 局
A2: 勞 工 保 險 局 作 業 基 金
A3: 現金流量預計表
A4: 中華民國111年度 單位：新臺幣千元
A5: 項目 | B5: 預算數 | C5: 說明
A9: 業務活動之現金流量
A10: 本期賸餘（短絀） | B10: 0
A11: 利息股利之調整 | B11: =-D11+D12 -> -6402828 | C11: 1.利息收入 | D11: 6416646 | E11: 千元
C12: 2.利息費用 | D12: 13818 | E12: 千元
A13: 未計利息股利之本期賸餘（短絀） | B13: =+B10+B11 -> -6402828
A14: 調整項目 | B14: =D14+D15+D16+D17+D18+D19+D20 -> -13751278 | C14: 1.提存呆帳 | D14: 917868 | E14: 千元
C15: 2.收回責任準備 | D15: -14784100 | E15: 千元
C16: 3.折舊 | D16: 16155 | E16: 千元
C17: 4.攤銷 | D17: 609 | E17: 千元
C18: 5.流動資產淨減 | D18: 184358 | E18: 千元
C19: 6.流動負債淨減 | D19: -25253 | E19: 千元
C20: 7.其他 | D20: -60915 | E20: 千元
A21: 未計利息股利之現金流入（流出） | B21: =+B13+B14 -> -20154106
A22: 收取利息 | B22: 421 | C22: 收取利息421千元。
A23: 業務活動之淨現金流入（流出） | B23: =+B21+B22 -> -20153685
A24: 投資活動之現金流量
A25: 減少流動金融資產及短期貸墊款 | B25: 5822990 | C25: 係勞工保險業務減少流動金融資產4,808,700千元及短期貸款347,000千元、勞職保及保護業務減少流動金融資產667,290千元。
A26: 減少投資、長期應收款、貸墊款及準備金 | B26: 21297545 | C26: 係勞工保險業務減少投資-非流動金融資產10,237,745千元及長期貸款10,900,000千元、勞職保及保護業務減少投資-非流動金融資產159,800千元。
A27: 減少無形資產及其他資產 | B27: 0 | C27: 係勞工保險業務減少其他資產千元。
A28: 收取利息 | B28: 6563326 | C28: 收取利息6,563,326千元。
A29: 增加流動金融資產及短期貸墊款 | B29: -1909191 | C29: 係就業保險業務增加流動金融資產1,799,991千元及職業災害勞工保護增加流動金融資產109,200千元。
A30: 增加投資、長期應收款、貸墊款及準備金 | B30: -14072460 | C30: 係勞工保險業務增加長期貸款10,169,315千元、就業保險業務增加投資-非流動金融資產3,743,675千元及職業災害勞工保護增加投資-非流動金融資產159,470千元。
A31: 增加無形資產及其他資產 | B31: 0 | C31: 係勞職保及保護業務增加無形資產24,000千元。
A32: 投資活動之淨現金流入（流出） | B32: =SUM(B25:B31) -> 17702210
A33: 籌資活動之現金流量
A34: 增加短期債務、流動金融負債及其他負債 | B34: 0 | C34: 係勞職保及保護業務增加其他負債36,343,568千元。
A35: 減少短期債務、流動金融負債及其他負債 | B35: -347000 | C35: 係農保及農職保業務減少短期債務347,000千元。
A36: 支付利息 | B36: -13818 | C36: 支付利息13,818千元。
A37: 籌資活動之淨現金流入（流出） | B37: =SUM(B34:B36) -> -360818
A38: 現金及約當現金之淨增（淨減） | B38: =B23+B32+B37 -> -2812293
A39: 期初現金及約當現金 | B39: 42206622
A40: 期末現金及約當現金 | B40: 39394329
A43: 補充說明：不影響現金流量之投資及籌資活動係111年5月1日配合「勞工職業災害保險及保護法」施行，將原列於 「勞工保險業務」項下職業災害保險、「職業災害勞工保護業務」整併為「勞職保及保護」，爰移列 項目包括： 1.流動金融資產：減少勞工保險–職災178億2,410萬元，職災保護33億7,966萬元，同額增加勞職保及 保護212億376萬元。 2.投資-非流動金融資產：減少勞工保險–職災36億9,204萬5千元，職災保護55億8,341萬元，同額增加 勞職保及保護92億7,545萬5千元。 3.其他負債：減少勞工保險–職災254億9,285萬1千元及職災保護108億5,101萬7千元(包含110年度勞工 保險–職災收支結餘40％之二分之一2億3,191萬2千元作為111年度職災保護專款)，同額增加勞職保 及保護363億4,386萬8千元。

Sheet 租金及權利金收入明細表
A1: 勞 動 部 勞 工 保 險 局
A2: 勞 工 保 險 局 作 業 基 金
A3: 租金及權利金收入明細表
A4: 中華民國111年度 單位：新臺幣千元
A5: 科目及業務項目 | C5: 預 算 數 | E5: 說 明
A9: 租金及權利金收入 | C9: =+C10 -> 280944 | E9: 本科目全數由勞動部勞動基金運用局辦理。
A10: 勞工保險 | C10: =+C11 -> 280944
A11: 投資性不動產收入 | B11: 年 | C11: =+C12 -> 280944 | E11: 係基金出租投資性不動產平均營運量1,631,412千元所獲得之收入等，詳第65頁投資性不動產收入分析表。
A12: 普通事故 | B12: 年 | C12: 280944

Sheet 投融資業務收入明細表 
A1: 勞 動 部 勞 工 保 險 局
A2: 勞 工 保 險 局 作 業 基 金
A3: 投融資業務收入明細表
A4: 中華民國111年度 單位：新臺幣千元
A5: 科目及業務項目 | B5: 單位 | C5: 預 算 數 | F5: 說明
C6: 數 量 (業務量) | D6: 利(費)率 | E6: 金 額
A9: 投融資業務收入 | B9: 年 | C9: =C10+C32+C45+C40+C49 -> 938983630 | E9: =E10+E32+E45+E40+E49 -> 36562385 | F9: 本科目勞動部勞工保險局辦理520,984千元；勞動部勞動基金運用局辦理36,041,401千元。 | G9: =+I9-H9 -> 36041401 | H9: =+E40+I25 -> 520984 | I9: =+E9 -> 36562385 | L9: 1631412 | M9: =C9+L9 -> 940615042 | N9: =M9-C40 -> 940155042
A10: 勞工保險 | C10: =+C11+C24+C26 -> 749852560 | E10: =+E11+E24+E26 -> 34702140
A11: 投資業務收入 | B11: 年 | C11: =C12+C16+C19+C22 -> 619499000 | E11: =E12+E16+E19+E22 -> 33470074
A12: 權益證券 | B12: 年 | C12: =+C13 -> 436055000 | E12: =+E13 -> 30146160 | F12: 買賣股票、受益憑證等之利益。
A13: 普通事故 | B13: 年 | C13: =+C14+C15 -> 436055000 | E13: =+E14+E15 -> 30146160
A14: 國內投資 | B14: 年 | C14: 172918000 | D14: 0.0688 | E14: 11893930 | H14: 9967698 | I14: =E14-H14 -> 1926232
A15: 國外投資 | B15: 年 | C15: 263137000 | D15: 0.0694 | E15: 18252230 | H15: 15297933 | I15: =E15-H15 -> 2954297
A16: 票券 | B16: 年 | C16: =SUM(C17:C18) -> 13533000 | E16: =SUM(E17:E18) -> 41371 | F16: 投資商業票券。
A17: 普通事故 | B17: 年 | C17: 13533000 | D17: 0.0031 | E17: 41371 | H17: 34671 | I17: =E17-H17 -> 6700
A18: 職業災害 | B18: 年 | C18: 0 | D18: 0 | E18: 0
A19: 債券 | B19: 年 | C19: =SUM(C20:C21) -> 54131000 | E19: =SUM(E20:E21) -> 1213323 | F19: 投資公債、庫券、公司債及金融債券。
A20: 普通事故 | B20: 年 | C20: 50431000 | D20: 0.0238 | E20: 1197783 | H20: 1002708 | I20: =E20-H20 -> 195075
A21: 職業災害 | B21: 年 | C21: 3700000 | D21: 0.0042 | E21: 15540
A22: 國外投資 | B22: 年 | C22: =C23 -> 115780000 | D22: =D23 -> 0.0179 | E22: =E23 -> 2069220 | F22: 投資國外固定收益商品 。
A23: 普通事故 | B23: 年 | C23: 115780000 | D23: 0.0179 | E23: 2069220 | H23: 1734107 | I23: =E23-H23 -> 335113
A24: 融資業務收入 | B24: 年 | C24: =C25 -> 31647213 | D24: =D25 -> 0.016893052 | E24: =E25 -> 534618 | F24: 貸款予被保險人之利息收入編列520,800千元，由勞動部勞工保險局辦理；貸款予農民健康保險辦理短期週轉之利息收入編列13,818千元，由勞動部勞動基金運用局辦理。 | G24: 營運量 | H24: 利率 | I24: 收入 | J24: 營運量 | K24: 利率 | L24: 收入 | M24: 營運量 | N24: 利率 | O24: 收入
A25: 普通事故 | B25: 年 | C25: =647213+31000000 -> 31647213 | D25: =+E25/C25 -> 0.016893052 | E25: 534618 | G25: 31000000 | H25: 1.68 | I25: 520800 | J25: 647213 | K25: 2.135 | L25: 13818 | M25: =+G25+J25 -> 31647213 | N25: =+O25/M25 -> 0.016893052 | O25: =+I25+L25 -> 534618
A26: 存款利息收入 | B26: 年 | C26: =C27+C30 -> 98706347 | E26: =E27+E30 -> 697448
A27: 普通事故 | B27: 年 | C27: =SUM(C28:C29) -> 79014572 | E27: =+E28+E29 -> 665941 | F27: 台幣存款及外幣存款。
A28: 國內 | B28: 年 | C28: 51949572 | D28: 0.0049 | E28: 254553
A29: 國外 | B29: 年 | C29: 27065000 | D29: 0.0152 | E29: 411388
A30: 職業災害 | B30: 年 | C30: 19691775 | D30: 0.0016 | E30: 31507 | F30: 台幣存款。
A32: 就業保險 | C32: =C37+C33 -> 143978000 | E32: =E37+E33 -> 1696452
A33: 投資業務收入 | B33: 年 | C33: =SUM(C34:C36) -> 97184000 | E33: =SUM(E34:E36) -> 1401654
A34: 票券 | B34: 年 | C34: 11086000 | D34: 0.0026 | E34: 28824 | F34: 投資商業票券。
A35: 債券 | B35: 年 | C35: 62342000 | D35: 0.0152 | E35: 947598 | F35: 投資公債、庫券、公司債及金融債券。
A36: 國外投資 | B36: 年 | C36: 23756000 | D36: 0.0179 | E36: 425232 | F36: 投資國外固定收益商品 。
A37: 存款利息收入 | B37: 年 | C37: =SUM(C38:C39) -> 46794000 | E37: =SUM(E38:E39) -> 294798 | F37: 台幣存款及外幣存款。
A38: 國內 | B38: 年 | C38: 41755000 | D38: 0.0049 | E38: 204600
A39: 國外 | B39: 年 | C39: 5039000 | D39: 0.0179 | E39: 90198
A40: 農保及農職保 | C40: =+C41 -> 460000 | E40: =+E41 -> 184
A41: 存款利息收入 | B41: 年 | C41: =+C42+C43 -> 460000 | D41: 0.0004 | E41: =+E42+E43 -> 184 | F41: 國庫帳戶台幣存款，由勞動部勞工保險局辦理。
A42: 農保 | B42: 年 | C42: 230000 | D42: 0.0004 | E42: 92
A43: 農職保 | B43: 年 | C43: 230000 | D43: 0.0004 | E43: 92
...

Sheet 保險收入明細表
A1: 勞 動 部 勞 工 保 險 局
A2: 勞 工 保 險 局 作 業 基 金
A3: 保險收入明細表
A4: 中華民國111年度 單位：新臺幣千元
A5: 科目及業務項目 | B5: 預算數 | C5: 說明
A9: 保險收入 | B9: =B10+B22+B27+B38+B43 -> 499649073 | C9: 本科目勞動部勞工保險局辦理499,498,348千元；勞動部職業安全衛生署辦理150,725千元。 | D9: =+B10+B22+B27+B43 -> 499498348 | E9: =+B38 -> 150725 | F9: =+D9+E9 -> 499649073
A10: 勞工保險 | B10: =+B11+B18 -> 458034704
A11: 保費收入 | B11: =B12+B15 -> 439465515 | C11: 詳第66~67、70~72頁保費收入分析表及附表。
A12: 保費收入 | B12: =B13+B14 -> 438997753 | C12: 係依111年1月至4月投保人數1,060萬人、平均月投保薪資33,900元及保險費率10.70%（普通事故保險費率10.50%；職業災害平均費率0.20%），以及111年5月至12月投保人數1,015萬5千人、平均月投保薪資34,085元及保險費率10.50%（普通事故保險費率）估算。
A13: 普通事故 | B13: 436121456
A14: 職業災害 | B14: 2876297
A15: 滯納金收入 | B15: =SUM(B16:B17) -> 467762
A16: 普通事故 | B16: 462992
A17: 職業災害 | B17: 4770
A18: 收回責任準備 | B18: =+B19 -> 18569189 | C18: 係本年度勞工保險普通事故，收支短絀為18,569,189千元，悉數由以前年度累積之提存責任準備彌平。
A19: 普通事故 | B19: 18569189
A22: 就業保險 | B22: =B23 -> 30396889
A23: 保費收入 | B23: =SUM(B24:B25) -> 30396889 | C23: 詳第67、72~74頁保費收入分析表及附表。
A24: 保費收入 | B24: 30372516 | C24: 係依投保人數717萬人、平均月投保薪資35,300元及保險費率1%估算。
A25: 滯納金收入 | B25: 24373
A27: 農保及農職保 | B27: =B28+B35 -> 3298898
A28: 保費收入 | B28: =+B29+B32 -> 3265722 | C28: 詳第67~68、74頁保費收入分析表及附表。
A29: 保費收入 | B29: =+B30+B31 -> 3254654
A30: 農保 | B30: 3158654 | C30: 係依投保人數101萬2千人、投保薪資10,200元及保險費率2.55%估算。
A31: 農職保 | B31: 96000 | C31: 係依投保人數32萬人、投保薪資10,200元及保險費率0.24%估算。
A32: 滯納金收入 | B32: =+B33 -> 11068
A33: 農保 | B33: 11068
A35: 收回責任準備 | B35: =+B36 -> 33176 | C35: 係本年度農職保，收支短絀為33,176千元，悉數由以前年度累積之提存責任準備彌平。
A36: 農職保 | B36: 33176
A38: 職業災害勞工保護 | B38: =B39 -> 150725
A39: 收回責任準備 | B39: =SUM(B40:B41) -> 150725 | C39: 勞動部職業安全衛生署辦理，係本年度職業災害勞工保護已加保勞工部分，收支短絀為150,725千元，悉數由以前年度累積之提存責任準備彌平。
A40: 已加保勞工 | B40: 150725
A41: 未加保勞工
A43: 勞職保及保護 | B43: =B47+B44 -> 7767857
A44: 保費收入 | B44: =SUM(B45:B46) -> 6760215 | C44: 詳第68~69、74~76頁保費收入分析表及附表。
A45: 保費收入 | B45: 6749590 | C45: 係依投保人數1,086萬人、平均月投保薪資38,700元及平均費率0.20%估算。
A46: 滯納金收入 | B46: 10625
A47: 收回責任準備 | B47: 1007642 | C47: 係本年度收支短絀為1,007,642千元，悉數由勞工保險業務項下職業災害保險、職業災害勞工保護業務轉入之責任準備彌平。

Sheet 其他業務收入明細表
A1: 勞 動 部 勞 工 保 險 局
A2: 勞 工 保 險 局 作 業 基 金
A3: 其他業務收入明細表
A4: 中華民國111年度 單位：新臺幣千元
A5: 科目及業務項目 | B5: 預算數 | C5: 說明
A9: 其他業務收入 | B9: =+B10+B13+B18 -> 33499014 | C9: 本科目勞動部勞工保險局辦理33,468,014千元；勞動部職業安全衛生署辦理31,000千元。 | D9: =+B10+B13 -> 33468014 | E9: =+B19 -> 31000 | F9: =+D9+E9 -> 33499014
A10: 勞工保險 | B10: =+B11 -> 30000000
A11: 其他補助收入 | B11: 30000000 | C11: 係政府撥補勞工保險基金。
A13: 農保及農職保 | B13: =B14 -> 3468014
A14: 其他補助收入 | B14: =+B15+B16 -> 3468014
A15: 農保 | B15: 3468014 | C15: 係農保收入減支出後之虧損數3,468,014千元，依農民健康保險條例第44條規定，由主管機關撥補。
A16: 農職保 | C16: 係農職保收入減支出後之虧損數13,829千元，依農民健康保險條例第44條之3規定，由主管機關撥補。
A18: 職業災害勞工保護 | B18: =B19+B20 -> 31000 | C18: 本項目全數由勞動部職業安全衛生署辦理。
A19: 其他補助收入 | B19: 31000 | C19: 係政府補助未加入勞工保險而遭遇職業災害勞工之各項補助。
A20: 雜項業務收入 | C20: 係依職業災害勞工保護法第34條但書規定所處罰鍰。

Sheet 業務外收入明細表
A1: 勞 動 部 勞 工 保 險 局
A2: 勞 工 保 險 局 作 業 基 金
A3: 業務外收入明細表
A4: 中華民國111年度 單位：新臺幣千元
A5: 科目及業務項目 | B5: 預算數 | C5: 說明
A9: 業務外收入 | B9: =+B10+B25+B31+B39+B43 -> 257048 | C9: 本科目勞動部勞工保險局辦理254,498千元；勞動部職業安全衛生署辦理2,550千元。
A10: 勞工保險 | B10: =B11+B15 -> 232855
A11: 財務收入 | B11: =B12 -> 332
A12: 利息收入 | B12: =SUM(B13:B14) -> 332 | C12: 係申請人溢領保險給付，經函請退還溢領款項，逾期未繳還經移送行政執行署依法執行後，依當年度1月1日郵政儲金1年期定期存款固定利率加計利息所產生之遲延利息。
A13: 普通事故 | B13: 326
A14: 職業災害 | B14: 6
A15: 其他業務外收入 | B15: =B18+B21+B16 -> 232523
A16: 違規罰款收入 | B16: =SUM(B17:B17) -> 700 | C16: 係被保險人貸款違約金收入。
A17: 普通事故 | B17: 700
A18: 收回呆帳 | B18: =SUM(B19:B20) -> 223444 | C18: 係預估呆帳收回。
A19: 普通事故 | B19: 220419
A20: 職業災害 | B20: 3025
A21: 雜項收入 | B21: =SUM(B22:B23) -> 8379 | C21: 主要係應付保管款逾4年轉入等收入。
A22: 普通事故 | B22: 8378
A23: 職業災害 | B23: 1
A25: 就業保險 | B25: =B26+B28 -> 8512
A26: 財務收入 | B26: =B27 -> 73
A27: 利息收入 | B27: 73 | C27: 係申請人溢領保險給付，經函請退還溢領款項，逾期未繳還經移送行政執行署依法執行後，依當年度1月1日郵政儲金1年期定期存款固定利率加計利息所產生之遲延利息。
A28: 其他業務外收入 | B28: =SUM(B29:B30) -> 8439
A29: 收回呆帳 | B29: 8060 | C29: 係預估呆帳收回。
A30: 雜項收入 | B30: 379 | C30: 主要係應付保管款逾4年轉入等收入。
A31: 農保及農職保 | B31: =B32+B35 -> 6065
A32: 財務收入 | B32: =B33 -> 3
A33: 利息收入 | B33: =+B34 -> 3 | C33: 係申請人溢領保險給付，經函請退還溢領款項，逾期未繳還經移送行政執行署依法執行後，依當年度1月1日郵政儲金1年期定期存款固定利率加計利息所產生之遲延利息。
A34: 農保 | B34: 3
A35: 其他業務外收入 | B35: =+B36 -> 6062
A36: 收回呆帳 | B36: =+B37 -> 6062 | C36: 係預估呆帳收回。
A37: 農保 | B37: 6062
A39: 職業災害勞工保護 | B39: =B40+B42 -> 780
A40: 其他業務外收入 | B40: =B41 -> 780
A41: 違規罰款收入 | B41: 780 | C41: 係依職業災害勞工保護法第34條規定所處罰鍰。
A43: 勞職保及保護 | B43: =B46+B44 -> 8836
A44: 財務收入 | B44: =B45 -> 13
A45: 利息收入 | B45: 13 | C45: 係申請人溢領保險給付，經函請退還溢領款項，逾期未繳還經移送行政執行署依法執行後，依當年度1月1日郵政儲金1年期定期存款固定利率加計利息所產生之遲延利息。
A46: 其他業務外收入 | B46: =SUM(B47:B49) -> 8823
...

Sheet 出租資產成本明細表
A1: 勞 動 部 勞 工 保 險 局
A2: 勞 工 保 險 局 作 業 基 金
A3: 出租資產成本明細表
A4: 中華民國111年度 單位：新臺幣千元
A5: 前年度決算數 | B5: 上年度預算數 | C5: 科目及業務計畫項目 | D5: 本年度預算數
A7: 37228 | B7: =+B8 -> 21280 | C7: 出租資產成本 | D7: =+D8 -> 39738
A8: 37228 | B8: =+B9 -> 21280 | C8: 勞工保險 | D8: =+D9 -> 39738
A9: 37228 | B9: =B10+B20+B17+B24 -> 21280 | C9: 投資性不動產成本 （普通事故） | D9: =D10+D20+D17+D24 -> 39738
A10: 1433 | B10: =SUM(B11:B16) -> 2867 | C10: 服務費用 | D10: =SUM(D11:D16) -> 2791
A11: 1 | B11: 7 | C11: 水電費 | D11: 7
A12: 1 | B12: 0 | C12: 印刷裝訂及公告費 | D12: 1
A13: 1125 | B13: 2195 | C13: 修理保養及保固費 | D13: 2118
A14: 0 | B14: 121 | C14: 保險費 | D14: 121
A15: 306 | B15: 394 | C15: 一般服務費 | D15: 394
A16: 0 | B16: 150 | C16: 專業服務費 | D16: 150
A17: 16764 | B17: =B18+B19 -> 16763 | C17: 折舊、折耗及攤銷 | D17: =D18+D19 -> 16764
A18: 16155 | B18: 16154 | C18: 投資性不動產折舊 | D18: 16155
A19: 609 | B19: 609 | C19: 攤銷 | D19: 609
A20: 19014 | B20: =SUM(B21:B23) -> 1488 | C20: 稅捐與規費（強制費） | D20: =SUM(D21:D23) -> 20021
A21: 19009 | B21: 1467 | C21: 土地稅 | D21: 20000
A22: 1 | B22: 13 | C22: 房屋稅 | D22: 13
A23: 4 | B23: 8 | C23: 規費 | D23: 8
A24: 16 | B24: =B25 -> 162 | C24: 其他 | D24: =D25 -> 162
A25: 16 | B25: 162 | C25: 其他費用 | D25: 162

Sheet 出租資產成本說明
A1: 勞 動 部 勞 工 保 險 局
A2: 勞 工 保 險 局 作 業 基 金
A3: 出租資產成本說明
A4: 中華民國111年度
A5: 科 目 | B5: 說 明
A7: 出租資產成本 | B7: 本科目全數由勞動部勞動基金運用局辦理39,738千元。
A8: 勞工保險
A9: 投資性不動產成本 （普通事故）
A10: 服務費用
A11: 水電費 | B11: 編列7千元，係基金投資之不動產，招租期間之基本水電費等。
A12: 旅運費 | B12: 編列千元，係基金投資之不動產，辦理相關業務所需旅運費等。
A13: 印刷裝訂及公告費 | B13: 編列1千元，係基金投資之不動產，刊登房屋出租公告等。
A14: 修理保養及保固費 | B14: 編列2,118千元，係基金投資不動產之房屋修護費用等。
A15: 保險費 | B15: 編列121千元，係基金投資不動產之保險費用。
A16: 一般服務費 | B16: 編列394千元，係基金投資不動產之房屋公證費、國產署代標租之作業費用等。
A17: 專業服務費 | B17: 編列150千元，為委託調查研究費編列150千元，係基金不動產鑑價費用。
A18: 折舊、折耗及攤銷
A19: 投資性不動產折舊 | B19: 編列16,155千元，係提列投資取得不動產之折舊。
A20: 攤銷 | B20: 編列609千元，係投資性不動產之攤銷。
A21: 稅捐與規費（強制費）
A22: 土地稅 | B22: 編列20,000千元，係基金投資不動產之土地地價稅。
A23: 房屋稅 | B23: 編列13千元，係基金投資不動產之房屋稅。
A24: 規費 | B24: 編列8千元，係基金投資不動產之行政規費。
A25: 其他
A26: 其他費用 | B26: 編列162千元，係基金投資不動產之其他費用。

Sheet 投融資業務成本明細表
A1: 勞 動 部 勞 工 保 險 局
A2: 勞 工 保 險 局 作 業 基 金
A3: 投融資業務成本明細表
A4: 中華民國111年度 單位：新臺幣千元
A5: 前年度決算數 | B5: 上年度預算數 | C5: 科目及業務計畫項目 | D5: 本年度預算數
A7: 163640884 | B7: =B8+B37+B48 -> 973763 | C7: 投融資業務成本 | D7: =D8+D37+D48+D53 -> 1003916 | E7: =+A8+A37+A48 -> 163640884 | F7: =+A7-E7 -> 0
A8: 161837678 | B8: =+B9+B31+B34 -> 972909 | C8: 勞工保險 | D8: =+D9+D31+D34 -> 1003459 | E8: =+A9+A31+A34 -> 161837678
A9: 131380419 | B9: =B10+B28+B25+B22 -> 904909 | C9: 投資業務成本 | D9: =D10+D28+D25+D22 -> 935459
A10: 818002 | B10: =+B11+B13+B15+B17+B20 -> 904909 | C10: 服務費用 | D10: =+D11+D13+D15+D17+D20 -> 935459
A11: 0 | B11: =+B12 -> 0 | C11: 郵電費 | D11: =+D12 -> 0
A12: 0 | B12: 0 | C12: 普通事故 | D12: 0
A13: 0 | B13: =+B14 -> 0 | C13: 旅運費 | D13: =+D14 -> 0
A14: 0 | B14: 0 | C14: 普通事故 | D14: 0
A15: 0 | B15: =+B16 -> 0 | C15: 印刷裝訂與廣告費 | D15: =+D16 -> 0
A16: 0 | B16: 0 | C16: 普通事故 | D16: 0
A17: 808425 | B17: =SUM(B18:B19) -> 868854 | C17: 一般服務費 | D17: =SUM(D18:D19) -> 899877
A18: 808425 | B18: 868854 | C18: 普通事故 | D18: 899877
A19: 0 | B19: 0 | C19: 職業災害 | D19: 0
A20: 9577 | B20: =B21 -> 36055 | C20: 專業服務費 | D20: =D21 -> 35582
A21: 9577 | B21: 36055 | C21: 普通事故 | D21: 35582
A22: 0 | B22: =B23 -> 0 | C22: 材料及用品費 | D22: =D23 -> 0
A23: 0 | B23: =+B24 -> 0 | C23: 用品消耗 | D23: =+D24 -> 0
A24: 0 | B24: 0 | C24: 普通事故 | D24: 0
A25: 67260 | B25: =B26 -> 0 | C25: 租金與利息 | D25: =D26 -> 0
A26: 67260 | B26: =+B27 -> 0 | C26: 利息 | D26: =+D27 -> 0
A27: 67260 | B27: 0 | C27: 普通事故 | D27: 0
A28: 130495156 | B28: =B29 -> 0 | C28: 短絀、賠償與保險給付 | D28: =D29 -> 0
A29: 130495156 | B29: 0 | C29: 各項短絀 | D29: 0
A30: 130495156 | B30: 0 | C30: 普通事故 | D30: 0
A31: 43990 | B31: =B32 -> 68000 | C31: 融資業務成本（普通事故） | D31: =D32 -> 68000
A32: 43990 | B32: =B33 -> 68000 | C32: 服務費用 | D32: =D33 -> 68000
A33: 43990 | B33: 68000 | C33: 一般服務費 | D33: 68000
A34: 30413269 | B34: =B35 -> 0 | C34: 兌換短絀（普通事故） | D34: =D35 -> 0
A35: 30413269 | B35: =B36 -> 0 | C35: 短絀、賠償與保險給付 | D35: =D36 -> 0
A36: 30413269 | B36: 0 | C36: 各項短絀 | D36: 0
A37: 1803181 | B37: =B38+B45 -> 824 | C37: 就業保險 | D37: =D38+D45 -> 450 | E37: =+E38+E45 -> 1803181
A38: 8306 | B38: =B39+B41+B43 -> 824 | C38: 投資業務成本 | D38: =D39+D41+D43 -> 450 | E38: =+A39+A41+A43 -> 8306
A39: 277 | B39: =SUM(B40) -> 318 | C39: 服務費用 | D39: =SUM(D40) -> 450
A40: 277 | B40: 318 | C40: 一般服務費 | D40: 450
A41: 504 | B41: =SUM(B42) -> 506 | C41: 折舊、折耗及攤銷 | D41: =SUM(D42) -> 0
...

Sheet 投融資業務成本說明
A1: 勞 動 部 勞 工 保 險 局
A2: 勞 工 保 險 局 作 業 基 金
A3: 投融資業務成本說明
A4: 中華民國111年度
A5: 科 目 | B5: 說 明
A7: 投融資業務成本 | B7: 本科目勞動部勞工保險局辦理68,000千元；勞動部勞動基金運用局辦理935,916千元。
A8: 勞工保險
A9: 投資業務成本
A10: 服務費用
A11: 郵電費 | B11: 編列千元，係基金委託評選案審查文件郵費等。
A12: 旅運費 | B12: 編列千元，係基金委託經營外聘委員之旅運費等。
A13: 印刷裝訂與廣告費 | B13: 編列千元，係基金國外委託經營之評選文件印刷費等。
A14: 一般服務費 | B14: 編列899,877千元，係基金委託經營之經理費等。
A15: 專業服務費 | B15: 編列35,582千元，係國外投資委任律師處理訴訟費及委託經營聘請顧問費等。其中委託調查研究費編列1,512千元，係依據勞動基金委託經營要點第5點規定，委託專業投資顧問公司協助辦理國外委託經營受託機構之遴選、績效評定及考核管理之國外監控顧問案。
A16: 材料及用品費
A17: 用品消耗 | B17: 編列千元，係基金委託經營評選會議便當等。
A18: 融資業務成本
A19: 服務費用
A20: 一般服務費 | B20: 編列68,000千元，由勞動部勞工保險局辦理，係辦理被保險人貸款之手續費。
A21: 就業保險
A22: 投資業務成本
A23: 服務費用
A24: 一般服務費 | B24: 編列450千元，係短期票券帳務維護費。
A25: 折舊、折耗及攤銷
A26: 攤銷 | B26: 編列506千元，係建置就業保險基金投資整合資訊系統，依使用年限編列攤銷費用。
A27: 職業災害勞工保護
A28: 投資業務成本
A29: 服務費用
A30: 一般服務費 | B30: 編列2千元，係定存利息匯款手續費。
A31: 勞職保及保護
A32: 投資業務成本
A33: 服務費用
A34: 一般服務費 | B34: 編列5千元，係定存利息匯款手續費。

Sheet 保險成本明細表
A1: 勞 動 部 勞 工 保 險 局
A2: 勞 工 保 險 局 作 業 基 金
A3: 保險成本明細表
A4: 中華民國111年度 單位：新臺幣千元
A5: 前年度決算數 | B5: 上年度預算數 | C5: 科目及業務計畫項目 | D5: 本年度預算數
A7: 528468804 | B7: =B8+B25+B36+B49 -> 529456737 | C7: 保險成本 | D7: =D8+D25+D36+D49+D62 -> 564491226 | E7: =+A8+A25+A36+A49 -> 528468804 | F7: =+A7-E7 -> 0
A8: 493324218 | B8: =B9+B14+B19 -> 493513068 | C8: 勞工保險 | D8: =D9+D14+D19 -> 522207384 | E8: =+A9+A14+A19 -> 493324218 | F8: =+A8-E8 -> 0
A9: 456241973 | B9: =B10 -> 491651979 | C9: 保險給付 | D9: =D10 -> 520975856
A10: 456241973 | B10: =B11 -> 491651979 | C10: 短絀、賠償與保險給付 | D10: =D11 -> 520975856
A11: 456241973 | B11: =SUM(B12:B13) -> 491651979 | C11: 保險給付 | D11: =SUM(D12:D13) -> 520975856
A12: 448797088 | B12: 484271046 | C12: 普通事故 | D12: 518440489
A13: 7444884 | B13: 7380933 | C13: 職業災害 | D13: 2535367
A14: 36327167 | B14: =B15 -> 1159558 | C14: 提存責任準備 | D14: =D15 -> 387583
A15: 36327167 | B15: =B16 -> 1159558 | C15: 短絀、賠償與保險給付 | D15: =D16 -> 387583
A16: 36327167 | B16: =SUM(B17:B18) -> 1159558 | C16: 提存 | D16: =SUM(D17:D18) -> 387583
A17: 35590076 | B17: 0 | C17: 普通事故 | D17: 0
A18: 737091 | B18: 1159558 | C18: 職業災害 | D18: 387583
A19: 755078 | B19: =B20 -> 701531 | C19: 呆帳 | D19: =D20 -> 843945
A20: 755078 | B20: =B21 -> 701531 | C20: 短絀、賠償與保險給付 | D20: =D21 -> 843945
A21: 755078 | B21: =SUM(B22:B23) -> 701531 | C21: 各項短絀 | D21: =SUM(D22:D23) -> 843945
A22: 734129 | B22: 681537 | C22: 普通事故 | D22: 835749
A23: 20949 | B23: 19994 | C23: 職業災害 | D23: 8196
A25: 27464684 | B25: =B26+B29+B32 -> 28391151 | C25: 就業保險 | D25: =D26+D29+D32 -> 28401381 | E25: =+A26+A29+A32 -> 27464684 | F25: =+A25-E25 -> 0
A26: 23106476 | B26: =B27 -> 22823256 | C26: 保險給付 | D26: =D27 -> 23777464
A27: 23106476 | B27: =B28 -> 22823256 | C27: 短絀、賠償與保險給付 | D27: =D28 -> 23777464
A28: 23106476 | B28: 22823256 | C28: 保險給付 | D28: 23777464
A29: 4319223 | B29: =B30 -> 5527767 | C29: 提存責任準備 | D29: =D30 -> 4573039
A30: 4319223 | B30: =B31 -> 5527767 | C30: 短絀、賠償與保險給付 | D30: =D31 -> 4573039
A31: 4319223 | B31: 5527767 | C31: 提存 | D31: 4573039
A32: 38985 | B32: =B33 -> 40128 | C32: 呆帳 | D32: =D33 -> 50878
A33: 38985 | B33: =B34 -> 40128 | C33: 短絀、賠償與保險給付 | D33: =D34 -> 50878
A34: 38985 | B34: 40128 | C34: 各項短絀 | D34: 50878
A36: 7152718 | B36: =B37+B45+B42 -> 6925121 | C36: 農保及農職保 | D36: =D37+D45+D42 -> 6759343 | E36: =+A37+A45 -> 6946546 | F36: =+A36-E36 -> 206172
A37: 6940840 | B37: =B38 -> 6916286 | C37: 保險給付 | D37: =D38 -> 6752689
A38: 6940840 | B38: =B39 -> 6916286 | C38: 短絀、賠償與保險給付 | D38: =D39 -> 6752689
A39: 6940840 | B39: =+B40+B41 -> 6916286 | C39: 保險給付 | D39: =+D40+D41 -> 6752689
A40: 6868551 | B40: 6794437 | C40: 農保 | D40: 6623421
A41: 72288 | B41: 121849 | C41: 農職保 | D41: 129268
A42: 206173 | B42: =B43 -> 0 | C42: 提存責任準備(農職保) | D42: =D43 -> 0
A43: 206173 | B43: =B44 -> 0 | C43: 短絀、賠償與保險給付 | D43: =D44 -> 0
...

Sheet 保險成本說明
A1: 勞 動 部 勞 工 保 險 局
A2: 勞 工 保 險 局 作 業 基 金
A3: 保險成本說明
A4: 中華民國111年度
A5: 科 目 | B5: 說 明
A7: 保險成本 | B7: 本科目勞動部勞工保險局辦理564,136,674千元；勞動部職業安全衛生署辦理354,552千元。 | E7: 355552 | F7: 564136674 | G7: =+E7+F7 -> 564492226
A8: 勞工保險
A9: 保險給付
A10: 短絀、賠償與保險給付
A11: 保險給付 | B11: 編列520,975,856千元，係參考以前年度統計資料預估各項給付事故、發生率及單價等因素，詳第77~79頁保險給付分析表，其中：
B12: 1. | C12: 普通事故：編列518,440,489千元，主要包含生育、傷病、失能、老年及死亡五項給付。
B13: 2. | C13: 職業災害：編列2,535,367千元，主要包含傷病、醫療、失能及死亡四項給付。
A14: 提存責任準備
A15: 短絀、賠償與保險給付
A16: 提存 | B16: 編列387,583千元，係勞工保險-職業災害之收入減支出後之餘額，悉數轉列提存責任準備。
A17: 呆帳
A18: 短絀、賠償與保險給付
A19: 各項短絀 | B19: 編列843,945千元，係按其他應收款及催收款項餘額依回收情況提列呆帳。
A21: 就業保險
A22: 保險給付
A23: 短絀、賠償與保險給付
A24: 保險給付 | B24: 編列23,777,464千元，係參考以前年度相關給付、津貼執行情形，包含失業給付、提早就業獎助津貼、職業訓練生活津貼、育嬰留職停薪津貼及補助全民健保費，詳第80頁保險給付分析表。
A25: 提存責任準備
A26: 短絀、賠償與保險給付
A27: 提存 | B27: 編列4,573,039千元，係就業保險收入減支出後之餘額，悉數轉列提存責任準備。
A28: 呆帳
A29: 短絀、賠償與保險給付
A30: 各項短絀 | B30: 編列50,878千元，係按其他應收款及催收款項餘額依回收情況提列呆帳。
A32: 農保及農職保
A33: 保險給付
A34: 短絀、賠償與保險給付
A35: 保險給付 | B35: 編列6,752,689千元，係參考以前年度統計資料預估各項給付發生率及單價等因素，詳第80~81頁保險給付分析表，其中：
B36: 1. | C36: 農保：編列6,623,421千元，主要包含生育給付、身心障礙給付及喪葬津貼。
B37: 2. | C37: 農職保：編列129,268千元，主要包含傷害給付、身心障礙給付、就醫津貼及喪葬津貼。
A38: 呆帳
A39: 短絀、賠償與保險給付
A40: 各項短絀 | B40: 編列6,654千元，係農保按催收款項餘額依回收情況提列呆帳。
A42: 職業災害勞工保護 | B42: 本項目全數由勞動部職業安全衛生署辦理。
A43: 保險給付
A44: 短絀、賠償與保險給付
...

Sheet 其他業務成本明細表
A1: 勞 動 部 勞 工 保 險 局
A2: 勞 工 保 險 局 作 業 基 金
A3: 其他業務成本明細表
A4: 中華民國111年度 單位：新臺幣千元
A5: 前年度決算數 | B5: 上年度預算數 | C5: 科目及業務計畫項目 | D5: 本年度預算數
A7: 2616877 | B7: =B13+B18+B23+B8 -> 3512763 | C7: 其他業務成本 | D7: =D13+D18+D23+D8+D28 -> 4713511 | E7: =+A8+A13+A18+A23 -> 2616877
B8: =B9 -> 0 | C8: 勞工保險 | D8: =D9 -> 0
B9: =B10 -> 0 | C9: 雜項業務成本(普通事故) | D9: =D10 -> 0
B10: =+B11 -> 0 | C10: 其他 | D10: =+D11 -> 0
B11: 0 | C11: 其他費用 | D11: 0
A13: 2500411 | B13: =B14 -> 3428053 | C13: 就業保險 | D13: =D14 -> 3700011
A14: 2500411 | B14: =B15 -> 3428053 | C14: 雜項業務成本 | D14: =D15 -> 3700011
A15: 2500411 | B15: =B16 -> 3428053 | C15: 其他 | D15: =D16 -> 3700011
A16: 2500411 | B16: 3428053 | C16: 其他費用 | D16: =3702011-2000 -> 3700011
A18: 76198 | B18: =B19 -> 32750 | C18: 農保及農職保 | D18: =D19 -> 13818
A19: 76198 | B19: =B20 -> 32750 | C19: 雜項業務成本(農保) | D19: =D20 -> 13818
A20: 76198 | B20: =B21 -> 32750 | C20: 租金與利息 | D20: =D21 -> 13818
A21: 76198 | B21: 32750 | C21: 利息 | D21: 13818
A23: 40268 | B23: =B24 -> 51960 | C23: 職業災害勞工保護 | D23: =D24 -> 15886
A24: 40268 | B24: =B25+B27 -> 51960 | C24: 雜項業務成本(未加保勞工) | D24: =D25+D27 -> 15886
A25: 40268 | B25: =B26 -> 51960 | C25: 短絀、賠償與保險給付 | D25: =D26 -> 15886
A26: 40268 | B26: 51960 | C26: 保險給付 | D26: 15886
A28: =A29 -> 0 | B28: =B29 -> 0 | C28: 勞職保及保護 | D28: =D29 -> 983796
A29: =SUM(A30,A40,A43,A49) -> 0 | B29: =SUM(B30,B40,B43,B49) -> 0 | C29: 雜項業務成本 | D29: =SUM(D30,D40,D43,D49) -> 983796
A30: =SUM(A31:A39) -> 0 | B30: =SUM(B31:B39) -> 0 | C30: 服務費用 | D30: =SUM(D31:D39) -> 440749
A31: 0 | B31: 0 | C31: 水電費 | D31: 569
A32: 0 | B32: 0 | C32: 郵電費 | D32: 872
A33: 0 | B33: 0 | C33: 旅運費 | D33: 5967
A34: 0 | B34: 0 | C34: 印刷裝訂及公告費 | D34: 1700
A35: 0 | B35: 0 | C35: 保險費 | D35: 60
A36: 0 | B36: 0 | C36: 一般服務費 | D36: 149859
A37: 0 | B37: 0 | C37: 專業服務費 | D37: =11124+260896 -> 272020
A38: 0 | B38: 0 | C38: 媒體政策及業務宣導費 | D38: 672
A39: 0 | B39: 0 | C39: 行銷推廣費 | D39: =10030-1000 -> 9030
A40: =SUM(A41:A42) -> 0 | B40: =SUM(B41:B42) -> 0 | C40: 材料及用品費 | D40: =SUM(D41:D42) -> 3100
A41: 0 | B41: 0 | C41: 使用材料費 | D41: 1567
A42: 0 | B42: 0 | C42: 用品消耗 | D42: 1533
A43: =SUM(A44:A48) -> 0 | B43: =SUM(B44:B48) -> 0 | C43: 租金與利息 | D43: =SUM(D44:D48) -> 2839
A44: 0 | B44: 0 | C44: 地租及水租 | D44: 10
A45: 0 | B45: 0 | C45: 房租 | D45: 1189
...

Sheet 其他業務成本說明
A1: 勞 動 部 勞 工 保 險 局
A2: 勞 工 保 險 局 作 業 基 金
A3: 其他業務成本說明
A4: 中華民國111年度
A5: 科 目 | B5: 說 明
A7: 其他業務成本 | B7: 本科目勞動部及所屬機關辦理3,700,011千元；勞動部勞工保險局辦理274,714千元；勞動部職業安全衛生署辦理738,786千元。 | D7: 3700011 | E7: 274714 | F7: 738786 | G7: =SUM(D7:F7) -> 4713511
A8: 就業保險
A9: 雜項業務成本
A10: 其他
A11: 其他費用 | B11: 編列3,700,011千元，由勞動部及所屬機關辦理，係依就業保險法第12條第3項規定，辦理被保險人之在職訓練、被保險人失業後之職業訓練、創業協助及其他促進就業措施、被保險人之僱用安定措施、雇主僱用失業勞工之獎助等業務。
A13: 農保及農職保
A14: 雜項業務成本
A15: 租金與利息
A16: 利息 | B16: 編列13,818千元，由勞動部勞工保險局辦理，係農保虧損向勞工保險基金借款之利息支出，預估111年度平均借款金額為647,213千元，平均借款利率2.135%。貸款機關為勞動部勞動基金運用局，貸款用途為補足農保當年度收支不足數。
A18: 職業災害勞工保護
A19: 雜項業務成本
A20: 短絀、賠償與保險給付
A21: 保險給付 | B21: 編列15,886千元，由勞動部職業安全衛生署辦理，係政府對未加保勞工而遭遇職業災害者之各項補助，並參考以前年度執行情形核實編列，詳第88頁雜項業務成本分析表─職業災害勞工保護。
A23: 勞職保及保護
A24: 雜項業務成本 | B24: 編列983,796千元，由勞動部勞工保險局辦理260,896千元及勞動部職業安全衛生署辦理722,900千元，係依勞工職業災害保險及保護法第62條規定辦理職業災害預防及重建等業務，詳第89~90頁雜項業務成本分析表─勞職保及保護。 | D24: 260896 | E24: 722900 | F24: =SUM(D24:E24) -> 983796
A25: 服務費用
A26: 水電費 | B26: 編列569千元，係業務實際需要並遵行節能減碳政策之水電費。
A27: 郵電費 | B27: 編列872千元，係郵費、電話費及數據通信費等。
A28: 旅運費 | B28: 編列5,967千元，係按國內出差旅費報支要點規定之國內旅費等。
A29: 印刷裝訂及公告費 | B29: 編列1,700千元，係各種文件、表單、報表、書函等之印刷及裝訂費。
A30: 保險費 | B30: 編列60千元，係責任保險費等。
A31: 一般服務費 | B31: 編列149,859千元，係委託廠商之服務費等；其中勞務承攬人力預計進用2人，編列787千元；契僱人力預計進用9人，編列3,230千元。
A32: 專業服務費 | B32: 編列272,020千元，係辦理各項講習之講課鐘點費與邀請專家學者及採購評選委員之出席費、電腦軟體服務費等11,124千元，以及預防職業病健康檢查260,896千元。
A33: 媒體政策及業務宣導費 | B33: 編列672千元，係辦理職業安全衛生知能及教育訓練宣導，相關媒體宣導製作、託播及刊登等經費。
A34: 行銷推廣費 | B34: 編列9,030千元，係運用研究成果與配合產業特性或展示主題，製作勞動及安全衛生展品，進行多元化展示，推廣安全衛生意識等。
A35: 材料及用品費
A36: 使用材料費 | B36: 編列1,567千元，係租賃車輛之燃料等。
A37: 用品消耗 | B37: 編列1,533千元，係各種辦公用品及其他雜支等。
A38: 租金與利息
A39: 地租及水租 | B39: 編列10千元，係租賃室外場地等租金。
A40: 房租 | B40: 編列1,189千元，係租賃室內活動場地等租金。
A41: 機器租金 | B41: 編列500千元，係租賃機械及設備等租金。
A42: 交通及運輸設備租金 | B42: 編列1,100千元，係租賃檢查車輛租金。
A43: 什項設備租金 | B43: 編列40千元，係租賃什項設備租金。
A44: 會費、捐助、補助、分攤 、救助(濟)與交流活動費
...

Sheet 業務外費用明細表
A1: 勞 動 部 勞 工 保 險 局
A2: 勞 工 保 險 局 作 業 基 金
A3: 業務外費用明細表
A4: 中華民國111年度 單位：新臺幣千元
A5: 前年度決算數 | B5: 上年度預算數 | C5: 科目及業務計畫項目 | D5: 本年度預算數
A7: 140 | B7: =B8+B16 -> 37 | C7: 業務外費用 | D7: =D8+D16 -> 73
A8: 125 | B8: =B9 -> 26 | C8: 勞工保險 | D8: =D9 -> 62
A9: 125 | B9: =B10 -> 26 | C9: 其他業務外費用 | D9: =D10 -> 62
A10: 125 | B10: =B11 -> 26 | C10: 雜項費用 | D10: =D11 -> 62
A11: 125 | B11: =B12 -> 26 | C11: 其他 | D11: =D12 -> 62
A12: 125 | B12: =SUM(B13:B14) -> 26 | C12: 其他費用 | D12: =SUM(D13:D14) -> 62
A13: 125 | B13: 14 | C13: 普通事故 | D13: 62
A14: 0 | B14: 12 | C14: 職業災害 | D14: 0
A16: 15 | B16: =B17 -> 11 | C16: 就業保險 | D16: =D17 -> 11
A17: 15 | B17: =B18 -> 11 | C17: 其他業務外費用 | D17: =D18 -> 11
A18: 15 | B18: =B19 -> 11 | C18: 雜項費用 | D18: =D19 -> 11
A19: 15 | B19: =B20 -> 11 | C19: 其他 | D19: =D20 -> 11
A20: 15 | B20: 11 | C20: 其他費用 | D20: 11

Sheet 業務外費用說明
A1: 勞 動 部 勞 工 保 險 局
A2: 勞 工 保 險 局 作 業 基 金
A3: 業務外費用說明
A4: 中華民國111年度
A5: 科 目 | B5: 說 明
A7: 業務外費用 | B7: 本科目全數由勞動部勞工保險局辦理。
A8: 勞工保險
A9: 其他業務外費用
A10: 雜項費用
A11: 其他
A12: 其他費用 | B12: 係應付保管款滿4年轉雜項收入後再提出申請編列50千元及依據勞動部改制前之行政院勞工委員會93年10月26日勞保1字第0930051342號函示，同意投保單位繳納保險費之金額差異在新臺幣10元以下者，轉列雜項費用編列12千元。 | G12: 普通組50千元 保費組12千元
A13: 就業保險
A14: 其他業務外費用
A15: 雜項費用
A16: 其他
A17: 其他費用 | B17: 係依據勞動部改制前之行政院勞工委員會93年10月26日勞保1字第0930051342號函示，同意投保單位繳納保險費之金額差異在新臺幣10元以下者，轉列雜項費用編列11千元。
A19: 就業保險
A20: 其他業務外費用
A21: 雜項費用
A22: 其他
A23: 其他費用 | B23: 編列0千元，係應付保管款滿4年轉雜項收入後再提出申請。

Sheet 資產折舊明細表
A1: 勞 動 部 勞 工 保 險 局
A2: 勞 工 保 險 局 作 業 基 金
A3: 資產折舊明細表
A4: 中華民國 111年度 單位：新臺幣千元
A5: 項目 | B5: 不動產、廠房及設備 | J5: 投資性 不動產 | K5: 其他 | L5: 合 計
B6: 土地 改 良物 | C6: 房屋及 建築 | D6: 機械及 設備 | E6: 交通 及運 輸設備 | F6: 什 項 設 備 | G6: 租賃 權益 | H6: 租賃權 益改良 | I6: 生產 性 植物
A7: 前年度決算資產原值 | B7: 0 | C7: 0 | D7: 0 | E7: 0 | F7: 0 | G7: 0 | H7: 0 | I7: 0 | J7: 1931021 | K7: 0 | L7: =SUM(B7:K7) -> 1931021
A8: 上年度預計增減資產原值 | B8: 0 | C8: 0 | D8: 0 | E8: 0 | F8: 0 | G8: 0 | H8: 0 | I8: 0 | J8: 0 | K8: 0 | L8: =SUM(B8:K8) -> 0
A9: 本年度預計增減資產原值 | B9: =B7-B8 -> 0 | C9: =C7-C8 -> 0 | D9: =D7-D8 -> 0 | E9: =E7-E8 -> 0 | F9: =F7-F8 -> 0 | G9: =G7-G8 -> 0 | H9: =H7-H8 -> 0 | I9: 0 | J9: 0 | K9: =K7-K8 -> 0 | L9: =SUM(B9:K9) -> 0
A10: 資產重估增值額 | B10: 0 | C10: 0 | D10: 0 | E10: 0 | F10: 0 | G10: 0 | H10: 0 | I10: 0 | J10: 0 | K10: 0 | L10: =SUM(B10:K10) -> 0
A11: 本年度(12月底)止資產總額 | B11: 0 | C11: 0 | D11: 0 | E11: 0 | F11: 0 | G11: 0 | H11: 0 | I11: 0 | J11: 1931021 | K11: 0 | L11: =SUM(B11:K11) -> 1931021
A12: 本年度應提折舊額 | B12: 0 | C12: 0 | D12: 0 | E12: 0 | F12: 0 | G12: 0 | H12: 0 | I12: 0 | J12: =J13 -> 16155 | K12: 0 | L12: =SUM(B12:K12) -> 16155
A13: 出租資產 成本 | B13: 0 | C13: 0 | D13: 0 | E13: 0 | F13: 0 | G13: 0 | H13: 0 | I13: 0 | J13: =J14 -> 16155 | K13: 0 | L13: =SUM(B13:K13) -> 16155
A14: 投資性 不動產 折舊 | B14: 0 | C14: 0 | D14: 0 | E14: 0 | F14: 0 | G14: 0 | H14: 0 | I14: 0 | J14: 16155 | K14: 0 | L14: =SUM(B14:K14) -> 16155

Sheet 基金數額增減明細表
A1: 勞 動 部 勞 工 保 險 局
A2: 勞 工 保 險 局 作 業 基 金
A3: 基金數額增減明細表
A4: 中華民國111年度 單位：新臺幣千元
A5: 項目 | B5: 金額 | C5: 說明
A7: 期初基金數額 | B7: 625
A8: 加：
A9: 以前年度公積撥充 | B9: -
A10: 賸餘撥充 | B10: -
A11: 以國有財產撥充 | B11: -
A12: 國庫增撥數 | B12: -
A13: 其他 | B13: -
A14: 減：
A15: 填補短絀 | B15: -
A16: 折減基金繳庫 | B16: -
A17: 其他 | B17: -
A18: 期末基金數額 | B18: =B7+B8 -> 625

Sheet 貸出款明細表 
A1: 勞 動 部 勞 工 保 險 局
A2: 勞 工 保 險 局 作 業 基 金
A3: 貸出款明細表
A4: 中華民國 111年度 單位：新臺幣千元
A5: 計畫名稱 | B5: 貸款 年度 | C5: 期初貸出 餘額 | D5: 本年度貸出 金額 | E5: 本年度收回 金額 | F5: 截至本年度 累計 貸出餘額 | G5: 備註
A6: 短期貸款 | B6: 111 | C6: 2727000 | E6: 347000 | F6: =+C6+D6-E6 -> 2380000 | G6: 係依據行政院89年5月18日台89忠一字第09118號函辦理農保短期週轉。 | I6: 農保組及基金運用局
A7: 應收到期長期貸款 | B7: 111 | C7: 285000 | D7: 1800000 | E7: 1800000 | F7: =+C7+D7-E7 -> 285000 | I7: 保費組
A8: 小計 | C8: =SUM(C6:C7) -> 3012000 | D8: =SUM(D6:D7) -> 1800000 | E8: =SUM(E6:E7) -> 2147000 | F8: =SUM(F6:F7) -> 2665000
A9: 長期貸款 | B9: 111 | C9: 10371000 | D9: 11000000 | E9: 9100000 | F9: =+C9+D9-E9 -> 12271000 | G9: 1. 2. | H9: 係依據92年1月20日總統華總一義字第09200012650號令修正公布勞工保險條例第67條，被保險人向勞保基金貸款。 | I9: 保費組
A11: 減:轉列應收到期長期貸款 | B11: 111 | C11: 0 | D11: 0 | E11: 1800000 | F11: =+C11+D11-E11 -> -1800000 | G11: 2. | H11: 截至本年度累計貸出餘額未包含長期貸款轉列催收款項計19,995,634千元，又本年度被保險人貸款轉催收款項減少數830,685千元。
A12: 小計 | C12: =SUM(C9:C11) -> 10371000 | D12: =SUM(D9:D11) -> 11000000 | E12: =SUM(E9:E11) -> 10900000 | F12: =SUM(F9:F11) -> 10471000
A21: 合計 | C21: =+C8+C12 -> 13383000 | D21: =+D8+D12 -> 12800000 | E21: =+E8+E12 -> 13047000 | F21: =+F8+F12 -> 13136000

Sheet 平衡表-總
A1: 勞 動 部 勞 工 保 險 局
A2: 勞 工 保 險 局 作 業 基 金
A3: 預計平衡表
A4: 中華民國111年12月31日 單位：新臺幣千元
A5: 109年12月31日 實際數 | B5: 科目 | C5: 111年12月31日 預計數 | D5: 110年12月31日 預計數 | E5: 比較增減
A9: 1056663374 | B9: 資產 | C9: =+C10+C16+C19+C21+C23 -> 1035646779 | D9: =+D10+D16+D19+D21+D23 -> 1050864047 | E9: =+E10+E16+E19+E21+E23 -> -15217268
A10: 869347045 | B10: 流動資產 | C10: =SUM(C11:C15) -> 730122699 | D10: =SUM(D11:D15) -> 738356283 | E10: =SUM(E11:E15) -> -8233584
A11: 68483591 | B11: 現金 | C11: =39369029+24000+1300 -> 39394329 | D11: 42206622 | E11: =C11-D11 -> -2812293
A12: 704970081 | B12: 流動金融資產 | C12: 582506576 | D12: 589835741 | E12: =C12-D12 -> -7329165
A13: 91782887 | B13: 應收款項 | C13: 105554794 | D13: 103293920 | E13: =C13-D13 -> 2260874
A14: 78780 | B14: 預付款項 | C14: 2000 | D14: 8000 | E14: =C14-D14 -> -6000
A15: 4031706 | B15: 短期貸墊款 | C15: 2665000 | D15: 3012000 | E15: =C15-D15 -> -347000
A16: 161720131 | B16: 投資、長期應收款、貸墊款及準備金 | C16: =SUM(C17:C18) -> 278741386 | D16: =SUM(D17:D18) -> 285135786 | E16: =SUM(E17:E18) -> -6394400
A17: 153956915 | B17: 非流動金融資產 | C17: 268270386 | D17: 274764786 | E17: =C17-D17 -> -6494400
A18: 7763216 | B18: 長期貸款 | C18: 10471000 | D18: 10371000 | E18: =C18-D18 -> 100000
A19: 1417996 | B19: 投資性不動產 | C19: =+C20 -> 1385687 | D19: =+D20 -> 1401842 | E19: =+E20 -> -16155
A20: 1417996 | B20: 投資性不動產 | C20: 1385687 | D20: 1401842 | E20: =C20-D20 -> -16155
A21: 530 | B21: 無形資產 | C21: =C22 -> 24 | D21: =D22 -> 24 | E21: =+E22 -> 0
A22: 530 | B22: 無形資產 | C22: 24 | D22: 24 | E22: =C22-D22 -> 0
A23: 24177672 | B23: 其他資產 | C23: =+C24+C25+C26 -> 25396983 | D23: =+D24+D25+D26 -> 25970112 | E23: =+E24+E25 -> -573129
A24: 39752 | B24: 遞延資產 | C24: 38534 | D24: 39143 | E24: =C24-D24 -> -609
A25: 23899609 | B25: 什項資產 | C25: 25120137 | D25: 25692657 | E25: =C25-D25 -> -572520
A26: 238312 | B26: 待處理資產 | C26: 238312 | D26: 238312 | E26: =C26-D26 -> 0
A29: 1056663374 | B29: 合計 | C29: =C9 -> 1035646779 | D29: =D9 -> 1050864047 | E29: =E9 -> -15217268
A30: 1056658165 | B30: 負債 | C30: =C31+C36 -> 1035641570 | D30: =D31+D36 -> 1050858838 | E30: =E31+E36 -> -15217268
A31: 33578614 | B31: 流動負債 | C31: =SUM(C32:C35) -> 32174430 | D31: =SUM(D32:D35) -> 32546683 | E31: =SUM(E32:E35) -> -372253
A32: 3840000 | B32: 短期債務 | C32: 2380000 | D32: 2727000 | E32: =C32-D32 -> -347000
A33: 29235179 | B33: 應付款項 | C33: 29247499 | D33: 29268070 | E33: =C33-D33 -> -20571
A34: 371594 | B34: 預收款項 | C34: 415090 | D34: 419772 | E34: =C34-D34 -> -4682
A35: 131841 | B35: 流動金融負債 | C35: 131841 | D35: 131841 | E35: =C35-D35 -> 0
A36: 1023079552 | B36: 其他負債 | C36: =SUM(C37:C39) -> 1003467140 | D36: =SUM(D37:D39) -> 1018312155 | E36: =SUM(E37:E39) -> -14845015
A37: 3975176 | B37: 遞延負債 | C37: 3853346 | D37: 3914261 | E37: =C37-D37 -> -60915
A38: 1019026388 | B38: 負債準備 | C38: 999535736 | D38: 1014319836 | E38: =C38-D38 -> -14784100
A39: 77988 | B39: 什項負債 | C39: 78058 | D39: 78058 | E39: =C39-D39 -> 0
A40: 5209 | B40: 淨值 | C40: =C41+C43+C45 -> 5209 | D40: =D41+D43+D45 -> 5209 | E40: =E41+E43+E45 -> 0
A41: 625 | B41: 基金 | C41: =C42 -> 625 | D41: =D42 -> 625 | E41: =E42 -> 0
A42: 625 | B42: 基金 | C42: 625 | D42: 625 | E42: =C42-D42 -> 0
A43: 4584 | B43: 公積 | C43: =C44 -> 4584 | D43: =+D44 -> 4584 | E43: =E44 -> 0
A44: 4584 | B44: 資本公積 | C44: 4584 | D44: 4584 | E44: =C44-D44 -> 0
A45: =A46 -> 0 | B45: 累積餘絀 | C45: =C46 -> 0 | D45: =D46 -> 0 | E45: =E46 -> 0
...

Sheet 5年來主要營運項目分析表
A1: 勞 動 部 勞 工 保 險 局
A2: 勞 工 保 險 局 作 業 基 金
A3: 5年來主要營運項目分析表
A4: 中華民國111年度 單位：新臺幣千元
A5: 年 度 及 項 目 | B5: 單位 | C5: 數量 | D5: 單位成本 （元）或平 均利(費)率 | E5: 預(決)算數 | F5: 說明
A7: 本年度預算數 | E7: =E8 -> 558596726
A8: 保險給付 | E8: =SUM(E9:E13) -> 558596726
A9: 勞工保險 | E9: 520975856
A10: 就業保險 | E10: 23777464
A11: 農保及農職保 | E11: 6752689
A12: 職業災害勞工保護 | E12: 171207
A13: 勞職保及保護 | E13: ='收支餘絀預計表-總'!D84 -> 6919510
A15: 上年度預算數 | E15: =E16 -> 522018918
A16: 保險給付 | E16: =SUM(E17:E20) -> 522018918
A17: 勞工保險 | E17: 491651979
A18: 就業保險 | E18: 22823256
A19: 農保及農職保 | E19: 6916286
A20: 職業災害勞工保護 | E20: 627397
A22: 前年度決算數 | E22: =E23 -> 486815589
A23: 保險給付 | E23: =SUM(E24:E27) -> 486815589
A24: 勞工保險 | E24: 456241973
A25: 就業保險 | E25: 23106476
A26: 農保及農職保 | E26: 6940840
A27: 職業災害勞工保護 | E27: 526300
A29: 108年度決算數 | E29: =E30 -> 450783076
A30: 保險給付 | E30: =SUM(E31:E34) -> 450783076
A31: 勞工保險 | E31: 422565841
A32: 就業保險 | E32: 20300207
A33: 農民健康保險 | E33: 7383282
A34: 職業災害勞工保護 | E34: 533746
A36: 107年度決算數 | E36: 423404481
A37: 保險給付 | E37: 423404481
A38: 勞工保險 | E38: 396271221
A39: 就業保險 | E39: 19252036
A40: 農民健康保險 | E40: 7378009
A41: 職業災害勞工保護 | E41: 503215

Sheet 員工人數彙計表
A1: 勞 動 部 勞 工 保 險 局
A2: 勞 工 保 險 局 作 業 基 金
A3: 員工人數彙計表
A4: 中華民國111年度 單位：人
A5: 科 目 | B5: 上年度最高 | C5: 本年度增減(-)數 | D5: 本年度最高 | E5: 說 明
B6: 可進用員額數 | D6: 可進用員額數
E7: 本年度無預算員額。
A22: 總 計
A23: 註：係勞動部職業安全衛生署非以用人費用科目辦理項目，包括： 1.勞務承攬人力主要係辦理協助發放職災勞工死亡慰問金等相關行政業務，預計2人。 2.契僱人力主要係辦理各地方政府職災勞工服務紀錄填報確認、電話服務、郵件收受、公文繕校、案件審核、資料 建檔繕校等業務，預計9人。

Sheet 用人費用彙計表
A1: 勞 動 部 勞 工 保 險 局
A2: 勞 工 保 險 局 作 業 基 金
A3: 用人費用彙計表
A4: 中華民國111年度 單位：新臺幣千元
A5: 科 目 | B5: 正式員 額薪資 | C5: 聘僱人員薪資 | D5: 超時工 作報酬 | E5: 津貼 | F5: 獎金 | G5: 退休及卹償金 | H5: 福利費 | I5: 提繳費 | J5: 總計
A19: 合 計
A20: 註：係勞動部職業安全衛生署非以用人費用科目辦理項目，包括： 1.勞務承攬人力主要係辦理協助發放職災勞工死亡慰問金等相關行政業務，預計2人，編列一般服務費787千元。 2.契僱人力主要係辦理各地方政府職災勞工服務紀錄填報確認、電話服務、郵件收受、公文繕校、案件審核、資 料建檔繕校等業務，預計9人，編列一般服務費3,230千元。

Sheet 媒體政策及業務宣導費彙計表
A1: 勞 動 部 勞 工 保 險 局
A2: 勞 工 保 險 局 作 業 基 金
A3: 媒體政策及業務宣導費彙計表
A4: 中華民國111年度 單位：新臺幣千元
A5: 前年度決算數 | B5: 上年度預算數 | C5: 科目 | D5: 預算數 | E5: 預計執行內容
A6: 0 | B6: 0 | C6: 業務支出部分 | D6: =D7+D11 -> 672 | E6: 本科目全數由勞動部職業安全衛生署辦理。
A7: 0 | B7: 0 | C7: 其他業務成本 | D7: =D8+D9 -> 672
A8: 0 | B8: 0 | C8: 勞職保及保護 | D8: 672 | E8: 係辦理職業安全衛生知能及教育訓練宣導，相關媒體宣導製作、託播及刊登等經費。
A19: =A6+A14 -> 0 | B19: =B6 -> 0 | C19: 總 計 | D19: =D6 -> 672

Sheet 各項費用彙計表
A1: 勞 動 部 勞 工 保 險 局
A2: 勞 工 保險局 作 業 基 金
A3: 各 項 費 用 彙 計 表
D4: 中華民國 111年度 | G4: 單位：新臺幣千元
A5: 前 年 度 | B5: 上 年 度 | C5: 科 目 | D5: 本年度預算數
A6: 決 算 數 | B6: 預 算 數 | D6: 合計 | E6: 出租資 產成本 | F6: 投融資業 務成本 | G6: 保險成本 | H6: 其他業 務成本 | I6: 其他業務 外費用
A8: 863727 | B8: =SUM(B9:B18) -> 976124 | C8: 服務費用 | D8: =SUM(D9:D18) -> 1447456 | E8: =SUM(E9:E18) -> 2791 | F8: =SUM(F9:F18) -> 1003916 | G8: =SUM(G9:G18) -> 0 | H8: =SUM(H9:H18) -> 440749 | I8: =SUM(I9:I18) -> 0
A9: 1 | B9: 7 | C9: 水電費 | D9: =SUM(E9:I9) -> 576 | E9: 7 | F9: 0 | G9: 0 | H9: 569 | I9: 0
A10: 0 | B10: 0 | C10: 郵電費 | D10: =SUM(E10:I10) -> 872 | E10: 0 | F10: 0 | G10: 0 | H10: 872 | I10: 0
A11: 0 | B11: 0 | C11: 旅運費 | D11: =SUM(E11:I11) -> 5967 | E11: 0 | F11: 0 | G11: 0 | H11: 5967 | I11: 0
A12: 1 | B12: 0 | C12: 印刷裝訂及公告費 | D12: =SUM(E12:I12) -> 1701 | E12: 1 | F12: 0 | G12: 0 | H12: 1700 | I12: 0
A13: 1125 | B13: 2195 | C13: 修理保養及保固費 | D13: =SUM(E13:I13) -> 2118 | E13: 2118 | F13: 0 | G13: 0 | H13: 0 | I13: 0
A14: 0 | B14: 121 | C14: 保險費 | D14: =SUM(E14:I14) -> 181 | E14: 121 | F14: 0 | G14: 0 | H14: 60 | I14: 0
A15: 853023 | B15: 937596 | C15: 一般服務費 | D15: =SUM(E15:I15) -> 1118587 | E15: 394 | F15: =956243+13091-1000 -> 968334 | G15: 0 | H15: 149859 | I15: 0
A16: 9577 | B16: 36205 | C16: 專業服務費 | D16: =SUM(E16:I16) -> 307752 | E16: 150 | F16: 35582 | G16: 0 | H16: =11124+260896 -> 272020 | I16: 0
A17: 0 | B17: 0 | C17: 媒體政策及業務宣導費 | D17: =SUM(E17:I17) -> 672 | E17: 0 | F17: 0 | G17: 0 | H17: 672 | I17: 0
A18: 0 | B18: 0 | C18: 行銷推廣費 | D18: =SUM(E18:I18) -> 9030 | E18: 0 | F18: 0 | G18: 0 | H18: =10030-1000 -> 9030 | I18: 0
A19: 0 | B19: =SUM(B20:B21) -> 0 | C19: 材料及用品費 | D19: =SUM(D20:D21) -> 3100 | E19: =E21 -> 0 | F19: =F21 -> 0 | G19: =G21 -> 0 | H19: =SUM(H20:H21) -> 3100 | I19: =I21 -> 0
A20: 0 | B20: 0 | C20: 使用材料費 | D20: =SUM(E20:I20) -> 1567 | E20: 0 | F20: 0 | G20: 0 | H20: 1567 | I20: 0
A21: 0 | B21: 0 | C21: 用品消耗 | D21: =SUM(E21:I21) -> 1533 | E21: 0 | F21: 0 | G21: 0 | H21: 1533 | I21: 0
A22: 143458 | B22: =SUM(B23:B28) -> 32750 | C22: 租金與利息 | D22: =SUM(D23:D28) -> 16657 | E22: =SUM(E23:E28) -> 0 | F22: =SUM(F23:F28) -> 0 | G22: =SUM(G23:G28) -> 0 | H22: =SUM(H23:H28) -> 16657 | I22: =SUM(I23:I28) -> 0
A23: 0 | B23: 0 | C23: 地租及水租 | D23: =SUM(E23:I23) -> 10 | E23: 0 | F23: 0 | G23: 0 | H23: 10 | I23: 0
A24: 0 | B24: 0 | C24: 房租 | D24: =SUM(E24:I24) -> 1189 | E24: 0 | F24: 0 | G24: 0 | H24: 1189 | I24: 0
A25: 0 | B25: 0 | C25: 機器租金 | D25: =SUM(E25:I25) -> 500 | E25: 0 | F25: 0 | G25: 0 | H25: 500 | I25: 0
A26: 0 | B26: 0 | C26: 交通及運輸設備租金 | D26: =SUM(E26:I26) -> 1100 | E26: 0 | F26: 0 | G26: 0 | H26: 1100 | I26: 0
A27: 0 | B27: 0 | C27: 什項設備租金 | D27: =SUM(E27:I27) -> 40 | E27: 0 | F27: 0 | G27: 0 | H27: 40 | I27: 0
A28: 143458 | B28: 32750 | C28: 利息 | D28: =SUM(E28:I28) -> 13818 | E28: 0 | F28: 0 | G28: 0 | H28: 13818 | I28: 0
A29: 17269 | B29: =B30+B31 -> 17269 | C29: 折舊、折耗及攤銷 | D29: =D30+D31 -> 16764 | E29: =E30+E31 -> 16764 | F29: =F30+F31 -> 0 | G29: =G30+G31 -> 0 | H29: =H30+H31 -> 0 | I29: =I30+I31 -> 0
A30: 16155 | B30: 16154 | C30: 投資性不動產折舊 | D30: =SUM(E30:I30) -> 16155 | E30: 16155 | F30: 0 | G30: 0 | H30: 0 | I30: 0
A31: 1114 | B31: 1115 | C31: 攤銷 | D31: =SUM(E31:I31) -> 609 | E31: 609 | F31: 0 | G31: 0 | H31: 0 | I31: 0
A32: 19014 | B32: =SUM(B33:B35) -> 1488 | C32: 稅捐與規費(強制費) | D32: =D33+D34+D35 -> 20021 | E32: =E33+E34+E35 -> 20021 | F32: =F33+F34+F35 -> 0 | G32: =G33+G34+G35 -> 0 | H32: =H33+H34+H35 -> 0 | I32: =I33+I34+I35 -> 0
A33: 19009 | B33: 1467 | C33: 土地稅 | D33: =SUM(E33:I33) -> 20000 | E33: 20000 | F33: 0 | G33: 0 | H33: 0 | I33: 0
A34: 1 | B34: 13 | C34: 房屋稅 | D34: =SUM(E34:I34) -> 13 | E34: 13 | F34: 0 | G34: 0 | H34: 0 | I34: 0
A35: 4 | B35: 8 | C35: 規費 | D35: =SUM(E35:I35) -> 8 | E35: 8 | F35: 0 | G35: 0 | H35: 0 | I35: 0
A36: 0 | B36: =SUM(B37:B39) -> 0 | C36: 會費、捐助、補助、分攤、救助（濟）與交流活動費 | D36: =D37+D38+D39 -> 537108 | E36: =E37+E38+E39 -> 0 | F36: =F37+F38+F39 -> 0 | G36: =G37+G38+G39 -> 0 | H36: =H37+H38+H39 -> 537108 | I36: =I37+I38+I39 -> 0
A37: 0 | B37: 0 | C37: 會費 | D37: =SUM(E37:I37) -> 0 | E37: 0 | F37: 0 | G37: 0 | H37: 0 | I37: 0
A38: 0 | B38: 0 | C38: 捐助、補助與獎助 | D38: =SUM(E38:I38) -> 507108 | E38: 0 | F38: 0 | G38: 0 | H38: =457108+50000 -> 507108 | I38: 0
A39: 0 | B39: 0 | C39: 補貼（償）、獎勵、慰問與救助（ 濟） | D39: =SUM(E39:I39) -> 30000 | E39: 0 | F39: 0 | G39: 0 | H39: 30000 | I39: 0
A40: 691219897 | B40: =SUM(B41:B43) -> 529508697 | C40: 短絀、賠償與保險給付 | D40: =D41+D42+D43 -> 564507112 | E40: =E41+E42+E43 -> 0 | F40: =F41+F42+F43 -> 0 | G40: =G42+G43+G41 -> 564491226 | H40: =H42+H43+H41 -> 15886 | I40: 0
A41: 163511477 | B41: 750494 | C41: 各項短絀 | D41: =SUM(E41:I41) -> 917868 | E41: 0 | F41: 0 | G41: 917868 | H41: 0 | I41: 0
...

Sheet 各項費用彙計表 (單位)
A1: 勞 動 部 勞 工 保 險 局
A2: 勞 工 保險局 作 業 基 金
F3: 各項費用 彙計表
F4: 中華民國 111年度 | M4: 單位：新臺幣千元
A5: 科 目 | B5: 合計 | C5: 勞動部勞工保險局 | H5: 勞動部勞動基金運用局 | K5: 勞動部職業安全衛生署 | N5: 勞動部及所屬機關
C6: 小計 | D6: 投融資業 務成本 | E6: 保險成本 | F6: 其他業 務成本 | G6: 其他業務 外費用 | H6: 小計 | I6: 出租資 產成本 | J6: 投融資業 務成本 | K6: 小計 | L6: 保險成本 | M6: 其他業 務成本 | N6: 其他業 務成本
A8: 服務費用 | B8: =SUM(B9:B18) -> 1447456 | C8: =SUM(D8:G8) -> 328896 | D8: =SUM(D9:D18) -> 68000 | E8: =SUM(E9:E18) -> 0 | F8: =SUM(F9:F18) -> 260896 | G8: =SUM(G9:G18) -> 0 | H8: =SUM(I8:J8) -> 938707 | I8: =SUM(I9:I18) -> 2791 | J8: =SUM(J9:J18) -> 935916 | K8: =SUM(L8:M8) -> 179853 | L8: =SUM(L9:L18) -> 0 | M8: =SUM(M9:M18) -> 179853 | N8: =SUM(N9:N18) -> 0
A9: 水電費 | B9: =+C9+H9+K9+N9 -> 576 | C9: =SUM(D9:G9) -> 0 | D9: 0 | E9: 0 | F9: 0 | G9: 0 | H9: =SUM(I9:J9) -> 7 | I9: 7 | J9: 0 | K9: =SUM(L9:M9) -> 569 | L9: 0 | M9: 569 | N9: 0
A10: 郵電費 | B10: =+C10+H10+K10+N10 -> 872 | C10: =SUM(D10:G10) -> 0 | D10: 0 | E10: 0 | F10: 0 | G10: 0 | H10: =SUM(I10:J10) -> 0 | I10: 0 | J10: 0 | K10: =SUM(L10:M10) -> 872 | L10: 0 | M10: 872 | N10: 0
A11: 旅運費 | B11: =+C11+H11+K11+N11 -> 5967 | C11: =SUM(D11:G11) -> 0 | D11: 0 | E11: 0 | F11: 0 | G11: 0 | H11: =SUM(I11:J11) -> 0 | I11: 0 | J11: 0 | K11: =SUM(L11:M11) -> 5967 | L11: 0 | M11: 5967 | N11: 0
A12: 印刷裝訂及公告費 | B12: =+C12+H12+K12+N12 -> 1701 | C12: =SUM(D12:G12) -> 0 | D12: 0 | E12: 0 | F12: 0 | G12: 0 | H12: =SUM(I12:J12) -> 1 | I12: 1 | J12: 0 | K12: =SUM(L12:M12) -> 1700 | L12: 0 | M12: 1700 | N12: 0
A13: 修理保養及保固費 | B13: =+C13+H13+K13+N13 -> 2118 | C13: =SUM(D13:G13) -> 0 | D13: 0 | E13: 0 | F13: 0 | G13: 0 | H13: =SUM(I13:J13) -> 2118 | I13: 2118 | J13: 0 | K13: =SUM(L13:M13) -> 0 | L13: 0 | M13: 0 | N13: 0
A14: 保險費 | B14: =+C14+H14+K14+N14 -> 181 | C14: =SUM(D14:G14) -> 0 | D14: 0 | E14: 0 | F14: 0 | G14: 0 | H14: =SUM(I14:J14) -> 121 | I14: 121 | J14: 0 | K14: =SUM(L14:M14) -> 60 | L14: 0 | M14: 60 | N14: 0
A15: 一般服務費 | B15: =+C15+H15+K15+N15 -> 1118587 | C15: =SUM(D15:G15) -> 68000 | D15: 68000 | E15: 0 | F15: 0 | G15: 0 | H15: =SUM(I15:J15) -> 900728 | I15: 394 | J15: =956243+13091-1000-D15 -> 900334 | K15: =SUM(L15:M15) -> 149859 | L15: 0 | M15: 149859 | N15: 0
A16: 專業服務費 | B16: =+C16+H16+K16+N16 -> 307752 | C16: =SUM(D16:G16) -> 260896 | D16: 0 | E16: 0 | F16: 260896 | G16: 0 | H16: =SUM(I16:J16) -> 35732 | I16: 150 | J16: 35582 | K16: =SUM(L16:M16) -> 11124 | L16: 0 | M16: =11124 -> 11124 | N16: 0
A17: 媒體政策及業務宣導費 | B17: =+C17+H17+K17+N17 -> 672 | C17: =SUM(D17:G17) -> 0 | D17: 0 | E17: 0 | F17: 0 | G17: 0 | H17: =SUM(I17:J17) -> 0 | K17: =SUM(L17:M17) -> 672 | L17: 0 | M17: 672 | N17: 0
