Workbook
Name \0: [1]稅捐!#REF!
Name \0: [1]稅捐!#REF!
Name \0: [1]稅捐!#REF!
Name \0: [1]稅捐!#REF!
Name \0: [1]稅捐!#REF!
Name \0: [1]稅捐!#REF!
Name \0: [1]稅捐!#REF!
Name \0: [1]稅捐!#REF!
Name \d: #REF!
Name \d: #REF!
Name \d: #REF!
Name \d: #REF!
Name \d: #REF!
Name _R: #REF!
Name _R: #REF!
Name _R: #REF!
Name _R: #REF!
Name _R: #REF!
Name _R: #REF!
Name _R: #REF!
Name _R: #REF!
Name _R: #REF!
Name _R: #REF!
Name _R: #REF!
Name _R: #REF!
Name _R: #REF!
Name _R: #REF!
Name a: #REF!
Name a: #REF!
Name a: #REF!
Name a: #REF!
Name a: #REF!
Name a: #REF!
Name a: #REF!
Name a: #REF!
Name a: #REF!
Name a: #REF!
Name a: #REF!
Name a: #REF!
Name a: #REF!
Name a: #REF!
Name a: #REF!
Name aa: #REF!
Name aa: #REF!
Name aa: #REF!
Name aa: #REF!
Name aa: #REF!
Name aa: #REF!
Name aa: #REF!
Name aa: #REF!
Name aa: #REF!
Name aa: #REF!
Name aa: #REF!
Name aa: #REF!
Name aa: #REF!
Name aa: #REF!
Name aa: #REF!
Name aaaa: #REF!
Name aaaa: #REF!
Name aaaa: #REF!

Sheet 業務計畫
A1: 業務計畫及預算說明

Sheet 工作表1 (2)

Sheet 圖1
A1: 圖1 | B1: 113年度收入、成本與費用及賸餘
D19: 單位：新臺幣千元
A20: 收 入 | B20: 113年度預算 | C20: 成本與費用及賸餘 | D20: 113年度預算
A21: 業務收入 | B21: =SUM(B22:B25) -> 698902259 | C21: 業務成本與費用 | D21: =SUM(D22:D25) -> 699228480
A22: 租金及權利金收入 | B22: ='收支餘絀預計表-總'!D9 -> 274530 | C22: 出租資產成本 | D22: ='收支餘絀預計表-總'!D53 -> 32423
A23: 投融資業務收入 | B23: ='收支餘絀預計表-總'!D12 -> 32289141 | C23: 投融資業務成本 | D23: ='收支餘絀預計表-總'!D56 -> 1013286
A24: 保險收入 | B24: ='收支餘絀預計表-總'!D31 -> 531071560 | C24: 保險成本 | D24: ='收支餘絀預計表-總'!D66 -> 692223625
A25: 其他業務收入 | B25: ='收支餘絀預計表-總'!D43 -> 135267028 | C25: 其他業務成本 | D25: ='收支餘絀預計表-總'!D83 -> 5959146
A26: 業務外收入 | B26: ='收支餘絀預計表-總'!D89 -> 328255 | C26: 業務外費用 | D26: ='收支餘絀預計表-總'!D114 -> 2034
C27: 本期賸餘 | D27: -
A28: 收入總額 | B28: =B21+B26 -> 699230514 | C28: 成本、費用及賸餘總額 | D28: =D21+D26 -> 699230514 | E28: =B28-D28 -> 0
A29: 公式 | B29: =B22/$B$28 -> 0.00039261731 | C29: =+B29*100 -> 0.039261731 | D29: =D22/$D$28 -> 4.6369544e-05 | E29: 0.26 | F29: =+D29*100 -> 0.0046369544
B30: =B23/$B$28 -> 0.046178106 | C30: =+B30*100 -> 4.6178106 | D30: =D23/$D$28 -> 0.0014491444 | E30: 0.26 | F30: =+D30*100 -> 0.14491444
B31: =B24/$B$28 -> 0.75950856 | C31: =+B31*100 -> 75.950856 | D31: =D24/$D$28 -> 0.98997914 | E31: 99.14 | F31: =+D31*100 -> 98.997914
B32: =B25/$B$28 -> 0.19345127 | C32: =+B32*100 -> 19.345127 | D32: =D25/$D$28 -> 0.0085224341 | E32: 0.6 | F32: =+D32*100 -> 0.85224341
B33: =B26/$B$28 -> 0.00046945177 | C33: =+B33*100 -> 0.046945177 | D33: =D26/$D$28 -> 2.908912e-06 | E33: 0 | F33: =+D33*100 -> 0.0002908912
B34: =SUM(B29:B33) -> 1 | C34: =SUM(C29:C33) -> 100 | D34: =SUM(D29:D33) -> 1 | E34: =SUM(E30:E33) -> 100 | F34: =SUM(F29:F33) -> 100
A36: 檢核 | B36: 租金及權利金收入 | C36: 0.04 | D36: 出租資產成本 | F36: 0
B37: 投融資業務收入 | C37: 4.62 | D37: 投融資業務成本 | F37: 0.15
B38: 保險收入 | C38: 75.95 | D38: 保險成本 | F38: 99
B39: 其他業務收入 | C39: 19.35 | D39: 其他業務成本 | F39: 0.85
B40: 業務外收入 | C40: 0.04 | D40: 業務外費用 | F40: 0
C41: =SUM(C36:C40) -> 100 | F41: =SUM(F36:F40) -> 100
C42: 記得要改圖表內數字

Sheet 圖2
A1: 圖2
F13: 單位：新臺幣千元
A14: 年度 項目 | B14: 109年度決算 | C14: 110年度決算 | D14: 111年度決算 | E14: 112年度預算 | F14: 113年度預算 | S14: 檢核 | T14: 年度 項目 | U14: 109 | V14: 110 | W14: 111 | X14: 112 | Y14: 113
A15: 收入 | T15: 收入
A16: 業務收入 | B16: 694431339 | C16: 684752004 | D16: 824288103 | E16: =593356838+1000000-2000 -> 594354838 | F16: =圖1!B21 -> 698902259 | T16: 業務收入 | U16: =+B16*1000 -> 694431339000 | V16: =+C16*1000 -> 684752004000 | W16: =+D16*1000 -> 824288103000 | X16: =+E16*1000 -> 594354838000 | Y16: =+F16*1000 -> 698902259000
A17: 業務外收入 | B17: 332594 | C17: 323124 | D17: 375845 | E17: 290887 | F17: =圖1!B26 -> 328255 | T17: 業務外收入 | U17: =+B17*1000 -> 332594000 | V17: =+C17*1000 -> 323124000 | W17: =+D17*1000 -> 375845000 | X17: =+E17*1000 -> 290887000 | Y17: =+F17*1000 -> 328255000
A18: 收入合計 | B18: =SUM(B16:B17) -> 694763933 | C18: =SUM(C16:C17) -> 685075128 | D18: =SUM(D16:D17) -> 824663948 | E18: =SUM(E16:E17) -> 594645725 | F18: =SUM(F16:F17) -> 699230514 | T18: 收入合計 | U18: =SUM(U16:U17) -> 694763933000 | V18: =SUM(V16:V17) -> 685075128000 | W18: =SUM(W16:W17) -> 824663948000 | X18: =SUM(X16:X17) -> 594645725000 | Y18: =SUM(Y16:Y17) -> 699230514000
A19: 費用 | T19: =A19 -> 費用
A20: 業務成本與費用 | B20: 694763793 | C20: 685074680 | D20: 824663226 | E20: =593647570+1000000-2000 -> 594645570 | F20: =圖1!D21 -> 699228480 | T20: 業務成本與費用 | U20: =+B20*1000 -> 694763793000 | V20: =+C20*1000 -> 685074680000 | W20: =+D20*1000 -> 824663226000 | X20: =+E20*1000 -> 594645570000 | Y20: =+F20*1000 -> 699228480000
A21: 業務外費用 | B21: 140 | C21: 449 | D21: 723 | E21: 155 | F21: =圖1!D26 -> 2034 | T21: 業務外費用 | U21: =+B21*1000 -> 140000 | V21: =+C21*1000 -> 449000 | W21: =+D21*1000 -> 723000 | X21: =+E21*1000 -> 155000 | Y21: =+F21*1000 -> 2034000
A22: 費用合計 | B22: =SUM(B20:B21) -> 694763933 | C22: =SUM(C20:C21)-1 -> 685075128 | D22: =SUM(D20:D21)-1 -> 824663948 | E22: =SUM(E20:E21) -> 594645725 | F22: =SUM(F20:F21) -> 699230514 | T22: =A22 -> 費用合計 | U22: =SUM(U20:U21) -> 694763933000 | V22: =+C22*1000 -> 685075128000 | W22: =SUM(W20:W21) -> 824663949000 | X22: =SUM(X20:X21) -> 594645725000 | Y22: =SUM(Y20:Y21) -> 699230514000
A23: 本期賸餘 | B23: =B18-B22 -> 0 | C23: =C18-C22 -> 0 | D23: =D18-D22 -> 0 | E23: =E18-E22 -> 0 | F23: =F18-F22 -> 0 | T23: 本期賸餘 | U23: =U18-U22 -> 0 | V23: =V18-V22 -> 0 | W23: =W18-W22 -> -1000 | X23: =X18-X22 -> 0 | Y23: =Y18-Y22 -> 0
A24: 註：1.109至111年度決算數為審定決算數；112年度為法定預算數。以下各表同。 2.決算數細數之和與總數或略有出入，係四捨五入關係。

Sheet 收支餘絀預計表-總
A1: 勞 動 部 勞 工 保 險 局
A2: 勞 工 保 險 局 作 業 基 金
A3: 收支餘絀預計表
A4: 中華民國113年度 單位：新臺幣千元
A5: 前年度決算數 | C5: 科 目 | D5: 本年度預算數 | F5: 上年度預算數 | H5: 比較增減(-)
A6: 金 額 | B6: ％ | D6: 金 額 | E6: ％ | F6: 金 額 | G6: ％ | H6: 金 額 | I6: ％
A8: 824288103 | B8: 100 | C8: 業務收入 | D8: =SUM(D9,D12,D31,D43) -> 698902259 | E8: 100 | F8: =SUM(F9,F12,F31,F43) -> 594354838 | G8: 100 | H8: =D8-F8 -> 104547421 | I8: =ROUND(H8/F8*100,2) -> 17.59 | K8: =ROUND(A8/$A$8*100,5) -> 100 | L8: =ROUND(D8/$D$8*100,5) -> 100 | M8: =ROUND(F8/$F$8*100,5) -> 100
A9: 274738 | B9: =ROUND(A9/$A$8*100,2) -> 0.03 | C9: 租金及權利金收入 | D9: =+D10 -> 274530 | E9: =ROUND(D9/$D$8*100,2) -> 0.04 | F9: =+F10 -> 281803 | G9: =ROUND(F9/$F$8*100,2) -> 0.05 | H9: =D9-F9 -> -7273 | I9: =ROUND(H9/F9*100,2) -> -2.58 | K9: =ROUND(A9/$A$8*100,5) -> 0.03333 | L9: =ROUND(D9/$D$8*100,5) -> 0.03928 | M9: =ROUND(F9/$F$8*100,5) -> 0.04741
A10: 274738 | B10: =ROUND(A10/$A$8*100,2) -> 0.03 | C10: 投資性不動產收入 | D10: =D11 -> 274530 | E10: =ROUND(D10/$D$8*100,2) -> 0.04 | F10: =F11 -> 281803 | G10: =ROUND(F10/$F$8*100,2) -> 0.05 | H10: =D10-F10 -> -7273 | I10: =ROUND(H10/F10*100,2) -> -2.58 | K10: =ROUND(A10/$A$8*100,5) -> 0.03333 | L10: =ROUND(D10/$D$8*100,5) -> 0.03928 | M10: =ROUND(F10/$F$8*100,5) -> 0.04741
A11: 274738 | B11: =ROUND(A11/$A$8*100,2) -> 0.03 | C11: 勞工保險 | D11: 274530 | E11: =ROUND(D11/$D$8*100,2) -> 0.04 | F11: 281803 | G11: =ROUND(F11/$F$8*100,2) -> 0.05 | H11: =D11-F11 -> -7273 | I11: =ROUND(H11/F11*100,2) -> -2.58 | K11: =ROUND(A11/$A$8*100,5) -> 0.03333 | L11: =ROUND(D11/$D$8*100,5) -> 0.03928 | M11: =ROUND(F11/$F$8*100,5) -> 0.04741
A12: 236073394 | B12: =ROUND(A12/$A$8*100,2) -> 28.64 | C12: 投融資業務收入 | D12: =D13+D17+D20+D23+D25 -> 32289141 | E12: =ROUND(D12/$D$8*100,2) -> 4.62 | F12: =F13+F17+F20+F23+F25 -> 33656887 | G12: =ROUND(F12/$F$8*100,2) -> 5.66 | H12: =D12-F12 -> -1367746 | I12: =ROUND(H12/F12*100,2) -> -4.06 | K12: =ROUND(A12/$A$8*100,5) -> 28.63967 | L12: =ROUND(D12/$D$8*100,5) -> 4.61998 | M12: =ROUND(F12/$F$8*100,5) -> 5.66276
A13: 156945286 | B13: =ROUND(A13/$A$8*100,2) -> 19.04 | C13: 投資業務收入 | D13: =SUM(D14:D16) -> 29893159 | E13: =ROUND(D13/$D$8*100,2) -> 4.28 | F13: =SUM(F14:F16) -> 32208366 | G13: =ROUND(F13/$F$8*100,2) -> 5.42 | H13: =D13-F13 -> -2315207 | I13: =ROUND(H13/F13*100,2) -> -7.19 | K13: =ROUND(A13/$A$8*100,5) -> 19.0401 | L13: =ROUND(D13/$D$8*100,5) -> 4.27716 | M13: =ROUND(F13/$F$8*100,5) -> 5.41905
A14: 154822344 | B14: =ROUND(A14/$A$8*100,2) -> 18.78 | C14: 勞工保險 | D14: =26118743+1764559 -> 27883302 | E14: =ROUND(D14/$D$8*100,2) -> 3.99 | F14: =29730742+1000000 -> 30730742 | G14: =ROUND(F14/$F$8*100,2) -> 5.17 | H14: =D14-F14 -> -2847440 | I14: =ROUND(H14/F14*100,2) -> -9.27 | K14: =ROUND(A14/$A$8*100,5) -> 18.78255 | L14: =ROUND(D14/$D$8*100,5) -> 3.98959 | M14: =ROUND(F14/$F$8*100,5) -> 5.17044
A15: 2039280 | B15: =ROUND(A15/$A$8*100,2) -> 0.25 | C15: 就業保險 | D15: =1885175-2427 -> 1882748 | E15: =ROUND(D15/$D$8*100,2) -> 0.27 | F15: 1373700 | G15: =ROUND(F15/$F$8*100,2) -> 0.23 | H15: =D15-F15 -> 509048 | I15: =ROUND(H15/F15*100,2) -> 37.06 | K15: =ROUND(A15/$A$8*100,5) -> 0.2474 | L15: =ROUND(D15/$D$8*100,5) -> 0.26939 | M15: =ROUND(F15/$F$8*100,5) -> 0.23112
A16: 83662 | B16: =ROUND(A16/$A$8*100,2) -> 0.01 | C16: 勞職保及保護 | D16: 127109 | E16: =ROUND(D16/$D$8*100,2) -> 0.02 | F16: 103924 | G16: =ROUND(F16/$F$8*100,2) -> 0.02 | H16: =D16-F16 -> 23185 | I16: =ROUND(H16/F16*100,2) -> 22.31 | K16: =ROUND(A16/$A$8*100,5) -> 0.01015 | L16: =ROUND(D16/$D$8*100,5) -> 0.01819 | M16: =ROUND(F16/$F$8*100,5) -> 0.01749
A17: 554942 | B17: =ROUND(A17/$A$8*100,2) -> 0.07 | C17: 融資業務收入 | D17: =D18 -> 622948 | E17: =ROUND(D17/$D$8*100,2) -> 0.09 | F17: =F18 -> 536665 | G17: =ROUND(F17/$F$8*100,2) -> 0.09 | H17: =D17-F17 -> 86283 | I17: =ROUND(H17/F17*100,2) -> 16.08 | K17: =ROUND(A17/$A$8*100,5) -> 0.06732 | L17: =ROUND(D17/$D$8*100,5) -> 0.08913 | M17: =ROUND(F17/$F$8*100,5) -> 0.09029
A18: 550586 | B18: =ROUND(A18/$A$8*100,2) -> 0.07 | C18: 勞工保險 | D18: =618695+4253 -> 622948 | E18: =ROUND(D18/$D$8*100,2) -> 0.09 | F18: =512400+23864+401 -> 536665 | G18: =ROUND(F18/$F$8*100,2) -> 0.09 | H18: =D18-F18 -> 86283 | I18: =ROUND(H18/F18*100,2) -> 16.08 | K18: =ROUND(A18/$A$8*100,5) -> 0.0668 | L18: =ROUND(D18/$D$8*100,5) -> 0.08913 | M18: =ROUND(F18/$F$8*100,5) -> 0.09029
A19: 4355 | B19: =ROUND(A19/$A$8*100,2) -> 0 | C19: 就業保險 | D19: 0 | E19: =ROUND(D19/$D$8*100,2) -> 0 | F19: 0 | G19: =ROUND(F19/$F$8*100,2) -> 0 | H19: 0 | I19: 0 | K19: =ROUND(A19/$A$8*100,5) -> 0.00053
A20: 76966191 | B20: =ROUND(A20/$A$8*100,2) -> 9.34 | C20: 兌換賸餘 | D20: =SUM(D21:D22) -> 0 | E20: =ROUND(D20/$D$8*100,2) -> 0 | F20: =SUM(F21:F22) -> 0 | G20: =ROUND(F20/$F$8*100,2) -> 0 | H20: =H21 -> 0 | I20: 0 | K20: =ROUND(A20/$A$8*100,5) -> 9.33729 | L20: =ROUND(D20/$D$8*100,5) -> 0 | M20: =ROUND(F20/$F$8*100,5) -> 0
A21: 72353932 | B21: =ROUND(A21/$A$8*100,2) -> 8.78 | C21: 勞工保險 | D21: =2911000-2911000 -> 0 | E21: =ROUND(D21/$D$8*100,2) -> 0 | F21: 0 | G21: =ROUND(F21/$F$8*100,2) -> 0 | H21: 0 | I21: 0 | K21: =ROUND(A21/$A$8*100,5) -> 8.77775 | L21: =ROUND(D21/$D$8*100,5) -> 0 | M21: =ROUND(F21/$F$8*100,5) -> 0
A22: 4612259 | B22: =ROUND(A22/$A$8*100,2) -> 0.56 | C22: 就業保險 | D22: =227000-227000 -> 0 | E22: =ROUND(D22/$D$8*100,2) -> 0 | F22: 0 | G22: =ROUND(F22/$F$8*100,2) -> 0 | H22: 0 | I22: 0 | K22: =ROUND(A22/$A$8*100,5) -> 0.55954 | L22: =ROUND(D22/$D$8*100,5) -> 0 | M22: =ROUND(F22/$F$8*100,5) -> 0
A23: 277284 | B23: =ROUND(A23/$A$8*100,2) -> 0.03 | C23: 手續費收入 | D23: =D24 -> 0 | E23: =ROUND(D23/$D$8*100,2) -> 0 | F23: =F24 -> 0 | G23: =ROUND(F23/$F$8*100,2) -> 0 | H23: =D23-F23 -> 0 | I23: 0 | K23: =ROUND(A23/$A$8*100,5) -> 0.03364 | L23: =ROUND(D23/$D$8*100,5) -> 0 | M23: =ROUND(F23/$F$8*100,5) -> 0
A24: 277284 | B24: =ROUND(A24/$A$8*100,2) -> 0.03 | C24: 勞工保險 | D24: 0 | E24: =ROUND(D24/$D$8*100,2) -> 0 | F24: 0 | G24: =ROUND(F24/$F$8*100,2) -> 0 | H24: =D24-F24 -> 0 | I24: 0 | K24: =ROUND(A24/$A$8*100,5) -> 0.03364 | L24: =ROUND(D24/$D$8*100,5) -> 0 | M24: =ROUND(F24/$F$8*100,5) -> 0
A25: 1329691 | B25: =ROUND(A25/$A$8*100,2) -> 0.16 | C25: 存款利息收入 | D25: =SUM(D26:D30) -> 1773034 | E25: =ROUND(D25/$D$8*100,2) -> 0.25 | F25: =SUM(F26:F30) -> 911856 | G25: =ROUND(F25/$F$8*100,2) -> 0.15 | H25: =D25-F25 -> 861178 | I25: =ROUND(H25/F25*100,2) -> 94.44 | K25: =ROUND(A25/$A$8*100,5) -> 0.16131 | L25: =ROUND(D25/$D$8*100,5) -> 0.25369 | M25: =ROUND(F25/$F$8*100,5) -> 0.15342
A26: 751188 | B26: =ROUND(A26/$A$8*100,2) -> 0.09 | C26: 勞工保險 | D26: =919847+81571 -> 1001418 | E26: =ROUND(D26/$D$8*100,2) -> 0.14 | F26: 576503 | G26: =ROUND(F26/$F$8*100,2) -> 0.1 | H26: =D26-F26 -> 424915 | I26: =ROUND(H26/F26*100,2) -> 73.71 | K26: =ROUND(A26/$A$8*100,5) -> 0.09113 | L26: =ROUND(D26/$D$8*100,5) -> 0.14328 | M26: =ROUND(F26/$F$8*100,5) -> 0.097
A27: 362641 | B27: =ROUND(A27/$A$8*100,2) -> 0.04 | C27: 就業保險 | D27: =483522-639 -> 482883 | E27: =ROUND(D27/$D$8*100,2) -> 0.07 | F27: 190342 | G27: =ROUND(F27/$F$8*100,2) -> 0.03 | H27: =D27-F27 -> 292541 | I27: =ROUND(H27/F27*100,2) -> 153.69 | K27: =ROUND(A27/$A$8*100,5) -> 0.04399 | L27: =ROUND(D27/$D$8*100,5) -> 0.06909 | M27: =ROUND(F27/$F$8*100,5) -> 0.03202
A28: 901 | B28: =ROUND(A28/$A$8*100,2) -> 0 | C28: 農保 | D28: 1380 | E28: =ROUND(D28/$D$8*100,2) -> 0 | F28: 92 | G28: =ROUND(F28/$F$8*100,2) -> 0 | H28: =D28-F28 -> 1288 | I28: =ROUND(H28/F28*100,2) -> 1400 | K28: =ROUND(A28/$A$8*100,5) -> 0.00011 | L28: =ROUND(D28/$D$8*100,5) -> 0.0002 | M28: =ROUND(F28/$F$8*100,5) -> 2e-05
A29: 450 | B29: =ROUND(A29/$A$8*100,2) -> 0 | C29: 農職保 | D29: 1380 | E29: =ROUND(D29/$D$8*100,2) -> 0 | F29: 92 | G29: =ROUND(F29/$F$8*100,2) -> 0 | H29: =D29-F29 -> 1288 | I29: =ROUND(H29/F29*100,2) -> 1400 | K29: =ROUND(A29/$A$8*100,5) -> 5e-05 | L29: =ROUND(D29/$D$8*100,5) -> 0.0002 | M29: =ROUND(F29/$F$8*100,5) -> 2e-05
A30: 214510 | B30: =ROUND(A30/$A$8*100,2) -> 0.03 | C30: 勞職保及保護 | D30: 285973 | E30: =ROUND(D30/$D$8*100,2) -> 0.04 | F30: 144827 | G30: =ROUND(F30/$F$8*100,2) -> 0.02 | H30: =D30-F30 -> 141146 | I30: =ROUND(H30/F30*100,2) -> 97.46 | K30: =ROUND(A30/$A$8*100,5) -> 0.02602 | L30: =ROUND(D30/$D$8*100,5) -> 0.04092 | M30: =ROUND(F30/$F$8*100,5) -> 0.02437
A31: 553862377 | B31: =ROUND(A31/$A$8*100,2) -> 67.19 | C31: 保險收入 | D31: =D32+D38 -> 531071560 | E31: =ROUND(D31/$D$8*100,2) -> 75.99 | F31: =F32+F38 -> 511560393 | G31: =ROUND(F31/$F$8*100,2) -> 86.07 | H31: =D31-F31 -> 19511167 | I31: =ROUND(H31/F31*100,2) -> 3.81 | K31: =ROUND(A31/$A$8*100,5) -> 67.19281 | L31: =ROUND(D31/$D$8*100,5) -> 75.98653 | M31: =ROUND(F31/$F$8*100,5) -> 86.06986
A32: 486200684 | B32: =ROUND(A32/$A$8*100,2) -> 58.98 | C32: 保費收入 | D32: =SUM(D33:D37) -> 530997778 | E32: =ROUND(D32/$D$8*100,2) -> 75.98 | F32: =SUM(F33:F37) -> 511462929 | G32: =ROUND(F32/$F$8*100,2) -> 86.05 | H32: =D32-F32 -> 19534849 | I32: =ROUND(H32/F32*100,2) -> 3.82 | K32: =ROUND(A32/$A$8*100,5) -> 58.98431 | L32: =ROUND(D32/$D$8*100,5) -> 75.97597 | M32: =ROUND(F32/$F$8*100,5) -> 86.05346
A33: 443257143 | B33: =ROUND(A33/$A$8*100,2) -> 53.77 | C33: 勞工保險 | D33: 482778342 | E33: =ROUND(D33/$D$8*100,2) -> 69.08 | F33: 466762743 | G33: =ROUND(F33/$F$8*100,2) -> 78.53 | H33: =D33-F33 -> 16015599 | I33: =ROUND(H33/F33*100,2) -> 3.43 | K33: =ROUND(A33/$A$8*100,5) -> 53.77454 | L33: =ROUND(D33/$D$8*100,5) -> 69.07666 | M33: =ROUND(F33/$F$8*100,5) -> 78.53267
A34: 30834136 | B34: =ROUND(A34/$A$8*100,2) -> 3.74 | C34: 就業保險 | D34: 32081213 | E34: =ROUND(D34/$D$8*100,2) -> 4.59 | F34: 30950020 | G34: =ROUND(F34/$F$8*100,2) -> 5.21 | H34: =D34-F34 -> 1131193 | I34: =ROUND(H34/F34*100,2) -> 3.65 | K34: =ROUND(A34/$A$8*100,5) -> 3.7407 | L34: =ROUND(D34/$D$8*100,5) -> 4.59023 | M34: =ROUND(F34/$F$8*100,5) -> 5.20733
A35: 3060059 | B35: =ROUND(A35/$A$8*100,2) -> 0.37 | C35: 農保 | D35: 5780525 | E35: =ROUND(D35/$D$8*100,2) -> 0.83 | F35: 3068797 | G35: =ROUND(F35/$F$8*100,2) -> 0.52 | H35: =D35-F35 -> 2711728 | I35: =ROUND(H35/F35*100,2) -> 88.36 | K35: =ROUND(A35/$A$8*100,5) -> 0.37124 | L35: =ROUND(D35/$D$8*100,5) -> 0.82709 | M35: =ROUND(F35/$F$8*100,5) -> 0.51632
A36: 96298 | B36: =ROUND(A36/$A$8*100,2) -> 0.01 | C36: 農職保 | D36: 163332 | E36: =ROUND(D36/$D$8*100,2) -> 0.02 | F36: 114770 | G36: =ROUND(F36/$F$8*100,2) -> 0.02 | H36: =D36-F36 -> 48562 | I36: =ROUND(H36/F36*100,2) -> 42.31 | K36: =ROUND(A36/$A$8*100,5) -> 0.01168 | L36: =ROUND(D36/$D$8*100,5) -> 0.02337 | M36: =ROUND(F36/$F$8*100,5) -> 0.01931
A37: 8953048 | B37: =ROUND(A37/$A$8*100,2) -> 1.09 | C37: 勞職保及保護 | D37: 10194366 | E37: =ROUND(D37/$D$8*100,2) -> 1.46 | F37: 10566599 | G37: =ROUND(F37/$F$8*100,2) -> 1.78 | H37: =D37-F37 -> -372233 | I37: =ROUND(H37/F37*100,2) -> -3.52 | L37: =ROUND(D37/$D$8*100,5) -> 1.45863
A38: 67661694 | B38: =ROUND(A38/$A$8*100,2) -> 8.21 | C38: 收回責任準備 | D38: =SUM(D39:D42) -> 73782 | E38: =ROUND(D38/$D$8*100,2) -> 0.01 | F38: =SUM(F39:F42) -> 97464 | G38: =ROUND(F38/$F$8*100,2) -> 0.02 | H38: =D38-F38 -> -23682 | I38: =ROUND(H38/F38*100,2) -> -24.3 | K38: =ROUND(A38/$A$8*100,5) -> 8.2085 | L38: =ROUND(D38/$D$8*100,5) -> 0.01056 | M38: =ROUND(F38/$F$8*100,5) -> 0.0164
A39: 67562662 | B39: =ROUND(A39/$A$8*100,2) -> 8.2 | C39: 勞工保險 | D39: =23860987-23860987 -> 0 | E39: =ROUND(D39/$D$8*100,2) -> 0 | F39: 0 | G39: =ROUND(F39/$F$8*100,2) -> 0 | H39: =D39-F39 -> 0 | I39: - | K39: =ROUND(A39/$A$8*100,5) -> 8.19649 | L39: =ROUND(D39/$D$8*100,5) -> 0 | M39: =ROUND(F39/$F$8*100,5) -> 0
A40: 0 | B40: =ROUND(A40/$A$8*100,2) -> 0 | C40: 就業保險 | D40: 0 | E40: =ROUND(D40/$D$8*100,2) -> 0 | F40: 0 | G40: =ROUND(F40/$F$8*100,2) -> 0 | H40: 0 | I40: =ROUND(H40/F40*100,2) -> #DIV/0! | K40: =ROUND(A40/$A$8*100,5) -> 0 | L40: =ROUND(D40/$D$8*100,5) -> 0 | M40: =ROUND(F40/$F$8*100,5) -> 0
A41: 0 | B41: =ROUND(A41/$A$8*100,2) -> 0 | C41: 農職保 | D41: 73782 | E41: =ROUND(D41/$D$8*100,2) -> 0.01 | F41: 57612 | G41: =ROUND(F41/$F$8*100,2) -> 0.01 | H41: =D41-F41 -> 16170 | I41: =ROUND(H41/F41*100,2) -> 28.07
...

Sheet 收支餘絀預計表說明
A1: 勞 動 部 勞 工 保 險 局
A2: 勞 工 保 險 局 作 業 基 金
A3: 收支餘絀預計表說明
A4: 中華民國113年度
A6: 一、本年度業務收入698,902,259千元：
A7: （一）租金及權利金收入274,530千元，係基金投資性不動產所獲得之租金收入等。
A8: （二）投融資業務收入32,289,141千元，係本基金投資運用收益、存款利息收入及融資業 務收入。
A9: （三）保險收入531,071,560千元，包含保費收入530,997,778千元及收回責任準備73,782 千元。
A10: （四）其他業務收入135,267,028千元，係政府撥補勞工保險基金及農保虧損由政府補助 等。
A11: 二、本年度業務成本與費用699,228,480千元：
A12: （一）出租資產成本32,423千元，係提列基金投資不動產之折舊、地價稅及房屋修護費用 等。
A13: （二）投融資業務成本1,013,286千元，係本基金投資運用之委託經營經理費、國外投資 保管費及被保險人貸款手續費等。
... A15: （四）其他業務成本5,959,146千元，係依就業保險法第12條第3項規定辦理促進就業等業 務、農保虧損借款之利息支出及依勞工職業災害保險及保護法第62條規定辦理職 業災害預防及重建等業務。
A16: 三、 | B16: 本年度業務外收入328,255千元：
A17: （一）財務收入394千元，係利息收入。
A18: （二）其他業務外收入327,861千元，係違規罰款收入、收回呆帳及雜項收入等。
A19: 四、本年度業務外費用2,034千元，係應付保管款滿4年轉雜項收入後再提出申請等。
A20: 五、本年度收支相抵後，賸餘無列數。

Sheet 餘絀撥補預計表
A1: 勞 動 部 勞 工 保 險 局
A2: 勞 工 保 險 局 作 業 基 金
A3: 餘絀撥補預計表
A4: 中華民國113年度 單位：新臺幣千元
A5: 上年度預算數 | C5: 項目 | D5: 本年度預算數 | F5: 說 明
A6: 金 額 | B6: ％ | D6: 金 額 | E6: ％
A8: - | B8: - | C8: 賸餘之部 | D8: - | E8: -
A9: - | B9: - | C9: 本期賸餘 | D9: - | E9: -
A10: - | B10: - | C10: 未分配賸餘 | D10: - | E10: -

Sheet 現金流量預計表-總
A1: 勞 動 部 勞 工 保 險 局
A2: 勞 工 保 險 局 作 業 基 金
A3: 現金流量預計表
A4: 中華民國113年度 單位：新臺幣千元
A5: 項目 | B5: 預算數 | C5: 說明
A9: 業務活動之現金流量
A10: 本期賸餘（短絀） | B10: 0
A11: 利息股利之調整 | B11: =-D11+D12 -> -8390526 | C11: 1.利息收入 | D11: 8491924 | E11: 千元
C12: 2.利息費用 | D12: 101398 | E12: 千元
A13: 未計利息股利之本期賸餘（短絀） | B13: =+B10+B11 -> -8390526
A14: 調整項目 | B14: =D14+D15+D16+D17+D18+D19+D20 -> 43062362 | C14: 1.提存呆帳 | D14: 745547 | E14: 千元
C15: 2.淨提存責任準備 | D15: =84452496+20000000 -> 104452496 | E15: 千元
C16: 3.折舊 | D16: 16151 | E16: 千元
C17: 4.攤銷 | D17: 5467 | E17: 千元
C18: 5.流動資產淨增 | D18: -62101391 | E18: 千元
C19: 6.流動負債淨增 | D19: 5007 | E19: 千元
C20: 7.其他 | D20: -60915 | E20: 千元
A21: 未計利息股利之現金流入（流出） | B21: =+B13+B14 -> 34671836
A22: 收取利息 | B22: 394 | C22: 收取利息394千元。
A23: 業務活動之淨現金流入（流出） | B23: =+B21+B22 -> 34672230
A24: 投資活動之現金流量
A25: 減少流動金融資產及短期貸墊款 | B25: 2709009 | C25: 係勞工保險業務減少流動金融資產2,709,009千元。
A26: 減少投資、長期應收款、貸墊款及準備金 | B26: 10100000 | C26: 係勞工保險業務減少長期貸款10,100,000千元。
A27: 減少無形資產及其他資產 | B27: 0 | C27: 係勞工保險業務減少其他資產千元。
A28: 收取利息 | B28: 8375073 | C28: 收取利息8,375,073千元。
A29: 增加流動金融資產及短期貸墊款 | B29: -4891781 | C29: 係勞工保險業務增加短期貸款1,607,000千元、就業保險業務增加流動金融資產2,236,101千元、勞職保及保護業務增加流動金融資產1,048,680千元。
A30: 增加投資、長期應收款、貸墊款及準備金 | B30: -26744512 | C30: 係勞工保險業務增加投資-非流動金融資產13,930,289千元及長期貸款9,785,591千元、就業保險業務增加投資-非流動金融資產2,588,633千元、勞職保及保護業務增加投資-非流動金融資產439,999千元。
A31: 增加無形資產及其他資產 | B31: -12000 | C31: 係勞職保及保護業務增加無形資產12,000千元。
A32: 投資活動之淨現金流入（流出） | B32: =SUM(B25:B31) -> -10464211
A33: 籌資活動之現金流量
A34: 增加短期債務、流動金融負債及其他負債 | B34: 1607000 | C34: 係農保及農職保業務增加短期債務1,607,000千元。
A35: 減少短期債務、流動金融負債及其他負債 | B35: -900 | C35: 係勞職保及保護業務減少其他負債900千元。
A36: 支付利息 | B36: -101398 | C36: 支付利息101,398千元。
A37: 籌資活動之淨現金流入（流出） | B37: =SUM(B34:B36) -> 1504702
A38: 現金及約當現金之淨增（淨減） | B38: =B23+B32+B37 -> 25712721
A39: 期初現金及約當現金 | B39: =77279160+1002000 -> 78281160
A40: 期末現金及約當現金 | B40: =B38+B39 -> 103993881

Sheet 租金及權利金收入明細表
A1: 勞 動 部 勞 工 保 險 局
A2: 勞 工 保 險 局 作 業 基 金
A3: 租金及權利金收入明細表
A4: 中華民國113年度 單位：新臺幣千元
A5: 科目及業務項目 | C5: 預 算 數 | E5: 說 明
A9: 租金及權利金收入 | C9: =+C10 -> 274530 | E9: 本科目全數由勞動部勞動基金運用局辦理。
A10: 勞工保險 | C10: =+C11 -> 274530
A11: 投資性不動產收入 | B11: 年 | C11: 274530 | E11: 係基金投資性不動產平均營運量1,599,107千元所獲得之租金收入等，詳第63頁投資性不動產收入分析表。

Sheet 投融資業務收入明細表 
A1: 勞 動 部 勞 工 保 險 局
A2: 勞 工 保 險 局 作 業 基 金
A3: 投融資業務收入明細表
A4: 中華民國113年度 單位：新臺幣千元
A5: 科目及業務項目 | B5: 單位 | C5: 預 算 數 | F5: 說明
C6: 數 量 (業務量) | D6: 利(費)率 | E6: 金 額
A9: 投融資業務收入 | B9: 年 | C9: =C10+C25+C34+C39 -> 985345893 | E9: =E10+E25+E34+E39 -> 32289141 | F9: 本科目勞動部勞工保險局辦理524,310千元；勞動部勞動基金運用局辦理31,764,831千元。 | G9: =+I9-H9 -> 31773981 | H9: =+E34+I21 -> 515160 | I9: =+E9 -> 32289141 | L9: 1631412 | M9: =C9+L9 -> 986977305 | N9: =M9-C34 -> 986517305
A10: 勞工保險 | C10: =+C11+C20+C22 -> 788493893 | E10: =+E11+E20+E22 -> 29507668
A11: 投資業務收入 | B11: 年 | C11: =C12+C16+C17 -> 662966000 | E11: =E12+E16+E17 -> 27883302
A12: 權益證券 | B12: 年 | C12: =+C13 -> 474056000 | E12: =+E13 -> 23797611 | F12: 投資股票、受益憑證等。
A13: 權益證券 | B13: 年 | C13: =+C14+C15 -> 474056000 | E13: =+E14+E15 -> 23797611
A14: 國內投資 | B14: 年 | C14: 189623000 | D14: 0.0502 | E14: 9519075 | H14: 10115703 | I14: =E14-H14 -> -596628 | K14: =E14/C14 -> 0.050200002
A15: 國外投資 | B15: 年 | C15: 284433000 | D15: 0.0502 | E15: 14278536 | H15: 15525083 | I15: =E15-H15 -> -1246547 | K15: =E15/C15 -> 0.050199998
A16: 票券 | B16: 年 | C16: 12641000 | D16: 0.0099 | E16: 125146 | F16: 投資短期票券等。 | K16: =E16/C16 -> 0.0099000079
A17: 債務證券 | B17: 年 | C17: =C18+C19 -> 176269000 | E17: =E18+E19 -> 3960545 | F17: 投資公司債及金融債券等。
A18: 國內投資 | B18: 年 | C18: 42665000 | D18: 0.0183 | E18: 780770
A19: 國外投資 | B19: 年 | C19: 133604000 | D19: 0.0238 | E19: 3179775
A20: 融資業務收入 | B20: 年 | C20: =3402627+30500000 -> 33902627 | D20: =+E20/C20 -> 0.018374623 | E20: =521550+(97145+4253) -> 622948 | F20: 貸款予被保險人之利息收入編列521,550千元，由勞動部勞工保險局辦理；貸款予農民健康保險辦理短期週轉之利息收入編列101,398千元，由勞動部勞動基金運用局辦理。 | G20: 營運量 | H20: 利率 | I20: 收入 | J20: 營運量 | K20: 利率 | L20: 收入 | M20: 營運量 | N20: 利率 | O20: 收入
G21: 30500000 | H21: 1.68 | I21: 512400 | J21: =1000587+32 -> 1000619 | K21: =2.385+0.04 -> 2.425 | L21: =23864+401 -> 24265 | M21: =+G21+J21 -> 31500619 | N21: =+O21/M21 -> 0.017036649 | O21: =+I21+L21 -> 536665
A22: 存款利息收入 | B22: 年 | C22: =SUM(C23:C24) -> 91625266 | E22: =+E23+E24 -> 1001418 | F22: 台幣存款及外幣存款。
A23: 國內 | B23: 年 | C23: 75112266 | D23: 0.0081 | E23: 608409 | K23: =E23/C23 -> 0.0080999953
A24: 國外 | B24: 年 | C24: 16513000 | D24: 0.0238 | E24: 393009 | K24: =E24/C24 -> 0.023799976
A25: 就業保險 | C25: =C31+C26 -> 161086000 | E25: =E31+E26 -> 2365631
A26: 投資業務收入 | B26: 年 | C26: =SUM(C27:C28) -> 113888000 | E26: =SUM(E27:E28) -> 1882748
A27: 票券 | B27: 年 | C27: 12081000 | D27: 0.0099 | E27: 119602 | F27: 投資短期票券等。
A28: 債務證券 | B28: 年 | C28: =C29+C30 -> 101807000 | E28: =E29+E30 -> 1763146 | F28: 投資公司債及金融債券等。
A29: 國內投資 | B29: 年 | C29: 68462000 | D29: 0.0146 | E29: 999545
A30: 國外投資 | B30: 年 | C30: 33345000 | D30: 0.0229 | E30: 763601
A31: 存款利息收入 | B31: 年 | C31: =SUM(C32:C33) -> 47198000 | E31: =SUM(E32:E33) -> 482883 | F31: 台幣存款及外幣存款。
A32: 國內 | B32: 年 | C32: 46715000 | D32: 0.0101 | E32: 471822
A33: 國外 | B33: 年 | C33: 483000 | D33: 0.0229 | E33: 11061
A34: 農保及農職保 | C34: =+C35 -> 460000 | E34: =+E35 -> 2760
A35: 存款利息收入 | B35: 年 | C35: =+C36+C37 -> 460000 | D35: 0.006 | E35: =+E36+E37 -> 2760 | F35: 國庫帳戶台幣存款，由勞動部勞工保險局辦理。
A36: 農保 | B36: 年 | C36: 230000 | D36: 0.006 | E36: 1380
A37: 農職保 | B37: 年 | C37: 230000 | D37: 0.006 | E37: 1380
A39: 勞職保及保護 | C39: =C43+C40 -> 35306000 | E39: =E43+E40 -> 413082
A40: 投資業務收入 | B40: 年 | C40: =SUM(C41:C41) -> 8827000 | E40: =SUM(E41:E41) -> 127109
A41: 債務證券 | B41: 年 | C41: 8827000 | E41: 127109 | F41: 投資公司債及金融債券等。
A42: 國內投資 | B42: 年 | C42: 8827000 | D42: 0.0144 | E42: 127109
A43: 存款利息收入 | B43: 年 | C43: =SUM(C44:C44) -> 26479000 | E43: =SUM(E44:E44) -> 285973 | F43: 台幣存款。
...

Sheet 保險收入明細表
A1: 勞 動 部 勞 工 保 險 局
A2: 勞 工 保 險 局 作 業 基 金
A3: 保險收入明細表
A4: 中華民國113年度 單位：新臺幣千元
A5: 科目及業務項目 | B5: 預算數 | C5: 說明
A9: 保險收入 | B9: =B10+B16+B21+B32 -> 531071560 | C9: 本科目全數由勞動部勞工保險局辦理。 | D9: =+B10+B16+B21+B32 -> 531071560 | F9: =+D9+E9 -> 531071560
A10: 勞工保險 | B10: =+B11+B14 -> 482778342
A11: 保費收入 | B11: =B12+B13 -> 482778342 | C11: 詳第64、68~70頁保費收入分析表及附表。
A12: 保費收入 | B12: 482321513 | C12: 係依投保人數1,053萬人、平均月投保薪資34,700元及保險費率11%估算。
A13: 滯納金收入 | B13: 456829
A14: 收回責任準備 | C14: 係本年度勞工保險收支短絀為358,954千元，悉數由以前年度累積之提存責任準備彌平。
A16: 就業保險 | B16: =B17 -> 32081213
A17: 保費收入 | B17: =SUM(B18:B19) -> 32081213 | C17: 詳第65、70~71頁保費收入分析表及附表。
A18: 保費收入 | B18: 32056864 | C18: 係依投保人數740萬人、平均月投保薪資36,100元及保險費率1%估算。
A19: 滯納金收入 | B19: 24349
A21: 農保及農職保 | B21: =B22+B29 -> 6017639
A22: 保費收入 | B22: =+B23+B26 -> 5943857 | C22: 詳第65~66、72頁保費收入分析表及附表。
A23: 保費收入 | B23: =+B24+B25 -> 5937552
A24: 農保 | B24: 5774220 | C24: 係依投保人數92萬5千人、月投保金額20,400元及保險費率2.55%估算。
A25: 農職保 | B25: 163332 | C25: 係依投保人數34萬9千人、月投保金額20,400元及保險費率0.19%估算。
A26: 滯納金收入 | B26: =+B27 -> 6305
A27: 農保 | B27: 6305
A29: 收回責任準備 | B29: =+B30 -> 73782 | C29: 係本年度農職保，收支短絀為73,782千元，悉數由以前年度累積之提存責任準備彌平。
A30: 農職保 | B30: 73782
A32: 勞職保及保護 | B32: =B36+B33 -> 10194366
A33: 保費收入 | B33: =SUM(B34:B35) -> 10194366 | C33: 詳第66~67、72~74頁保費收入分析表及附表。
A34: 保費收入 | B34: 10179850 | C34: 係依投保人數1,129萬人、平均月投保薪資39,200元及平均費率0.19%估算。
A35: 滯納金收入 | B35: 14516
A36: 收回責任準備 | B36: 0 | C36: 係本年度收支短絀為41,852千元，悉數由以前年度累積之提存責任準備彌平。

Sheet 其他業務收入明細表
A1: 勞 動 部 勞 工 保 險 局
A2: 勞 工 保 險 局 作 業 基 金
A3: 其他業務收入明細表
A4: 中華民國113年度 單位：新臺幣千元
A5: 科目及業務項目 | B5: 預算數 | C5: 說明
A9: 其他業務收入 | B9: =+B10+B13+B18 -> 135267028 | C9: 本科目全數由勞動部勞工保險局辦理。 | D9: =+B10+B13+B18 -> 135267028 | E9: =+B21 -> 0 | F9: =+D9+E9 -> 135267028
A10: 勞工保險 | B10: =+B11 -> 130000000
A11: 其他補助收入 | B11: =10000000+100000000+20000000 -> 130000000 | C11: 係政府撥補勞工保險基金。(含中央政府疫後強化經濟與社會韌性及全民共享經濟成果特別預算於112至114年度共挹注勞工保險基金30,000,000千元，本年度編列10,000,000千元)
A13: 農保及農職保 | B13: =B14 -> 5209157
A14: 其他補助收入 | B14: =+B15+B16 -> 5209157
A15: 農保 | B15: =5204904+4253 -> 5209157 | C15: 係農保收入減支出後之虧損數5,209,157千元，依農民健康保險條例第44條規定，由主管機關撥補。
A16: 農職保 | C16: 係農職保收入減支出後之虧損數13,829千元，依農民健康保險條例第44條之3規定，由主管機關撥補。
A18: 勞職保及保護 | B18: =+B19 -> 57871
A19: 雜項業務收入 | B19: 57871 | C19: 係依據勞工職業災害保險及保護法第36條規定，投保單位未依規定辦理投保、退保手續，保險人發給保險給付後，以書面行政處分，令其限期繳納之收入。

Sheet 業務外收入明細表
A1: 勞 動 部 勞 工 保 險 局
A2: 勞 工 保 險 局 作 業 基 金
A3: 業務外收入明細表
A4: 中華民國113年度 單位：新臺幣千元
A5: 科目及業務項目 | B5: 預算數 | C5: 說明
A9: 業務外收入 | B9: =+B10+B18+B24+B32 -> 328255 | C9: 本科目勞動部勞工保險局辦理326,485千元；勞動部職業安全衛生署辦理1,770千元。 | E9: 289117 | F9: 1770 | G9: =SUM(E9:F9) -> 290887
A10: 勞工保險 | B10: =B11+B13 -> 301410
A11: 財務收入 | B11: =B12 -> 320
A12: 利息收入 | B12: 320 | C12: 係申請人溢領保險給付，經函請退還溢領款項，逾期未繳還經移送行政執行署依法執行後，依當年度1月1日郵政儲金1年期定期存款固定利率加計利息所產生之遲延利息。
A13: 其他業務外收入 | B13: =B15+B16+B14 -> 301090
A14: 違規罰款收入 | B14: 700 | C14: 係被保險人貸款違約金收入。
A15: 收回呆帳 | B15: 280451 | C15: 係預估呆帳收回。
A16: 雜項收入 | B16: 19939 | C16: 主要係應付保管款逾4年轉入等收入。
A18: 就業保險 | B18: =B19+B21 -> 8799
A19: 財務收入 | B19: =B20 -> 43
A20: 利息收入 | B20: 43 | C20: 係申請人溢領保險給付，經函請退還溢領款項，逾期未繳還經移送行政執行署依法執行後，依當年度1月1日郵政儲金1年期定期存款固定利率加計利息所產生之遲延利息。
A21: 其他業務外收入 | B21: =SUM(B22:B23) -> 8756
A22: 收回呆帳 | B22: 8527 | C22: 係預估呆帳收回。
A23: 雜項收入 | B23: 229 | C23: 主要係預收保費屆滿4年轉入等收入。
A24: 農保及農職保 | B24: =B25+B28 -> 4088
A25: 財務收入 | B25: =B26 -> 7
A26: 利息收入 | B26: =+B27 -> 7 | C26: 係申請人溢領保險給付，經函請退還溢領款項，逾期未繳還經移送行政執行署依法執行後，依當年度1月1日郵政儲金1年期定期存款固定利率加計利息所產生之遲延利息。
A27: 農保 | B27: 7
A28: 其他業務外收入 | B28: =+B29 -> 4081
A29: 收回呆帳 | B29: =+B30 -> 4081 | C29: 係預估呆帳收回。
A30: 農保 | B30: 4081
A32: 勞職保及保護 | B32: =B35+B33 -> 13958
A33: 財務收入 | B33: =B34 -> 24
A34: 利息收入 | B34: 24 | C34: 係申請人溢領保險給付，經函請退還溢領款項，逾期未繳還經移送行政執行署依法執行後，依當年度1月1日郵政儲金1年期定期存款固定利率加計利息所產生之遲延利息。
A35: 其他業務外收入 | B35: =SUM(B36:B38) -> 13934
A36: 違規罰款收入 | B36: 1770 | C36: 係依勞工職業災害保險及保護法第101條規定所處罰鍰，由勞動部職業安全衛生署辦理。
A37: 收回呆帳 | B37: 12104 | C37: 係預估呆帳收回。
A38: 雜項收入 | B38: 60 | C38: 主要係應付保管款逾4年轉入等收入。
C47: 係退保已久投保單位溢繳之保險費。

Sheet 出租資產成本明細表
A1: 勞 動 部 勞 工 保 險 局
A2: 勞 工 保 險 局 作 業 基 金
A3: 出租資產成本明細表
A4: 中華民國113年度 單位：新臺幣千元
A5: 前年度決算數 | B5: 上年度預算數 | C5: 科目及業務計畫項目 | D5: 本年度預算數
A7: 28956 | B7: =+B8 -> 31573 | C7: 出租資產成本 | D7: =+D8 -> 32423
A8: 28956 | B8: =+B9 -> 31573 | C8: 勞工保險 | D8: =+D9 -> 32423
A9: 28956 | B9: =B10+B20+B17+B24 -> 31573 | C9: 投資性不動產成本 | D9: =D10+D20+D17+D24 -> 32423
A10: 1522 | B10: =SUM(B11:B16) -> 2641 | C10: 服務費用 | D10: =SUM(D11:D16) -> 3491
A11: 2 | B11: 7 | C11: 水電費 | D11: 7
A12: 1 | B12: 1 | C12: 印刷裝訂及公告費 | D12: 1
A13: 1123 | B13: 2089 | C13: 修理保養及保固費 | D13: 2550
A14: 0 | B14: 0 | C14: 保險費 | D14: 0
A15: 305 | B15: 394 | C15: 一般服務費 | D15: 783
A16: 92 | B16: 150 | C16: 專業服務費 | D16: 150
A17: 16760 | B17: =B18+B19 -> 16760 | C17: 折舊、折耗及攤銷 | D17: =D18+D19 -> 16760
A18: 16151 | B18: 16151 | C18: 投資性不動產折舊 | D18: 16151
A19: 609 | B19: 609 | C19: 攤銷 | D19: 609
A20: 10639 | B20: =SUM(B21:B23) -> 12010 | C20: 稅捐與規費（強制費） | D20: =SUM(D21:D23) -> 12011
A21: 10634 | B21: 12000 | C21: 土地稅 | D21: 12000
A22: 1 | B22: 1 | C22: 房屋稅 | D22: 2
A23: 4 | B23: 9 | C23: 規費 | D23: 9
A24: 35 | B24: =B25 -> 162 | C24: 其他 | D24: =D25 -> 161
A25: 35 | B25: 162 | C25: 其他費用 | D25: 161

Sheet 出租資產成本說明
A1: 勞 動 部 勞 工 保 險 局
A2: 勞 工 保 險 局 作 業 基 金
A3: 出租資產成本說明
A4: 中華民國113年度
A5: 科 目 | B5: 說 明
A7: 出租資產成本 | B7: 本科目全數由勞動部勞動基金運用局辦理。
A8: 勞工保險
A9: 投資性不動產成本
A10: 服務費用
A11: 水電費 | B11: 編列7千元，係基金投資之不動產，招租期間之基本水電費等。
A12: 旅運費 | B12: 編列千元，係基金投資之不動產，辦理相關業務所需旅運費等。
A13: 印刷裝訂及公告費 | B13: 編列1千元，係基金投資之不動產，刊登房屋出租公告等。
A14: 修理保養及保固費 | B14: 編列2,550千元，係基金投資不動產之房屋修護費用等。
A15: 保險費 | B15: 編列121千元，係基金投資不動產之保險費用。
A16: 一般服務費 | B16: 編列783千元，係基金投資不動產保全費用、租賃契約公證費、國產署代標租之作業費用等；其中勞務承攬人力預計進用1人，編列389千元。
A17: 專業服務費 | B17: 編列150千元，為委託調查研究費，係基金投資不動產之鑑價費。
A18: 折舊、折耗及攤銷
A19: 投資性不動產折舊 | B19: 編列16,151千元，係提列基金投資不動產之折舊。
A20: 攤銷 | B20: 編列609千元，係攤銷基金投資不動產之遞延費用。
A21: 稅捐與規費（強制費）
A22: 土地稅 | B22: 編列12,000千元，係基金投資不動產之地價稅。
A23: 房屋稅 | B23: 編列2千元，係基金投資不動產之房屋稅。
A24: 規費 | B24: 編列9千元，係基金投資不動產之行政規費。
A25: 其他
A26: 其他費用 | B26: 編列161千元，係基金投資不動產之其他費用。

Sheet 投融資業務成本明細表
A1: 勞 動 部 勞 工 保 險 局
A2: 勞 工 保 險 局 作 業 基 金
A3: 投融資業務成本明細表
A4: 中華民國113年度 單位：新臺幣千元
A5: 前年度決算數 | B5: 上年度預算數 | C5: 科目及業務計畫項目 | D5: 本年度預算數
A7: =A8+A32+A44-1 -> 290105884 | B7: =B8+B32+B44 -> 1003763 | C7: 投融資業務成本 | D7: =D8+D32+D44 -> 1013286 | E7: =+A8+A32+A44 -> 290105885 | F7: =+A7-E7 -> -1
A8: =+A9+A26+A29 -> 288061196 | B8: =+B9+B26+B29 -> 1003200 | C8: 勞工保險 | D8: =+D9+D26+D29 -> 1012696 | E8: =+A9+A26+A29 -> 288061196 | F8: =+A8-E8 -> 0
A9: =A10+A24+A22+A19 -> 250023188 | B9: =B10+B24+B22+B19 -> 935200 | C9: 投資業務成本 | D9: =D10+D24+D22+D19 -> 944696
A10: =+A11+A13+A15+A17+A18-1 -> 979495 | B10: =+B11+B13+B15+B17+B18 -> 935200 | C10: 服務費用 | D10: =+D11+D13+D15+D17+D18 -> 944696
A11: 0 | B11: =+B12 -> 0 | C11: 郵電費 | D11: =+D12 -> 0
A12: 0 | B12: 0 | C12: 普通事故 | D12: 0
A13: 0 | B13: =+B14 -> 0 | C13: 旅運費 | D13: =+D14 -> 0
A14: 0 | B14: 0 | C14: 普通事故 | D14: 0
A15: 0 | B15: =+B16 -> 0 | C15: 印刷裝訂與廣告費 | D15: =+D16 -> 0
A16: 0 | B16: 0 | C16: 普通事故 | D16: 0
A17: 961502 | B17: =885497+17253 -> 902750 | C17: 一般服務費 | D17: 914499
A18: 17994 | B18: 32450 | C18: 專業服務費 | D18: 30197
A19: 0 | B19: =B20 -> 0 | C19: 材料及用品費 | D19: =D20 -> 0
A20: 0 | B20: =+B21 -> 0 | C20: 用品消耗 | D20: =+D21 -> 0
A21: 0 | B21: 0 | C21: 普通事故 | D21: 0
A22: =A23 -> 153293 | B22: =B23 -> 0 | C22: 租金與利息 | D22: =D23 -> 0
A23: 153293 | B23: 0 | C23: 利息 | D23: 0
A24: =A25 -> 248890400 | B24: =B25 -> 0 | C24: 短絀、賠償與保險給付 | D24: =D25 -> 0
A25: 248890400 | B25: 0 | C25: 各項短絀 | D25: 0
A26: =A27 -> 64594 | B26: =B27 -> 68000 | C26: 融資業務成本 | D26: =D27 -> 68000
A27: =A28 -> 64594 | B27: =B28 -> 68000 | C27: 服務費用 | D27: =D28 -> 68000
A28: 64594 | B28: 68000 | C28: 一般服務費 | D28: 68000
A29: =A30 -> 37973414 | B29: =B30 -> 0 | C29: 兌換短絀 | D29: =D30 -> 0
A30: =A31 -> 37973414 | B30: =B31 -> 0 | C30: 短絀、賠償與保險給付 | D30: =D31 -> 0
A31: 37973414 | B31: 0 | C31: 各項短絀 | D31: 0
A32: =A33+A40+1 -> 2044631 | B32: =B33+B40 -> 556 | C32: 就業保險 | D32: =D33+D40 -> 581 | E32: =+E33+E40 -> 2044631
A33: =A34+A36+A38-1 -> 45893 | B33: =B34+B36+B38 -> 556 | C33: 投資業務成本 | D33: =D34+D36+D38 -> 581 | E33: =+A34+A36+A38 -> 45894
A34: =SUM(A35) -> 332 | B34: =SUM(B35) -> 556 | C34: 服務費用 | D34: =SUM(D35) -> 581
A35: 332 | B35: 556 | C35: 一般服務費 | D35: 581
A36: =SUM(A37) -> 0 | B36: =SUM(B37) -> 0 | C36: 折舊、折耗及攤銷 | D36: =SUM(D37) -> 0
A37: 0 | B37: 0 | C37: 攤銷 | D37: 0
A38: =A39 -> 45562 | B38: =B39 -> 0 | C38: 短絀、賠償與保險給付 | D38: =D39 -> 0
A39: 45562 | B39: 0 | C39: 各項短絀 | D39: 0
A40: =A41 -> 1998737 | B40: =B41 -> 0 | C40: 兌換短絀 | D40: =D41 -> 0 | E40: =+A40 -> 1998737
A41: =A42 -> 1998737 | B41: =B42 -> 0 | C41: 短絀、賠償與保險給付 | D41: =D42 -> 0
...

Sheet 投融資業務成本說明
A1: 勞 動 部 勞 工 保 險 局
A2: 勞 工 保 險 局 作 業 基 金
A3: 投融資業務成本說明
A4: 中華民國113年度
A5: 科 目 | B5: 說 明
A7: 投融資業務成本 | B7: 本科目勞動部勞工保險局辦理68,000千元；勞動部勞動基金運用局辦理945,286千元。
A8: 勞工保險
A9: 投資業務成本
A10: 服務費用
A11: 郵電費 | B11: 編列千元，係基金委託評選案審查文件郵費等。
A12: 旅運費 | B12: 編列千元，係基金委託經營外聘委員之旅運費等。
A13: 印刷裝訂與廣告費 | B13: 編列千元，係基金國外委託經營之評選文件印刷費等。
A14: 一般服務費 | B14: 編列914,499千元，係基金委託經營之經理費及國外投資保管費等。
A15: 專業服務費 | B15: 編列30,197千元，係國外投資委任律師處理訴訟費及委託經營聘請顧問費等。其中委託調查研究費編列1,365千元，係依據勞動基金委託經營要點第5點規定，委託專業投資顧問公司協助辦理國外委託經營受託機構之遴選、績效評定及考核管理之國外委託監管顧問案。
A16: 材料及用品費
A17: 用品消耗 | B17: 編列千元，係基金委託經營評選會議便當等。
A18: 融資業務成本
A19: 服務費用
A20: 一般服務費 | B20: 編列68,000千元，由勞動部勞工保險局辦理，係辦理被保險人貸款之手續費。
A21: 就業保險
A22: 投資業務成本
A23: 服務費用
A24: 一般服務費 | B24: 編列581千元，係短期票券帳戶維護費等。
A25: 折舊、折耗及攤銷
A26: 攤銷 | B26: 編列506千元，係建置就業保險基金投資整合資訊系統，依使用年限編列攤銷費用。
A28: 勞職保及保護
A29: 投資業務成本
A30: 服務費用
A31: 一般服務費 | B31: 編列9千元，係定存利息匯款手續費等。

Sheet 保險成本明細表
A1: 勞 動 部 勞 工 保 險 局
A2: 勞 工 保 險 局 作 業 基 金
A3: 保險成本明細表
A4: 中華民國113年度 單位：新臺幣千元
A5: 前年度決算數 | B5: 上年度預算數 | C5: 科目及業務計畫項目 | D5: 本年度預算數
A7: =A8+A19+A30+A43 -> 530555494 | B7: =B8+B19+B30+B43 -> 588382016 | C7: 保險成本 | D7: =D8+D19+D30+D43 -> 692223625 | E7: =+A8+A19+A30+A43 -> 530555494 | F7: =+A7-E7 -> 0
A8: =A9+A12+A15 -> 482160916 | B8: =B9+B12+B15 -> 543118220 | C8: 勞工保險 | D8: =D9+D12+D15 -> 641814808 | E8: =+A9+A12+A15 -> 482160916 | F8: =+A8-E8 -> 0
A9: =A10 -> 481427175 | B9: =B10 -> 536712433 | C9: 保險給付 | D9: =D10 -> 543211117
A10: =A11 -> 481427175 | B10: =B11 -> 536712433 | C10: 短絀、賠償與保險給付 | D10: =D11 -> 543211117
A11: 481427175 | B11: 536712433 | C11: 保險給付 | D11: 543211117
A12: =A13 -> 0 | B12: =B13 -> 5641046 | C12: 提存責任準備 | D12: =D13 -> 97931897
A13: =A14 -> 0 | B13: =B14 -> 5641046 | C13: 短絀、賠償與保險給付 | D13: =D14 -> 97931897
A14: 0 | B14: =4641046+1000000 -> 5641046 | C14: 提存 | D14: =77931897+20000000 -> 97931897
A15: =A16 -> 733741 | B15: =B16 -> 764741 | C15: 呆帳 | D15: =D16 -> 671794
A16: =A17 -> 733741 | B16: =B17 -> 764741 | C16: 短絀、賠償與保險給付 | D16: =D17 -> 671794
A17: 733741 | B17: 764741 | C17: 各項短絀 | D17: 671794
A19: =A20+A23+A26 -> 32722268 | B19: =B20+B23+B26 -> 28480319 | C19: 就業保險 | D19: =D20+D23+D26 -> 29995584 | E19: =+A20+A23+A26 -> 32722268 | F19: =+A19-E19 -> 0
A20: =A21 -> 20840606 | B20: =B21 -> 25351364 | C20: 保險給付 | D20: =D21 -> 24949551
A21: =A22 -> 20840606 | B21: =B22 -> 25351364 | C21: 短絀、賠償與保險給付 | D21: =D22 -> 24949551
A22: 20840606 | B22: 25351364 | C22: 保險給付 | D22: 24949551
A23: =A24 -> 11838931 | B23: =B24 -> 3083789 | C23: 提存責任準備 | D23: =D24 -> 5010180
A24: =A25 -> 11838931 | B24: =B25 -> 3083789 | C24: 短絀、賠償與保險給付 | D24: =D25 -> 5010180
A25: 11838931 | B25: =3077004+6785 -> 3083789 | C25: 提存 | D25: 5010180
A26: =A27 -> 42731 | B26: =B27 -> 45166 | C26: 呆帳 | D26: =D27 -> 35853
A27: =A28 -> 42731 | B27: =B28 -> 45166 | C27: 短絀、賠償與保險給付 | D27: =D28 -> 35853
A28: 42731 | B28: 45166 | C28: 各項短絀 | D28: 35853
A30: =A31+A39+A36 -> 7099141 | B30: =B31+B39+B36 -> 6935035 | C30: 農保及農職保 | D30: =D31+D39+D36 -> 11132246 | E30: =+A31+A39+A36 -> 7099141 | F30: =+A30-E30 -> 0
A31: =A32 -> 7075333 | B31: =B32 -> 6928465 | C31: 保險給付 | D31: =D32 -> 11126966
A32: =A33 -> 7075333 | B32: =B33 -> 6928465 | C32: 短絀、賠償與保險給付 | D32: =D33 -> 11126966
A33: =+A34+A35 -> 7075333 | B33: =+B34+B35 -> 6928465 | C33: 保險給付 | D33: =+D34+D35 -> 11126966
A34: 6997444 | B34: 6755991 | C34: 農保 | D34: 10888472
A35: 77889 | B35: 172474 | C35: 農職保 | D35: 238494
A36: =A37 -> 18859 | B36: =B37 -> 0 | C36: 提存責任準備(農職保) | D36: =D37 -> 0
A37: =A38 -> 18859 | B37: =B38 -> 0 | C37: 短絀、賠償與保險給付 | D37: =D38 -> 0
A38: 18859 | B38: 0 | C38: 提存 | D38: 0
A39: =A40 -> 4949 | B39: =B40 -> 6570 | C39: 呆帳(農保) | D39: =D40 -> 5280
A40: =A41 -> 4949 | B40: =B41 -> 6570 | C40: 短絀、賠償與保險給付 | D40: =D41 -> 5280
A41: 4949 | B41: 6570 | C41: 各項短絀 | D41: 5280
A43: =A44++A47+A50-1 -> 8573169 | B43: =B44++B47+B50 -> 9848442 | C43: 勞職保及保護 | D43: =D44++D47+D50 -> 9280987 | E43: =A44+A47+A50 -> 8573170 | F43: =A43-E43 -> -1
A44: =A45 -> 7095379 | B44: =B45 -> 9754202 | C44: 保險給付 | D44: =D45 -> 7664166
...

Sheet 保險成本說明
A1: 勞 動 部 勞 工 保 險 局
A2: 勞 工 保 險 局 作 業 基 金
A3: 保險成本說明
A4: 中華民國113年度
A5: 科 目 | B5: 說 明
A7: 保險成本 | B7: 本科目勞動部勞工保險局辦理692,012,438千元；勞動部職業安全衛生署辦理211,187千元。 | E7: 252141 | F7: =582482044+6785 -> 582488829 | G7: =+E7+F7 -> 582740970
A8: 勞工保險
A9: 保險給付
A10: 短絀、賠償與保險給付
A11: 保險給付 | B11: 編列543,211,117千元，係參考以前年度統計資料預估各項給付事故、發生率及單價等因素，主要包含生育、傷病、失能、老年及死亡五項給付，詳第75頁保險給付分析表。
A12: 提存責任準備
A13: 短絀、賠償與保險給付
A14: 提存 | B14: 編列97,931,897千元，係勞工保險收入減支出後之餘額，悉數轉列提存責任準備。
A15: 呆帳
A16: 短絀、賠償與保險給付
A17: 各項短絀 | B17: 編列671,794千元，係按其他應收款及催收款項餘額依回收情況提列呆帳。
A19: 就業保險
A20: 保險給付
A21: 短絀、賠償與保險給付
A22: 保險給付 | B22: 編列24,949,551千元，係參考以前年度相關給付、津貼執行情形，包含失業給付、提早就業獎助津貼、職業訓練生活津貼、育嬰留職停薪津貼及補助全民健保費，詳第76頁保險給付分析表。
A23: 提存責任準備
A24: 短絀、賠償與保險給付
A25: 提存 | B25: 編列5,010,180千元，係就業保險收入減支出後之餘額，悉數轉列提存責任準備。
A26: 呆帳
A27: 短絀、賠償與保險給付
A28: 各項短絀 | B28: 編列35,853千元，係按其他應收款及催收款項餘額依回收情況提列呆帳。
A30: 農保及農職保
A31: 保險給付
A32: 短絀、賠償與保險給付
A33: 保險給付 | B33: 編列11,126,966千元，係參考以前年度統計資料預估各項給付發生率及單價等因素，詳第76~77頁保險給付分析表，其中：
B34: 1. | C34: 農保：編列10,888,472千元，主要包含生育給付、身心障礙給付及喪葬津貼。
B35: 2. | C35: 農職保：編列238,494千元，主要包含傷病給付、身心障礙給付、就醫津貼及喪葬津貼。
A36: 呆帳
A37: 短絀、賠償與保險給付
A38: 各項短絀 | B38: 編列5,280千元，係農保按催收款項餘額依回收情況提列呆帳。
A41: 勞職保及保護 | B41: 本科目勞動部勞工保險局辦理9,069,800千元；勞動部職業安全衛生署辦理211,187千元。
A42: 保險給付
A43: 短絀、賠償與保險給付
A44: 保險給付 | B44: 編列7,664,166千元，詳第77~80頁保險給付分析表，其中：
B45: 1. | C45: 編列7,452,979千元，係參考以前年度統計資料預估各項給付發生率及單價等因素，主要包含醫療、傷病、失能及死亡之各項給付等。
...

Sheet 其他業務成本明細表
A1: 勞 動 部 勞 工 保 險 局
A2: 勞 工 保 險 局 作 業 基 金
A3: 其他業務成本明細表
A4: 中華民國113年度 單位：新臺幣千元
A5: 前年度決算數 | B5: 上年度預算數 | C5: 科目及業務計畫項目 | D5: 本年度預算數
A7: =A8+A13+A18+1 -> 3972891 | B7: =B8+B13+B18 -> 5228218 | C7: 其他業務成本 | D7: =D8+D13+D18 -> 5959146 | E7: =+A8+A13+A18 -> 3972890
A8: =A9 -> 3104765 | B8: =B9 -> 4041431 | C8: 就業保險 | D8: =D9 -> 4459467
A9: =A10 -> 3104765 | B9: =B10 -> 4041431 | C9: 雜項業務成本 | D9: =D10 -> 4459467
A10: =A11 -> 3104765 | B10: =B11 -> 4041431 | C10: 其他 | D10: =D11 -> 4459467
A11: 3104765 | B11: =4048216-6785 -> 4041431 | C11: 其他費用 | D11: 4459467
A13: =A14 -> 26213 | B13: =B14 -> 24265 | C13: 農保及農職保 | D13: =D14 -> 101398
A14: =A15 -> 26213 | B14: =B15 -> 24265 | C14: 雜項業務成本(農保) | D14: =D15 -> 101398
A15: =A16 -> 26213 | B15: =B16 -> 24265 | C15: 租金與利息 | D15: =D16 -> 101398
A16: 26213 | B16: =23864+401 -> 24265 | C16: 利息 | D16: =97145+4253 -> 101398
A18: =A19 -> 841912 | B18: =B19 -> 1162522 | C18: 勞職保及保護 | D18: =D19 -> 1398281
A19: =SUM(A20,A31,A35,A41,A43,A45) -> 841912 | B19: =SUM(B20,B31,B35,B41,B43,B45) -> 1162522 | C19: 雜項業務成本 | D19: =SUM(D20,D31,D35,D41,D43,D45) -> 1398281
A20: =SUM(A21:A30)+1 -> 563481 | B20: =SUM(B21:B30) -> 486470 | C20: 服務費用 | D20: =SUM(D21:D30) -> 530253
A21: 305 | B21: 763 | C21: 水電費 | D21: 0
A22: 349 | B22: 409 | C22: 郵電費 | D22: 389
A23: 7082 | B23: 8465 | C23: 旅運費 | D23: 11523
A24: 809 | B24: 3393 | C24: 印刷裝訂及公告費 | D24: =5299-299 -> 5000
A25: 415 | B25: 0 | C25: 修理保養及保固費 | D25: 0
A26: 45 | B26: 194 | C26: 保險費 | D26: 200
A27: 193294 | B27: 135671 | C27: 一般服務費 | D27: =140706 -> 140706
A28: =11476+247530+93500 -> 352506 | B28: 323045 | C28: 專業服務費 | D28: =41495+313500 -> 354995
A29: 113 | B29: 5300 | C29: 媒體政策及業務宣導費 | D29: =8240-500 -> 7740
A30: 8562 | B30: 9230 | C30: 推展費 | D30: 9700
A31: 4244 | B31: =SUM(B32:B33) -> 4643 | C31: 材料及用品費 | D31: =SUM(D32:D33) -> 3309
A32: 445 | B32: 1734 | C32: 使用材料費 | D32: 450
A33: 3784 | B33: 2909 | C33: 用品消耗 | D33: 2859
A34: 16 | B34: 0 | C34: 商品及醫療用品 | D34: 0
A35: 2773 | B35: =SUM(B36:B40) -> 3949 | C35: 租金與利息 | D35: =SUM(D36:D40) -> 7902
A36: 23 | B36: 977 | C36: 地租及水租 | D36: 300
A37: 966 | B37: 742 | C37: 房租 | D37: 1952
A38: 199 | B38: 150 | C38: 機器租金 | D38: 950
A39: 1257 | B39: 1644 | C39: 交通及運輸設備租金 | D39: 4100
A40: 328 | B40: 436 | C40: 什項設備租金 | D40: 600
A41: 0 | B41: 0 | C41: 折舊、折耗及攤銷 | D41: =D42 -> 4858
A42: 0 | B42: 0 | C42: 攤銷 | D42: 4858
A43: 73 | B43: 0 | C43: 稅捐與規費(強制費) | D43: =D44 -> 0
...

Sheet 其他業務成本說明
A1: 勞 動 部 勞 工 保 險 局
A2: 勞 工 保 險 局 作 業 基 金
A3: 其他業務成本說明
A4: 中華民國113年度
A5: 科 目 | B5: 說 明
A7: 其他業務成本 | B7: 本科目勞動部及所屬機關辦理4,459,467千元；勞動部勞工保險局辦理414,898千元；勞動部職業安全衛生署辦理1,084,781千元。 | D7: =4048216-6785 -> 4041431 | E7: =23864+304500+401 -> 328765 | F7: 860022 | G7: =SUM(D7:F7) -> 5230218
A8: 就業保險
A9: 雜項業務成本
A10: 其他
A11: 其他費用 | B11: 編列4,459,467千元，由勞動部及所屬機關辦理，係依就業保險法第12條第3項規定，辦理被保險人之在職訓練、被保險人失業後之職業訓練、創業協助及其他促進就業措施、被保險人之僱用安定措施、雇主僱用失業勞工之獎助等業務。
A13: 農保及農職保
A14: 雜項業務成本
A15: 租金與利息
A16: 利息 | B16: 編列101,398千元，由勞動部勞工保險局辦理，係農保虧損向勞工保險基金借款之利息支出，預估113年度平均借款金額為3,402,627千元，平均借款利率2.98%。貸款機關為勞動部勞動基金運用局，貸款用途為補足農保當年度收支不足數。
A18: 職業災害勞工保護
A19: 雜項業務成本
A20: 短絀、賠償與保險給付
A21: 保險給付 | B21: 編列15,886千元，由勞動部職業安全衛生署辦理，係政府對未加保勞工而遭遇職業災害者之各項補助，並參考以前年度執行情形核實編列，詳第88頁雜項業務成本分析表─職業災害勞工保護。
A23: 勞職保及保護
A24: 雜項業務成本 | B24: 編列1,398,281千元，由勞動部勞工保險局辦理313,500千元及勞動部職業安全衛生署辦理1,084,781千元，係依勞工職業災害保險及保護法第62條規定辦理職業災害預防及重建等業務，詳第81~82頁雜項業務成本分析表─勞職保及保護。 | D24: 304500 | E24: 865022 | F24: =SUM(D24:E24) -> 1169522
A25: 服務費用
A26: 水電費 | B26: 編列763千元，係業務實際需要並遵行節能減碳政策之水電費。
A27: 郵電費 | B27: 編列389千元，係郵費、電話費及數據通信費等。
A28: 旅運費 | B28: 編列11,523千元，係按國內出差旅費報支要點規定之國內旅費等。
A29: 印刷裝訂及公告費 | B29: 編列5,000千元，係各種文件、表單、報表、書函等之印刷及裝訂費。
A30: 保險費 | B30: 編列200千元，係責任保險費等。
A31: 一般服務費 | B31: 編列140,706千元，係委託廠商之服務費等；其中勞務承攬人力預計進用5人，編列3,960千元；契僱人力預計進用9人，編列5,260千元。
A32: 專業服務費 | B32: 編列354,995千元，係辦理各項講習之講課鐘點費與邀請專家學者及採購評選委員之出席費、電腦軟體服務費等41,495千元，以及預防職業病健康檢查313,500千元。
A33: 媒體政策及業務宣導費 | B33: 編列7,740千元，係辦理職業安全衛生、職業健康與安全衛生永續發展政策、職災勞工重返職場業務、職業傷病診治業務、職業災害預防及重建業務推廣、勞動與安全健康工作環境觀念認知等職業災害預防業務，相關媒體通路宣導製作、託播及刊登等。
A34: 推展費 | B34: 編列9,700千元，係運用研究成果與配合產業特性或展示主題，製作勞動及安全衛生展品，進行多元化展示與推廣營造業防災及安全衛生意識等。
A35: 材料及用品費
A36: 使用材料費 | B36: 編列450千元，係租賃車輛之燃料等。
A37: 用品消耗 | B37: 編列2,859千元，係各種辦公用品及其他雜支等。
A38: 租金與利息
A39: 地租及水租 | B39: 編列300千元，係租賃室外場地等租金。
A40: 房租 | B40: 編列1,952千元，係租賃室內活動場地等租金。
A41: 機器租金 | B41: 編列950千元，係租賃機械及設備等租金。
A42: 交通及運輸設備租金 | B42: 編列4,100千元，係租賃檢查車輛租金。
A43: 什項設備租金 | B43: 編列600千元，係租賃防護及機具等什項設備租金。
A44: 折舊、折耗及攤銷
...

Sheet 業務外費用明細表
A1: 勞 動 部 勞 工 保 險 局
A2: 勞 工 保 險 局 作 業 基 金
A3: 業務外費用明細表
A4: 中華民國113年度 單位：新臺幣千元
A5: 前年度決算數 | B5: 上年度預算數 | C5: 科目及業務計畫項目 | D5: 本年度預算數
A7: 723 | B7: =B8+B14+B20 -> 155 | C7: 業務外費用 | D7: =D8+D14+D20 -> 2034
A8: 645 | B8: =B9 -> 144 | C8: 勞工保險 | D8: =D9 -> 2023
A9: 645 | B9: =B10 -> 144 | C9: 其他業務外費用 | D9: =D10 -> 2023
A10: 645 | B10: =B11 -> 144 | C10: 雜項費用 | D10: =D11 -> 2023
A11: 645 | B11: =B12 -> 144 | C11: 其他 | D11: =D12 -> 2023
A12: 645 | B12: 144 | C12: 其他費用 | D12: 2023
A14: 58 | B14: =B15 -> 11 | C14: 就業保險 | D14: =D15 -> 11
A15: 58 | B15: =B16 -> 11 | C15: 其他業務外費用 | D15: =D16 -> 11
A16: 58 | B16: =B17 -> 11 | C16: 雜項費用 | D16: =D17 -> 11
A17: 58 | B17: =B18 -> 11 | C17: 其他 | D17: =D18 -> 11
A18: 58 | B18: 11 | C18: 其他費用 | D18: 11
A20: 19 | B20: =B21 -> 0 | C20: 勞職保及保護 | D20: =D21 -> 0
A21: 19 | B21: =B22 -> 0 | C21: 其他業務外費用 | D21: =D22 -> 0
A22: 19 | B22: =B23 -> 0 | C22: 雜項費用 | D22: =D23 -> 0
A23: 19 | B23: =B24 -> 0 | C23: 其他 | D23: =D24 -> 0
A24: 19 | B24: 0 | C24: 其他費用 | D24: 0

Sheet 業務外費用說明
A1: 勞 動 部 勞 工 保 險 局
A2: 勞 工 保 險 局 作 業 基 金
A3: 業務外費用說明
A4: 中華民國113年度
A5: 科 目 | B5: 說 明
A7: 業務外費用 | B7: 本科目全數由勞動部勞工保險局辦理。
A8: 勞工保險
A9: 其他業務外費用
A10: 雜項費用
A11: 其他
A12: 其他費用 | B12: 係應付保管款滿4年轉雜項收入後再提出申請編列2,011千元及依據勞動部改制前之行政院勞工委員會93年10月26日勞保1字第0930051342號函示，同意投保單位繳納保險費之金額差異在新臺幣10元以下者，轉列雜項費用編列12千元。 | G12: 普通組50千元 保費組12千元
A13: 就業保險
A14: 其他業務外費用
A15: 雜項費用
A16: 其他
A17: 其他費用 | B17: 係依據勞動部改制前之行政院勞工委員會93年10月26日勞保1字第0930051342號函示，同意投保單位繳納保險費之金額差異在新臺幣10元以下者，轉列雜項費用編列11千元。
A19: 就業保險
A20: 其他業務外費用
A21: 雜項費用
A22: 其他
A23: 其他費用 | B23: 編列0千元，係應付保管款滿4年轉雜項收入後再提出申請。

Sheet 資產折舊明細表
A1: 勞 動 部 勞 工 保 險 局
A2: 勞 工 保 險 局 作 業 基 金
A3: 資產折舊明細表
A4: 中華民國113年度 單位：新臺幣千元
A5: 項目 | B5: 不動產、廠房及設備 | J5: 投資性 不動產 | K5: 其他 | L5: 合 計
B6: 土地 改 良物 | C6: 房屋及 建築 | D6: 機械及 設備 | E6: 交通 及運 輸設備 | F6: 什 項 設 備 | G6: 租賃 權益 | H6: 租賃權 益改良 | I6: 生產 性 植物
A7: 前年度決算資產原值 | B7: 0 | C7: 0 | D7: 0 | E7: 0 | F7: 0 | G7: 0 | H7: 0 | I7: 0 | J7: 1931021 | K7: 0 | L7: =SUM(B7:K7) -> 1931021
A8: 上年度預計增減資產原值 | B8: 0 | C8: 0 | D8: 0 | E8: 0 | F8: 0 | G8: 0 | H8: 0 | I8: 0 | J8: 0 | K8: 0 | L8: =SUM(B8:K8) -> 0
A9: 本年度預計增減資產原值 | B9: =B7-B8 -> 0 | C9: =C7-C8 -> 0 | D9: =D7-D8 -> 0 | E9: =E7-E8 -> 0 | F9: =F7-F8 -> 0 | G9: =G7-G8 -> 0 | H9: =H7-H8 -> 0 | I9: 0 | J9: 0 | K9: =K7-K8 -> 0 | L9: =SUM(B9:K9) -> 0
A10: 資產重估增值額 | B10: 0 | C10: 0 | D10: 0 | E10: 0 | F10: 0 | G10: 0 | H10: 0 | I10: 0 | J10: 0 | K10: 0 | L10: =SUM(B10:K10) -> 0
A11: 本年度(12月底)止資產總額 | B11: 0 | C11: 0 | D11: 0 | E11: 0 | F11: 0 | G11: 0 | H11: 0 | I11: 0 | J11: 1931021 | K11: 0 | L11: =SUM(B11:K11) -> 1931021
A12: 本年度應提折舊額 | B12: 0 | C12: 0 | D12: 0 | E12: 0 | F12: 0 | G12: 0 | H12: 0 | I12: 0 | J12: =J13 -> 16151 | K12: 0 | L12: =SUM(B12:K12) -> 16151
A13: 出租資產 成本 | B13: 0 | C13: 0 | D13: 0 | E13: 0 | F13: 0 | G13: 0 | H13: 0 | I13: 0 | J13: =J14 -> 16151 | K13: 0 | L13: =SUM(B13:K13) -> 16151
A14: 投資性 不動產 折舊 | B14: 0 | C14: 0 | D14: 0 | E14: 0 | F14: 0 | G14: 0 | H14: 0 | I14: 0 | J14: 16151 | K14: 0 | L14: =SUM(B14:K14) -> 16151

Sheet 基金數額增減明細表
A1: 勞 動 部 勞 工 保 險 局
A2: 勞 工 保 險 局 作 業 基 金
A3: 基金數額增減明細表
A4: 中華民國113年度 單位：新臺幣千元
A5: 項目 | B5: 金額 | C5: 說明
A7: 期初基金數額 | B7: 625
A8: 加：
A9: 以前年度公積撥充 | B9: -
A10: 賸餘撥充 | B10: -
A11: 以國有財產撥充 | B11: -
A12: 國庫增撥數 | B12: -
A13: 其他 | B13: -
A14: 減：
A15: 填補短絀 | B15: -
A16: 折減基金繳庫 | B16: -
A17: 其他 | B17: -
A18: 期末基金數額 | B18: =B7+B8 -> 625

Sheet 無形資產明細表
A1: 勞 動 部 勞 工 保 險 局
A2: 勞 工 保 險 局 作 業 基 金
A3: 無形資產明細表
A4: 中華民國113年度 單位：新臺幣千元
A5: 前年度決算數 | B5: 上年度預算數 | C5: 科目及業務項目 | D5: 本年度預算數 | E5: 說 明
A7: =A9 -> 13749 | B7: =B9 -> 10400 | C7: 電腦軟體 | D7: =D9 -> 12000 | E7: 本科目全數由勞動部職業安全衛生署辦理。
A9: 13749 | B9: 10400 | C9: 委外開發設計應用軟體 | D9: 12000 | E9: 1. | F9: 辦理職業災害勞工服務資訊整合管理系統及行動版相關功能之擴充5,000千元。
E10: 2. | F10: 辦理化學品相關資訊系統網站、建置作業環境監測及暴露評估相關系統之擴充2,050千元。
E11: 3. | F11: 辦理全國勞工特殊健康檢查資料庫系統功能之擴充2,950千元。
E12: 4. | F12: 辦理全國職業安全衛生智能雲系統功能之擴充2,000千元。
A13: 1689 | B13: 0 | C13: 發展中之無形資產 | D13: 0
A14: 1689 | B14: 0 | C14: 委外開發設計應用軟體 | D14: 0
A21: =A7+A13 -> 15438 | B21: =B7 -> 10400 | C21: 總 計 | D21: =D7+D13 -> 12000

Sheet 貸出款明細表 
A1: 勞 動 部 勞 工 保 險 局
A2: 勞 工 保 險 局 作 業 基 金
A3: 貸出款明細表
A4: 中華民國113年度 單位：新臺幣千元
A5: 計畫名稱 | B5: 貸款 年度 | C5: 期初貸出 餘額 | D5: 本年度貸出 金額 | E5: 本年度收回 金額 | F5: 截至本年度 累計 貸出餘額 | G5: 備註
A6: 短期貸款 | B6: 113 | C6: 5049000 | D6: 1607000 | E6: 0 | F6: =+C6+D6-E6 -> 6656000 | G6: 係依據行政院89年5月18日台89忠一字第09118號函辦理農保短期週轉。 | I6: 農保組及基金運用局
A7: 應收到期長期貸款 | B7: 113 | C7: 285000 | D7: 1500000 | E7: 1500000 | F7: =+C7+D7-E7 -> 285000 | I7: 保費組
A8: 小計 | C8: =SUM(C6:C7) -> 5334000 | D8: =SUM(D6:D7) -> 3107000 | E8: =SUM(E6:E7) -> 1500000 | F8: =SUM(F6:F7) -> 6941000
A9: 長期貸款 | B9: 113 | C9: 10371000 | D9: 10600000 | E9: 8600000 | F9: =+C9+D9-E9 -> 12371000 | G9: 1. 2. | H9: 係依據92年1月20日總統華總一義字第09200012650號令修正公布勞工保險條例第67條，被保險人向勞保基金貸款。 | I9: 保費組
A11: 減:轉列應收到期長期貸款 | B11: 113 | C11: 0 | D11: 0 | E11: 1500000 | F11: =+C11+D11-E11 -> -1500000 | G11: 2. | H11: 截至本年度累計貸出餘額未包含長期貸款轉列催收款項計19,617,413千元，又本年度被保險人貸款轉催收款項減少數814,409千元。
A12: 小計 | C12: =SUM(C9:C11) -> 10371000 | D12: =SUM(D9:D11) -> 10600000 | E12: =SUM(E9:E11) -> 10100000 | F12: =SUM(F9:F11) -> 10871000
A21: 合計 | C21: =+C8+C12 -> 15705000 | D21: =+D8+D12 -> 13707000 | E21: =+E8+E12 -> 11600000 | F21: =+F8+F12 -> 17812000

Sheet 平衡表-總
A1: 勞 動 部 勞 工 保 險 局
A2: 勞 工 保 險 局 作 業 基 金
A3: 預計平衡表
A4: 中華民國113年12月31日 單位：新臺幣千元
A5: 111年12月31日 實際數 | B5: 科目 | C5: 113年12月31日 預計數 | D5: 112年12月31日 預計數 | E5: 比較增減
A9: =+A10+A16+A19+A21+A23+1 -> 1066378904 | B9: 資產 | C9: =+C10+C16+C19+C21+C23 -> 1192869105 | D9: =+D10+D16+D19+D21+D23 -> 1086866417 | E9: =+E10+E16+E19+E21+E23 -> 106002688
A10: =SUM(A11:A15)-1 -> 798377438 | B10: 流動資產 | C10: =SUM(C11:C15) -> 931459503 | D10: =SUM(D11:D15) -> 842169176 | E10: =SUM(E11:E15) -> 89290327
A11: 63375917 | B11: 現金 | C11: =82991881+1000000+2000+20000000 -> 103993881 | D11: =77279160+1000000+2000 -> 78281160 | E11: =C11-D11 -> 25712721
A12: 628645613 | B12: 流動金融資產 | C12: 715647935 | D12: 655319812 | E12: =C12-D12 -> 60328123
A13: 103127013 | B13: 應收款項 | C13: 104870687 | D13: 103232204 | E13: =C13-D13 -> 1638483
A14: 6962 | B14: 預付款項 | C14: 6000 | D14: 2000 | E14: =C14-D14 -> 4000
A15: 3221934 | B15: 短期貸墊款 | C15: 6941000 | D15: 5334000 | E15: =C15-D15 -> 1607000
A16: =SUM(A17:A18) -> 239515595 | B16: 投資、長期應收款、貸墊款及準備金 | C16: =SUM(C17:C18) -> 235458903 | D16: =SUM(D17:D18) -> 217999982 | E16: =SUM(E17:E18) -> 17458921
A17: 231543196 | B17: 非流動金融資產 | C17: 224587903 | D17: 207628982 | E17: =C17-D17 -> 16958921
A18: 7972399 | B18: 長期貸款 | C18: 10871000 | D18: 10371000 | E18: =C18-D18 -> 500000
A19: =+A20 -> 1385694 | B19: 投資性不動產 | C19: =+C20 -> 1353392 | D19: =+D20 -> 1369543 | E19: =+E20 -> -16151
A20: 1385694 | B20: 投資性不動產 | C20: 1353392 | D20: 1369543 | E20: =C20-D20 -> -16151
A21: =A22 -> 15463 | B21: 無形資產 | C21: =C22 -> 30173 | D21: =D22 -> 23031 | E21: =+E22 -> 7142
A22: 15463 | B22: 無形資產 | C22: =30148+25 -> 30173 | D22: =23006+25 -> 23031 | E22: =C22-D22 -> 7142
A23: =+A24+A25+A26 -> 27084713 | B23: 其他資產 | C23: =+C24+C25+C26 -> 24567134 | D23: =+D24+D25+D26 -> 25304685 | E23: =+E24+E25+E26 -> -737551
A24: 38533 | B24: 遞延資產 | C24: =37340-25 -> 37315 | D24: =37949-25 -> 37924 | E24: =C24-D24 -> -609
A25: 26807868 | B25: 什項資產 | C25: 24291507 | D25: 25028449 | E25: =C25-D25 -> -736942
A26: 238312 | B26: 待處理資產 | C26: 238312 | D26: 238312 | E26: =C26-D26 -> 0
A29: =A9 -> 1066378904 | B29: 合計 | C29: =C9 -> 1192869105 | D29: =D9 -> 1086866417 | E29: =E9 -> 106002688
A30: =A31+A36 -> 1066373695 | B30: 負債 | C30: =C31+C36 -> 1192863896 | D30: =D31+D36 -> 1086861208 | E30: =E31+E36 -> 106002688
A31: =SUM(A32:A35) -> 23697230 | B31: 流動負債 | C31: =SUM(C32:C35) -> 27229224 | D31: =SUM(D32:D35) -> 25617217 | E31: =SUM(E32:E35) -> 1612007
A32: 3120000 | B32: 短期債務 | C32: 6656000 | D32: 5049000 | E32: =C32-D32 -> 1607000
A33: 19999303 | B33: 應付款項 | C33: 19998072 | D33: 19995841 | E33: =C33-D33 -> 2231
A34: 302135 | B34: 預收款項 | C34: 299360 | D34: 296584 | E34: =C34-D34 -> 2776
A35: 275792 | B35: 流動金融負債 | C35: 275792 | D35: 275792 | E35: =C35-D35 -> 0
A36: =SUM(A37:A39)+1 -> 1042676465 | B36: 其他負債 | C36: =SUM(C37:C39) -> 1165634672 | D36: =SUM(D37:D39) -> 1061243991 | E36: =SUM(E37:E39) -> 104390681
A37: 3853346 | B37: 遞延負債 | C37: 3731516 | D37: 3792431 | E37: =C37-D37 -> -60915
A38: 1038660157 | B38: 負債準備 | C38: =1140738024+1002000+20000000 -> 1161740024 | D38: =1056285528+1002000 -> 1057287528 | E38: =C38-D38 -> 104452496
A39: 162961 | B39: 什項負債 | C39: 163132 | D39: 164032 | E39: =C39-D39 -> -900
A40: =A41+A43+A45 -> 5209 | B40: 淨值 | C40: =C41+C43+C45 -> 5209 | D40: =D41+D43+D45 -> 5209 | E40: =E41+E43+E45 -> 0
A41: =A42 -> 625 | B41: 基金 | C41: =C42 -> 625 | D41: =D42 -> 625 | E41: =E42 -> 0
A42: 625 | B42: 基金 | C42: 625 | D42: 625 | E42: =C42-D42 -> 0
A43: =A44 -> 4584 | B43: 公積 | C43: =C44 -> 4584 | D43: =D44 -> 4584 | E43: =E44 -> 0
A44: 4584 | B44: 資本公積 | C44: 4584 | D44: 4584 | E44: =C44-D44 -> 0
A45: =A46 -> 0 | B45: 累積餘絀 | C45: =C46 -> 0 | D45: =D46 -> 0 | E45: =E46 -> 0
...

Sheet 5年來主要營運項目分析表
A1: 勞 動 部 勞 工 保 險 局
A2: 勞 工 保 險 局 作 業 基 金
A3: 5年來主要營運項目分析表
A4: 中華民國113年度 單位：新臺幣千元
A5: 年 度 及 項 目 | B5: 單位 | C5: 數量 | D5: 單位成本 （元）或平 均利(費)率 | E5: 預(決)算數 | F5: 說明
A7: 本年度預算數 | E7: =E8 -> 586951800
A8: 保險給付 | E8: =SUM(E9:E12) -> 586951800
A9: 勞工保險 | E9: 543211117
A10: 就業保險 | E10: 24949551
A11: 農保及農職保 | E11: ='收支餘絀預計表-總'!D70+'收支餘絀預計表-總'!D71 -> 11126966
A12: 勞職保及保護 | E12: ='收支餘絀預計表-總'!D72 -> 7664166
A14: 上年度預算數 | E14: =E15 -> 578746464
A15: 保險給付 | E15: =SUM(E16:E19) -> 578746464
A16: 勞工保險 | E16: 536712433
A17: 就業保險 | E17: 25351364
A18: 農保及農職保 | E18: 6928465
A19: 勞職保及保護 | E19: 9754202
A21: 前年度決算數 | E21: =E22 -> 516438493
A22: 保險給付 | E22: =SUM(E23:E26) -> 516438493
A23: 勞工保險 | E23: 481427175
A24: 就業保險 | E24: 20840606
A25: 農保及農職保 | E25: =6997444+77889 -> 7075333
A26: 勞職保及保護 | E26: 7095379
A28: 110年度決算數 | E28: =E29 -> 491238317
A29: 保險給付 | E29: =SUM(E30:E33) -> 491238317
A30: 勞工保險 | E30: 456360965
A31: 就業保險 | E31: 20801976
A32: 農保及農職保 | E32: 6749730
A33: 勞職保及保護 | E33: 7325646
A35: 109年度決算數 | E35: =E36 -> 486281174
A36: 保險給付 | E36: =SUM(E37:E40) -> 486281174
A37: 勞工保險 | E37: 448797088
A38: 就業保險 | E38: 23106476
A39: 農保及農職保 | E39: 6940840
A40: 勞職保及保護 | E40: 7436770

Sheet 員工人數彙計表
A1: 勞 動 部 勞 工 保 險 局
A2: 勞 工 保 險 局 作 業 基 金
A3: 員工人數彙計表
A4: 中華民國113年度 單位：人
A5: 科 目 | B5: 上年度最高 | C5: 本年度增減(-)數 | D5: 本年度最高 | E5: 說 明
B6: 可進用員額數 | D6: 可進用員額數
E7: 本年度無預算員額。
A22: 總 計
A23: 註：係勞動部職業安全衛生署、勞動部勞動基金運用局非以用人費用科目辦理項目，包括： 1.勞務承攬人力主要係辦理協助發放職災勞工死亡慰問金、基金投資不動產保全管理等相關業務，預計6人。 2.契僱人力主要係辦理各地方政府職災勞工服務紀錄填報確認、電話服務、郵件收受、公文繕校、資料建檔 繕校等業務，預計9人。

Sheet 用人費用彙計表
A1: 勞 動 部 勞 工 保 險 局
A2: 勞 工 保 險 局 作 業 基 金
A3: 用人費用彙計表
A4: 中華民國113年度 單位：新臺幣千元
A5: 科 目 | B5: 正式員 額薪資 | C5: 聘僱人員薪資 | D5: 加(夜) 班費 | E5: 津貼 | F5: 獎金 | G5: 退休及卹償金 | H5: 福利費 | I5: 提繳費 | J5: 總計
A19: 合 計
A20: 註：係勞動部職業安全衛生署、勞動部勞動基金運用局非以用人費用科目辦理項目，包括： 1.勞務承攬人力主要係辦理協助發放職災勞工死亡慰問金、基金投資不動產保全管理等相關業務，預計6人， 編列一般服務費4,349千元(勞動部職業安全衛生署3,960千元，勞動部勞動基金運用局389千元)。 2.契僱人力主要係辦理各地方政府職災勞工服務紀錄填報確認、電話服務、郵件收受、公文繕校、資料建檔 繕校等業務，預計9人，勞動部職業安全衛生署編列一般服務費5,260千元。

Sheet 媒體政策及業務宣導費彙計表
A1: 勞 動 部 勞 工 保 險 局
A2: 勞 工 保 險 局 作 業 基 金
A3: 媒體政策及業務宣導費彙計表
A4: 中華民國113年度 單位：新臺幣千元
A5: 前年度決算數 | B5: 上年度預算數 | C5: 科目 | D5: 預算數 | E5: 預計執行內容
A7: 0 | B7: 0 | C7: 業務支出部分 | D7: =D8+D12 -> 7740 | E7: 本科目全數由勞動部職業安全衛生署辦理。
A8: 0 | B8: 0 | C8: 其他業務成本 | D8: =D9+D10 -> 7740
A9: 0 | B9: 0 | C9: 勞職保及保護 | D9: =8240-500 -> 7740 | E9: 辦理職業安全衛生、職業健康與安全衛生永續發展政策、職災勞工重返職場業務、職業傷病診治業務、職業災害預防及重建業務推廣、勞動與安全健康工作環境觀念認知等職業災害預防業務，相關媒體通路宣導製作、託播及刊登等經費7,740千元。
A20: =A7+A15 -> 0 | B20: =B7 -> 0 | C20: 總 計 | D20: =D7 -> 7740

Sheet 各項費用彙計表
A1: 勞 動 部 勞 工 保 險 局
A2: 勞 工 保險局 作 業 基 金
A3: 各 項 費 用 彙 計 表
D4: 中華民國 113年度 | G4: 單位：新臺幣千元
A5: 前 年 度 | B5: 上 年 度 | C5: 科 目 | D5: 本年度預算數
A6: 決 算 數 | B6: 預 算 數 | D6: 合計 | E6: 出租資 產成本 | F6: 投融資業 務成本 | G6: 保險成本 | H6: 其他業 務成本 | I6: 其他業務 外費用
A8: =1609430 -> 1609430 | B8: =SUM(B9:B18) -> 1492874 | C8: 服務費用 | D8: =SUM(D9:D18) -> 1547030 | E8: =SUM(E9:E18) -> 3491 | F8: =SUM(F9:F18) -> 1013286 | G8: =SUM(G9:G18) -> 0 | H8: =SUM(H9:H18) -> 530253 | I8: =SUM(I9:I18) -> 0
A9: 307 | B9: 770 | C9: 水電費 | D9: =SUM(E9:I9) -> 7 | E9: 7 | F9: 0 | G9: 0 | H9: 0 | I9: 0
A10: 349 | B10: 409 | C10: 郵電費 | D10: =SUM(E10:I10) -> 389 | E10: 0 | F10: 0 | G10: 0 | H10: 389 | I10: 0
A11: 7082 | B11: 8465 | C11: 旅運費 | D11: =SUM(E11:I11) -> 11523 | E11: 0 | F11: 0 | G11: 0 | H11: 11523 | I11: 0
A12: 810 | B12: 3394 | C12: 印刷裝訂及公告費 | D12: =SUM(E12:I12) -> 5001 | E12: 1 | F12: 0 | G12: 0 | H12: =5299-299 -> 5000 | I12: 0
A13: 1538 | B13: 2089 | C13: 修理保養及保固費 | D13: =SUM(E13:I13) -> 2550 | E13: 2550 | F13: 0 | G13: 0 | H13: 0 | I13: 0
A14: 45 | B14: 194 | C14: 保險費 | D14: =SUM(E14:I14) -> 200 | E14: 0 | F14: 0 | G14: 0 | H14: 200 | I14: 0
A15: 1220031 | B15: 1107378 | C15: 一般服務費 | D15: =SUM(E15:I15) -> 1124578 | E15: 783 | F15: 983089 | G15: 0 | H15: 140706 | I15: 0
A16: 370592 | B16: 355645 | C16: 專業服務費 | D16: =SUM(E16:I16) -> 385342 | E16: 150 | F16: 30197 | G16: 0 | H16: 354995 | I16: 0
A17: 113 | B17: 5300 | C17: 媒體政策及業務宣導費 | D17: =SUM(E17:I17) -> 7740 | E17: 0 | F17: 0 | G17: 0 | H17: =8240-500 -> 7740 | I17: 0
A18: 8562 | B18: 9230 | C18: 推展費 | D18: =SUM(E18:I18) -> 9700 | E18: 0 | F18: 0 | G18: 0 | H18: 9700 | I18: 0
A19: 4244 | B19: =SUM(B20:B21) -> 4643 | C19: 材料及用品費 | D19: =SUM(D20:D22) -> 3309 | E19: =E21 -> 0 | F19: =F21 -> 0 | G19: =G21 -> 0 | H19: =SUM(H20:H22) -> 3309 | I19: =I21 -> 0
A20: 445 | B20: 1734 | C20: 使用材料費 | D20: =SUM(E20:I20) -> 450 | E20: 0 | F20: 0 | G20: 0 | H20: 450 | I20: 0
A21: 3784 | B21: 2909 | C21: 用品消耗 | D21: =SUM(E21:I21) -> 2859 | E21: 0 | F21: 0 | G21: 0 | H21: 2859 | I21: 0
A22: 16 | B22: 0 | C22: 商品及醫療用品 | D22: =SUM(E22:I22) -> 0 | E22: 0 | F22: 0 | G22: 0 | H22: 0 | I22: 0
A23: 182279 | B23: =SUM(B24:B29) -> 28214 | C23: 租金與利息 | D23: =SUM(D24:D29) -> 109300 | E23: =SUM(E24:E29) -> 0 | F23: =SUM(F24:F29) -> 0 | G23: =SUM(G24:G29) -> 0 | H23: =SUM(H24:H29) -> 109300 | I23: =SUM(I24:I29) -> 0
A24: 23 | B24: 977 | C24: 地租及水租 | D24: =SUM(E24:I24) -> 300 | E24: 0 | F24: 0 | G24: 0 | H24: 300 | I24: 0
A25: 966 | B25: 742 | C25: 房租 | D25: =SUM(E25:I25) -> 1952 | E25: 0 | F25: 0 | G25: 0 | H25: 1952 | I25: 0
A26: 199 | B26: 150 | C26: 機器租金 | D26: =SUM(E26:I26) -> 950 | E26: 0 | F26: 0 | G26: 0 | H26: 950 | I26: 0
A27: 1257 | B27: 1644 | C27: 交通及運輸設備租金 | D27: =SUM(E27:I27) -> 4100 | E27: 0 | F27: 0 | G27: 0 | H27: 4100 | I27: 0
A28: 328 | B28: 436 | C28: 什項設備租金 | D28: =SUM(E28:I28) -> 600 | E28: 0 | F28: 0 | G28: 0 | H28: 600 | I28: 0
A29: 179506 | B29: 24265 | C29: 利息 | D29: =SUM(E29:I29) -> 101398 | E29: 0 | F29: 0 | G29: 0 | H29: 101398 | I29: 0
A30: 16760 | B30: =B31+B32 -> 16760 | C30: 折舊、折耗及攤銷 | D30: =D31+D32 -> 21618 | E30: =E31+E32 -> 16760 | F30: =F31+F32 -> 0 | G30: =G31+G32 -> 0 | H30: =H31+H32 -> 4858 | I30: =I31+I32 -> 0
A31: 16151 | B31: 16151 | C31: 投資性不動產折舊 | D31: =SUM(E31:I31) -> 16151 | E31: 16151 | F31: 0 | G31: 0 | H31: 0 | I31: 0
A32: 609 | B32: 609 | C32: 攤銷 | D32: =SUM(E32:I32) -> 5467 | E32: 609 | F32: 0 | G32: 0 | H32: 4858 | I32: 0
A33: 10712 | B33: =SUM(B34:B37) -> 12010 | C33: 稅捐與規費(強制費) | D33: =D34+D35+D36+D37 -> 12011 | E33: =E34+E35+E36+E37 -> 12011 | F33: =F34+F35+F36+F37 -> 0 | G33: =G34+G35+G36+G37 -> 0 | H33: =H34+H35+H36+H37 -> 0 | I33: =I34+I35+I36+I37 -> 0
A34: 10634 | B34: 12000 | C34: 土地稅 | D34: =SUM(E34:I34) -> 12000 | E34: 12000 | F34: 0 | G34: 0 | H34: 0 | I34: 0
A35: 1 | B35: 1 | C35: 房屋稅 | D35: =SUM(E35:I35) -> 2 | E35: 2 | F35: 0 | G35: 0 | H35: 0 | I35: 0
A36: 0 | C36: 消費與行為稅 | F36: 0 | G36: 0 | H36: 0 | I36: 0
A37: 77 | B37: 9 | C37: 規費 | D37: =SUM(E37:I37) -> 9 | E37: 9 | F37: 0 | G37: 0 | H37: 0 | I37: 0
A38: 271341 | B38: =SUM(B39:B42) -> 667460 | C38: 會費、捐助、補助、分攤、救助（濟）與交流活動費 | D38: =D39+D40+D41+D42 -> 851959 | E38: =E39+E40+E41+E42 -> 0 | F38: =F39+F40+F41+F42 -> 0 | G38: =G39+G40+G41+G42 -> 0 | H38: =H39+H40+H41+H42 -> 851959 | I38: =I39+I40+I41+I42 -> 0
A39: 0 | B39: 0 | C39: 會費 | D39: =SUM(E39:I39) -> 0 | E39: 0 | F39: 0 | G39: 0 | H39: 0 | I39: 0
A40: 249644 | B40: =639460-2000 -> 637460 | C40: 捐助、補助與獎助 | D40: =SUM(E40:I40) -> 821959 | E40: 0 | F40: 0 | G40: 0 | H40: =826959-5000 -> 821959 | I40: 0
A41: 1948 | B41: 0 | C41: 分擔 | D41: =SUM(E41:I41) -> 0 | E41: 0 | F41: 0 | G41: 0 | H41: 0 | I41: 0
...

Sheet 各項費用彙計表 (單位)
A1: 勞 動 部 勞 工 保 險 局
A2: 勞 工 保險局 作 業 基 金
F3: 各項費用 彙計表
F4: 中華民國 113年度 | M4: 單位：新臺幣千元
A5: 科 目 | B5: 合計 | C5: 勞動部勞工保險局 | H5: 勞動部勞動基金運用局 | K5: 勞動部職業安全衛生署 | N5: 勞動部及所屬機關
C6: 小計 | D6: 投融資業 務成本 | E6: 保險成本 | F6: 其他業 務成本 | G6: 其他業務 外費用 | H6: 小計 | I6: 出租資 產成本 | J6: 投融資業 務成本 | K6: 小計 | L6: 保險成本 | M6: 其他業 務成本 | N6: 其他業 務成本
A8: 服務費用 | B8: =SUM(B9:B18) -> 1547030 | C8: =SUM(D8:G8) -> 381500 | D8: =SUM(D9:D18) -> 68000 | E8: =SUM(E9:E18) -> 0 | F8: =SUM(F9:F18) -> 313500 | G8: =SUM(G9:G18) -> 0 | H8: =SUM(I8:J8) -> 948777 | I8: =SUM(I9:I18) -> 3491 | J8: =SUM(J9:J18) -> 945286 | K8: =SUM(L8:M8) -> 216753 | L8: =SUM(L9:L18) -> 0 | M8: =SUM(M9:M18) -> 216753 | N8: =SUM(N9:N18) -> 0
A9: 水電費 | B9: =+C9+H9+K9+N9 -> 7 | C9: =SUM(D9:G9) -> 0 | D9: 0 | E9: 0 | F9: 0 | G9: 0 | H9: =SUM(I9:J9) -> 7 | I9: 7 | J9: 0 | K9: =SUM(L9:M9) -> 0 | L9: 0 | M9: 0 | N9: 0
A10: 郵電費 | B10: =+C10+H10+K10+N10 -> 389 | C10: =SUM(D10:G10) -> 0 | D10: 0 | E10: 0 | F10: 0 | G10: 0 | H10: =SUM(I10:J10) -> 0 | I10: 0 | J10: 0 | K10: =SUM(L10:M10) -> 389 | L10: 0 | M10: 389 | N10: 0
A11: 旅運費 | B11: =+C11+H11+K11+N11 -> 11523 | C11: =SUM(D11:G11) -> 0 | D11: 0 | E11: 0 | F11: 0 | G11: 0 | H11: =SUM(I11:J11) -> 0 | I11: 0 | J11: 0 | K11: =SUM(L11:M11) -> 11523 | L11: 0 | M11: 11523 | N11: 0
A12: 印刷裝訂及公告費 | B12: =+C12+H12+K12+N12 -> 5001 | C12: =SUM(D12:G12) -> 0 | D12: 0 | E12: 0 | F12: 0 | G12: 0 | H12: =SUM(I12:J12) -> 1 | I12: 1 | J12: 0 | K12: =SUM(L12:M12) -> 5000 | L12: 0 | M12: =5299-299 -> 5000 | N12: 0
