Workbook

Sheet 總計
A1: 開辦起勞工保險納保歷年資料
D3: 中華民國39-114年 | G3: 單位：個、人、新台幣元
A4: 年 別 | B4: 單位 (年底) | C4: 人數 (年底) | D4: 應計保險費 | G4: 平均投保薪資
D5: 合計 | E5: 普通事故保險費 | F5: 職業災害保險費
A6: 39年 1950 | B6: ='產業勞工及交通、公用事業之員工'!B6 -> 554 | C6: ='產業勞工及交通、公用事業之員工'!C6 -> 128625 | D6: ='產業勞工及交通、公用事業之員工'!D6 -> 4289172.6 | E6: - | F6: - | G6: -
A7: 40年 1951 | B7: ='產業勞工及交通、公用事業之員工'!B7+職業勞工!B7 -> 914 | C7: ='產業勞工及交通、公用事業之員工'!C7+職業勞工!C7 -> 163341 | D7: ='產業勞工及交通、公用事業之員工'!D7+職業勞工!D7 -> 8707552.7 | E7: - | F7: - | G7: -
A8: 41年 1952 | B8: ='產業勞工及交通、公用事業之員工'!B8+職業勞工!B8 -> 1214 | C8: ='產業勞工及交通、公用事業之員工'!C8+職業勞工!C8 -> 194826 | D8: ='產業勞工及交通、公用事業之員工'!D8+職業勞工!D8 -> 14278717 | E8: - | F8: - | G8: -
A9: 42年 1953 | B9: ='產業勞工及交通、公用事業之員工'!B9+職業勞工!B9+漁會之甲類會員!B9 -> 1383 | C9: ='產業勞工及交通、公用事業之員工'!C9+職業勞工!C9+漁會之甲類會員!C9 -> 268278 | D9: ='產業勞工及交通、公用事業之員工'!D9+職業勞工!D9+漁會之甲類會員!D9 -> 21168568 | E9: - | F9: - | G9: -
A10: 43年 1954 | B10: ='產業勞工及交通、公用事業之員工'!B10+職業勞工!B10+漁會之甲類會員!B10 -> 1414 | C10: ='產業勞工及交通、公用事業之員工'!C10+職業勞工!C10+漁會之甲類會員!C10 -> 279473 | D10: ='產業勞工及交通、公用事業之員工'!D10+職業勞工!D10+漁會之甲類會員!D10 -> 26968098 | E10: - | F10: - | G10: -
A11: 44年 1955 | B11: ='產業勞工及交通、公用事業之員工'!B11+職業勞工!B11+漁會之甲類會員!B11 -> 1480 | C11: ='產業勞工及交通、公用事業之員工'!C11+職業勞工!C11+漁會之甲類會員!C11 -> 311342 | D11: ='產業勞工及交通、公用事業之員工'!D11+職業勞工!D11+漁會之甲類會員!D11 -> 31960334 | E11: - | F11: - | G11: -
A12: 45年 1956 | B12: ='產業勞工及交通、公用事業之員工'!B12+職業勞工!B12+漁會之甲類會員!B12 -> 1581 | C12: ='產業勞工及交通、公用事業之員工'!C12+職業勞工!C12+漁會之甲類會員!C12 -> 361365 | D12: ='產業勞工及交通、公用事業之員工'!D12+職業勞工!D12+漁會之甲類會員!D12 -> 48214077 | E12: - | F12: - | G12: -
A13: 46年 1957 | B13: ='產業勞工及交通、公用事業之員工'!B13+職業勞工!B13+漁會之甲類會員!B13 -> 1703 | C13: ='產業勞工及交通、公用事業之員工'!C13+職業勞工!C13+漁會之甲類會員!C13 -> 400605 | D13: ='產業勞工及交通、公用事業之員工'!D13+職業勞工!D13+漁會之甲類會員!D13 -> 67174376 | E13: - | F13: - | G13: -
A14: 47年 1958 | B14: ='產業勞工及交通、公用事業之員工'!B14+職業勞工!B14+漁會之甲類會員!B14 -> 1766 | C14: ='產業勞工及交通、公用事業之員工'!C14+職業勞工!C14+漁會之甲類會員!C14 -> 419312 | D14: ='產業勞工及交通、公用事業之員工'!D14+職業勞工!D14+漁會之甲類會員!D14 -> 74597183 | E14: - | F14: - | G14: -
A15: 48年 1959 | B15: ='產業勞工及交通、公用事業之員工'!B15+職業勞工!B15+漁會之甲類會員!B15 -> 1835 | C15: ='產業勞工及交通、公用事業之員工'!C15+職業勞工!C15+漁會之甲類會員!C15 -> 442895 | D15: ='產業勞工及交通、公用事業之員工'!D15+職業勞工!D15+漁會之甲類會員!D15 -> 79911651 | E15: - | F15: - | G15: -
A16: 49年 1960 | B16: ='產業勞工及交通、公用事業之員工'!B16+職業勞工!B16+漁會之甲類會員!B16 -> 1899 | C16: ='產業勞工及交通、公用事業之員工'!C16+職業勞工!C16+漁會之甲類會員!C16 -> 478321 | D16: ='產業勞工及交通、公用事業之員工'!D16+職業勞工!D16+漁會之甲類會員!D16 -> 98715804 | E16: - | F16: - | G16: -
A17: 50年 1961 | B17: ='產業勞工及交通、公用事業之員工'!B17+職業勞工!B17+漁會之甲類會員!B17 -> 2069 | C17: ='產業勞工及交通、公用事業之員工'!C17+職業勞工!C17+漁會之甲類會員!C17 -> 486664 | D17: ='產業勞工及交通、公用事業之員工'!D17+職業勞工!D17+漁會之甲類會員!D17 -> 1.2640133e+08 | E17: - | F17: - | G17: 549.57
A18: 51年 1962 | B18: ='產業勞工及交通、公用事業之員工'!B18+職業勞工!B18+漁會之甲類會員!B18 -> 2386 | C18: ='產業勞工及交通、公用事業之員工'!C18+職業勞工!C18+漁會之甲類會員!C18 -> 500740 | D18: ='產業勞工及交通、公用事業之員工'!D18+職業勞工!D18+漁會之甲類會員!D18 -> 1.3614699e+08 | E18: - | F18: - | G18: 583.71
A19: 52年 1963 | B19: ='產業勞工及交通、公用事業之員工'!B19+職業勞工!B19+漁會之甲類會員!B19 -> 2442 | C19: ='產業勞工及交通、公用事業之員工'!C19+職業勞工!C19+漁會之甲類會員!C19 -> 504399 | D19: ='產業勞工及交通、公用事業之員工'!D19+職業勞工!D19+漁會之甲類會員!D19 -> 1.4636248e+08 | E19: - | F19: - | G19: 616.09
A20: 53年 1964 | B20: ='產業勞工及交通、公用事業之員工'!B20+職業勞工!B20+漁會之甲類會員!B20 -> 2668 | C20: ='產業勞工及交通、公用事業之員工'!C20+職業勞工!C20+漁會之甲類會員!C20 -> 519640 | D20: ='產業勞工及交通、公用事業之員工'!D20+職業勞工!D20+漁會之甲類會員!D20 -> 1.5652263e+08 | E20: - | F20: - | G20: 644.57
A21: 54年 1965 | B21: ='產業勞工及交通、公用事業之員工'!B21+'政府機關及公、私立學校之員工'!B21+職業勞工!B21+漁會之甲類會員!B21 -> 3710 | C21: ='產業勞工及交通、公用事業之員工'!C21+'政府機關及公、私立學校之員工'!C21+職業勞工!C21+漁會之甲類會員!C21 -> 586745 | D21: ='產業勞工及交通、公用事業之員工'!D21+'政府機關及公、私立學校之員工'!D21+職業勞工!D21+漁會之甲類會員!D21 -> 1.8084943e+08 | E21: - | F21: - | G21: 682.27
A22: 55年 1966 | B22: ='產業勞工及交通、公用事業之員工'!B22+'政府機關及公、私立學校之員工'!B22+職業勞工!B22+漁會之甲類會員!B22 -> 4137 | C22: ='產業勞工及交通、公用事業之員工'!C22+'政府機關及公、私立學校之員工'!C22+職業勞工!C22+漁會之甲類會員!C22 -> 633948 | D22: ='產業勞工及交通、公用事業之員工'!D22+'政府機關及公、私立學校之員工'!D22+職業勞工!D22+漁會之甲類會員!D22 -> 2.1020014e+08 | E22: - | F22: - | G22: 721.74
A23: 56年 1967 | B23: ='產業勞工及交通、公用事業之員工'!B23+'政府機關及公、私立學校之員工'!B23+職業勞工!B23+漁會之甲類會員!B23 -> 4402 | C23: ='產業勞工及交通、公用事業之員工'!C23+'政府機關及公、私立學校之員工'!C23+職業勞工!C23+漁會之甲類會員!C23 -> 677037 | D23: ='產業勞工及交通、公用事業之員工'!D23+'政府機關及公、私立學校之員工'!D23+職業勞工!D23+漁會之甲類會員!D23 -> 2.3569415e+08 | E23: - | F23: - | G23: 755.14
A24: 57年 1968 | B24: ='產業勞工及交通、公用事業之員工'!B24+'政府機關及公、私立學校之員工'!B24+職業勞工!B24+漁會之甲類會員!B24 -> 4782 | C24: ='產業勞工及交通、公用事業之員工'!C24+'政府機關及公、私立學校之員工'!C24+職業勞工!C24+漁會之甲類會員!C24 -> 734036 | D24: ='產業勞工及交通、公用事業之員工'!D24+'政府機關及公、私立學校之員工'!D24+職業勞工!D24+漁會之甲類會員!D24 -> 2.8921918e+08 | E24: - | F24: - | G24: 861.5
A25: 58年 1969 | B25: ='產業勞工及交通、公用事業之員工'!B25+'政府機關及公、私立學校之員工'!B25+職業勞工!B25+漁會之甲類會員!B25 -> 5458 | C25: ='產業勞工及交通、公用事業之員工'!C25+'政府機關及公、私立學校之員工'!C25+職業勞工!C25+漁會之甲類會員!C25 -> 807590 | D25: ='產業勞工及交通、公用事業之員工'!D25+'政府機關及公、私立學校之員工'!D25+職業勞工!D25+漁會之甲類會員!D25 -> 338557950 | E25: - | F25: - | G25: 920.3
A26: 59年 1970 | B26: ='產業勞工及交通、公用事業之員工'!B26+'公司、行號之員工'!B26+'政府機關及公、私立學校之員工'!B26+職業勞工!B26+漁會之甲類會員!B26+自願投保者!B26 -> 8608 | C26: ='產業勞工及交通、公用事業之員工'!C26+'公司、行號之員工'!C26+'政府機關及公、私立學校之員工'!C26+職業勞工!C26+漁會之甲類會員!C26+自願投保者!C26 -> 905610 | D26: ='產業勞工及交通、公用事業之員工'!D26+'公司、行號之員工'!D26+'政府機關及公、私立學校之員工'!D26+職業勞工!D26+漁會之甲類會員!D26+自願投保者!D26 -> 9.1769108e+08 | E26: - | F26: - | G26: 1119.5
A27: 60年 1971 | B27: ='產業勞工及交通、公用事業之員工'!B27+'公司、行號之員工'!B27+'政府機關及公、私立學校之員工'!B27+職業勞工!B27+漁會之甲類會員!B27+自願投保者!B27 -> 10052 | C27: ='產業勞工及交通、公用事業之員工'!C27+'公司、行號之員工'!C27+'政府機關及公、私立學校之員工'!C27+職業勞工!C27+漁會之甲類會員!C27+自願投保者!C27 -> 999597 | D27: ='產業勞工及交通、公用事業之員工'!D27+'公司、行號之員工'!D27+'政府機關及公、私立學校之員工'!D27+職業勞工!D27+漁會之甲類會員!D27+自願投保者!D27 -> 1101175519 | E27: - | F27: - | G27: 1211.87
A28: 61年 1972 | B28: ='產業勞工及交通、公用事業之員工'!B28+'公司、行號之員工'!B28+'政府機關及公、私立學校之員工'!B28+職業勞工!B28+漁會之甲類會員!B28+自願投保者!B28 -> 11360 | C28: ='產業勞工及交通、公用事業之員工'!C28+'公司、行號之員工'!C28+'政府機關及公、私立學校之員工'!C28+職業勞工!C28+漁會之甲類會員!C28+自願投保者!C28 -> 1115131 | D28: ='產業勞工及交通、公用事業之員工'!D28+'公司、行號之員工'!D28+'政府機關及公、私立學校之員工'!D28+職業勞工!D28+漁會之甲類會員!D28+自願投保者!D28 -> 1.2884238e+09 | E28: - | F28: - | G28: 1284.59
A29: 62年 1973 | B29: ='產業勞工及交通、公用事業之員工'!B29+'公司、行號之員工'!B29+'政府機關及公、私立學校之員工'!B29+職業勞工!B29+漁會之甲類會員!B29+自願投保者!B29 -> 13769 | C29: ='產業勞工及交通、公用事業之員工'!C29+'公司、行號之員工'!C29+'政府機關及公、私立學校之員工'!C29+職業勞工!C29+漁會之甲類會員!C29+自願投保者!C29 -> 1354994 | D29: ='產業勞工及交通、公用事業之員工'!D29+'公司、行號之員工'!D29+'政府機關及公、私立學校之員工'!D29+職業勞工!D29+漁會之甲類會員!D29+自願投保者!D29 -> 1.6598588e+09 | E29: - | F29: - | G29: 1422.43
A30: 63年 1974 | B30: ='產業勞工及交通、公用事業之員工'!B30+'公司、行號之員工'!B30+'政府機關及公、私立學校之員工'!B30+職業勞工!B30+漁會之甲類會員!B30+自願投保者!B30 -> 15342 | C30: ='產業勞工及交通、公用事業之員工'!C30+'公司、行號之員工'!C30+'政府機關及公、私立學校之員工'!C30+職業勞工!C30+漁會之甲類會員!C30+自願投保者!C30 -> 1418298 | D30: ='產業勞工及交通、公用事業之員工'!D30+'公司、行號之員工'!D30+'政府機關及公、私立學校之員工'!D30+職業勞工!D30+漁會之甲類會員!D30+自願投保者!D30 -> 2.2980205e+09 | E30: - | F30: - | G30: 1699.5
A31: 64年 1975 | B31: ='產業勞工及交通、公用事業之員工'!B31+'公司、行號之員工'!B31+'政府機關及公、私立學校之員工'!B31+職業勞工!B31+漁會之甲類會員!B31+自願投保者!B31 -> 17847 | C31: ='產業勞工及交通、公用事業之員工'!C31+'公司、行號之員工'!C31+'政府機關及公、私立學校之員工'!C31+職業勞工!C31+漁會之甲類會員!C31+自願投保者!C31 -> 1544557 | D31: ='產業勞工及交通、公用事業之員工'!D31+'公司、行號之員工'!D31+'政府機關及公、私立學校之員工'!D31+職業勞工!D31+漁會之甲類會員!D31+自願投保者!D31 -> 3080651739 | E31: - | F31: - | G31: 2209.49
A32: 65年 1976 | B32: ='產業勞工及交通、公用事業之員工'!B32+'公司、行號之員工'!B32+'政府機關及公、私立學校之員工'!B32+職業勞工!B32+漁會之甲類會員!B32+自願投保者!B32 -> 20619 | C32: ='產業勞工及交通、公用事業之員工'!C32+'公司、行號之員工'!C32+'政府機關及公、私立學校之員工'!C32+職業勞工!C32+漁會之甲類會員!C32+自願投保者!C32 -> 1709847 | D32: ='產業勞工及交通、公用事業之員工'!D32+'公司、行號之員工'!D32+'政府機關及公、私立學校之員工'!D32+職業勞工!D32+漁會之甲類會員!D32+自願投保者!D32 -> 3.9467391e+09 | E32: - | F32: - | G32: 2524.28
A33: 66年 1977 | B33: ='產業勞工及交通、公用事業之員工'!B33+'公司、行號之員工'!B33+'政府機關及公、私立學校之員工'!B33+職業勞工!B33+漁會之甲類會員!B33+自願投保者!B33 -> 23015 | C33: ='產業勞工及交通、公用事業之員工'!C33+'公司、行號之員工'!C33+'政府機關及公、私立學校之員工'!C33+職業勞工!C33+漁會之甲類會員!C33+自願投保者!C33 -> 1869278 | D33: ='產業勞工及交通、公用事業之員工'!D33+'公司、行號之員工'!D33+'政府機關及公、私立學校之員工'!D33+職業勞工!D33+漁會之甲類會員!D33+自願投保者!D33 -> 4.9557618e+09 | E33: - | F33: - | G33: 2909.36
A34: 67年 1978 | B34: ='產業勞工及交通、公用事業之員工'!B34+'公司、行號之員工'!B34+'政府機關及公、私立學校之員工'!B34+職業勞工!B34+漁會之甲類會員!B34+自願投保者!B34 -> 26302 | C34: ='產業勞工及交通、公用事業之員工'!C34+'公司、行號之員工'!C34+'政府機關及公、私立學校之員工'!C34+職業勞工!C34+漁會之甲類會員!C34+自願投保者!C34 -> 2058974 | D34: ='產業勞工及交通、公用事業之員工'!D34+'公司、行號之員工'!D34+'政府機關及公、私立學校之員工'!D34+職業勞工!D34+漁會之甲類會員!D34+自願投保者!D34 -> 6147930988 | E34: - | F34: - | G34: 3287.26
A35: 68年 1979 | B35: ='產業勞工及交通、公用事業之員工'!B35+'公司、行號之員工'!B35+'政府機關及公、私立學校之員工'!B35+職業勞工!B35+漁會之甲類會員!B35+自願投保者!B35 -> 31499 | C35: ='產業勞工及交通、公用事業之員工'!C35+'公司、行號之員工'!C35+'政府機關及公、私立學校之員工'!C35+職業勞工!C35+漁會之甲類會員!C35+自願投保者!C35 -> 2283516 | D35: ='產業勞工及交通、公用事業之員工'!D35+'公司、行號之員工'!D35+'政府機關及公、私立學校之員工'!D35+職業勞工!D35+漁會之甲類會員!D35+自願投保者!D35 -> 7.5569878e+09 | E35: - | F35: - | G35: 3669.71
A36: 69年 1980 | B36: ='產業勞工及交通、公用事業之員工'!B36+'公司、行號之員工'!B36+'新聞、文化、公益及合作事業之員工'!B36+'政府機關及公、私立學校之員工'!B36+職業訓練機構接受訓練者!B36+職業勞工!B36+漁會之甲類會員!B36+自願投保者!B36 -> 39480 | C36: ='產業勞工及交通、公用事業之員工'!C36+'公司、行號之員工'!C36+'新聞、文化、公益及合作事業之員工'!C36+'政府機關及公、私立學校之員工'!C36+職業訓練機構接受訓練者!C36+職業勞工!C36+漁會之甲類會員!C36+自願投保者!C36 -> 2538125 | D36: =SUM(E36:F36) -> 10182044236 | E36: ='產業勞工及交通、公用事業之員工'!E36+'公司、行號之員工'!E36+'新聞、文化、公益及合作事業之員工'!E36+'政府機關及公、私立學校之員工'!E36+職業訓練機構接受訓練者!E36+職業勞工!E36+漁會之甲類會員!E36+自願投保者!E36 -> 8970576984 | F36: ='產業勞工及交通、公用事業之員工'!F36+'公司、行號之員工'!F36+'新聞、文化、公益及合作事業之員工'!F36+'政府機關及公、私立學校之員工'!F36+職業訓練機構接受訓練者!F36+職業勞工!F36+漁會之甲類會員!F36+自願投保者!F36 -> 1211467252 | G36: 4464.88
A37: 70年 1981 | B37: ='產業勞工及交通、公用事業之員工'!B37+'公司、行號之員工'!B37+'新聞、文化、公益及合作事業之員工'!B37+'政府機關及公、私立學校之員工'!B37+職業訓練機構接受訓練者!B37+職業勞工!B37+漁會之甲類會員!B37+自願投保者!B37 -> 48716 | C37: ='產業勞工及交通、公用事業之員工'!C37+'公司、行號之員工'!C37+'新聞、文化、公益及合作事業之員工'!C37+'政府機關及公、私立學校之員工'!C37+職業訓練機構接受訓練者!C37+職業勞工!C37+漁會之甲類會員!C37+自願投保者!C37 -> 2781512 | D37: =SUM(E37:F37) -> 13379680122 | E37: ='產業勞工及交通、公用事業之員工'!E37+'公司、行號之員工'!E37+'新聞、文化、公益及合作事業之員工'!E37+'政府機關及公、私立學校之員工'!E37+職業訓練機構接受訓練者!E37+職業勞工!E37+漁會之甲類會員!E37+自願投保者!E37 -> 11807809345 | F37: ='產業勞工及交通、公用事業之員工'!F37+'公司、行號之員工'!F37+'新聞、文化、公益及合作事業之員工'!F37+'政府機關及公、私立學校之員工'!F37+職業訓練機構接受訓練者!F37+職業勞工!F37+漁會之甲類會員!F37+自願投保者!F37 -> 1571870777 | G37: 5312.63
A38: 71年 1982 | B38: ='產業勞工及交通、公用事業之員工'!B38+'公司、行號之員工'!B38+'新聞、文化、公益及合作事業之員工'!B38+'政府機關及公、私立學校之員工'!B38+職業訓練機構接受訓練者!B38+職業勞工!B38+漁會之甲類會員!B38+自願投保者!B38 -> 56310 | C38: ='產業勞工及交通、公用事業之員工'!C38+'公司、行號之員工'!C38+'新聞、文化、公益及合作事業之員工'!C38+'政府機關及公、私立學校之員工'!C38+職業訓練機構接受訓練者!C38+職業勞工!C38+漁會之甲類會員!C38+自願投保者!C38 -> 2950119 | D38: =SUM(E38:F38) -> 15342359116 | E38: ='產業勞工及交通、公用事業之員工'!E38+'公司、行號之員工'!E38+'新聞、文化、公益及合作事業之員工'!E38+'政府機關及公、私立學校之員工'!E38+職業訓練機構接受訓練者!E38+職業勞工!E38+漁會之甲類會員!E38+自願投保者!E38 -> 13566631232 | F38: ='產業勞工及交通、公用事業之員工'!F38+'公司、行號之員工'!F38+'新聞、文化、公益及合作事業之員工'!F38+'政府機關及公、私立學校之員工'!F38+職業訓練機構接受訓練者!F38+職業勞工!F38+漁會之甲類會員!F38+自願投保者!F38 -> 1775727884 | G38: 5675.03
A39: 72年 1983 | B39: ='產業勞工及交通、公用事業之員工'!B39+'公司、行號之員工'!B39+'新聞、文化、公益及合作事業之員工'!B39+'政府機關及公、私立學校之員工'!B39+職業訓練機構接受訓練者!B39+職業勞工!B39+漁會之甲類會員!B39+自願投保者!B39 -> 67621 | C39: ='產業勞工及交通、公用事業之員工'!C39+'公司、行號之員工'!C39+'新聞、文化、公益及合作事業之員工'!C39+'政府機關及公、私立學校之員工'!C39+職業訓練機構接受訓練者!C39+職業勞工!C39+漁會之甲類會員!C39+自願投保者!C39 -> 3322977 | D39: =SUM(E39:F39) -> 18386839339 | E39: ='產業勞工及交通、公用事業之員工'!E39+'公司、行號之員工'!E39+'新聞、文化、公益及合作事業之員工'!E39+'政府機關及公、私立學校之員工'!E39+職業訓練機構接受訓練者!E39+職業勞工!E39+漁會之甲類會員!E39+自願投保者!E39 -> 16705458009 | F39: ='產業勞工及交通、公用事業之員工'!F39+'公司、行號之員工'!F39+'新聞、文化、公益及合作事業之員工'!F39+'政府機關及公、私立學校之員工'!F39+職業訓練機構接受訓練者!F39+職業勞工!F39+漁會之甲類會員!F39+自願投保者!F39 -> 1681381330 | G39: 6382.17
A40: 73年 1984 | B40: ='產業勞工及交通、公用事業之員工'!B40+'公司、行號之員工'!B40+'新聞、文化、公益及合作事業之員工'!B40+'政府機關及公、私立學校之員工'!B40+職業訓練機構接受訓練者!B40+職業勞工!B40+漁會之甲類會員!B40+自願投保者!B40 -> 83630 | C40: ='產業勞工及交通、公用事業之員工'!C40+'公司、行號之員工'!C40+'新聞、文化、公益及合作事業之員工'!C40+'政府機關及公、私立學校之員工'!C40+職業訓練機構接受訓練者!C40+職業勞工!C40+漁會之甲類會員!C40+自願投保者!C40 -> 3693276 | D40: =SUM(E40:F40) -> 23912772806 | E40: ='產業勞工及交通、公用事業之員工'!E40+'公司、行號之員工'!E40+'新聞、文化、公益及合作事業之員工'!E40+'政府機關及公、私立學校之員工'!E40+職業訓練機構接受訓練者!E40+職業勞工!E40+漁會之甲類會員!E40+自願投保者!E40 -> 21802203604 | F40: ='產業勞工及交通、公用事業之員工'!F40+'公司、行號之員工'!F40+'新聞、文化、公益及合作事業之員工'!F40+'政府機關及公、私立學校之員工'!F40+職業訓練機構接受訓練者!F40+職業勞工!F40+漁會之甲類會員!F40+自願投保者!F40 -> 2110569202 | G40: 7407.16
A41: 74年 1985 | B41: ='產業勞工及交通、公用事業之員工'!B41+'公司、行號之員工'!B41+'新聞、文化、公益及合作事業之員工'!B41+'政府機關及公、私立學校之員工'!B41+職業訓練機構接受訓練者!B41+職業勞工!B41+漁會之甲類會員!B41+自願投保者!B41 -> 102228 | C41: ='產業勞工及交通、公用事業之員工'!C41+'公司、行號之員工'!C41+'新聞、文化、公益及合作事業之員工'!C41+'政府機關及公、私立學校之員工'!C41+職業訓練機構接受訓練者!C41+職業勞工!C41+漁會之甲類會員!C41+自願投保者!C41 -> 4049472 | D41: =SUM(E41:F41) -> 28175861644 | E41: ='產業勞工及交通、公用事業之員工'!E41+'公司、行號之員工'!E41+'新聞、文化、公益及合作事業之員工'!E41+'政府機關及公、私立學校之員工'!E41+職業訓練機構接受訓練者!E41+職業勞工!E41+漁會之甲類會員!E41+自願投保者!E41 -> 25704831958 | F41: ='產業勞工及交通、公用事業之員工'!F41+'公司、行號之員工'!F41+'新聞、文化、公益及合作事業之員工'!F41+'政府機關及公、私立學校之員工'!F41+職業訓練機構接受訓練者!F41+職業勞工!F41+漁會之甲類會員!F41+自願投保者!F41 -> 2471029686 | G41: 7965.66
A42: 75年 1986 | B42: ='產業勞工及交通、公用事業之員工'!B42+'公司、行號之員工'!B42+'新聞、文化、公益及合作事業之員工'!B42+'政府機關及公、私立學校之員工'!B42+職業訓練機構接受訓練者!B42+職業勞工!B42+漁會之甲類會員!B42+自願投保者!B42 -> 127406 | C42: ='產業勞工及交通、公用事業之員工'!C42+'公司、行號之員工'!C42+'新聞、文化、公益及合作事業之員工'!C42+'政府機關及公、私立學校之員工'!C42+職業訓練機構接受訓練者!C42+職業勞工!C42+漁會之甲類會員!C42+自願投保者!C42 -> 4711969 | D42: =SUM(E42:F42) -> 32422937852 | E42: ='產業勞工及交通、公用事業之員工'!E42+'公司、行號之員工'!E42+'新聞、文化、公益及合作事業之員工'!E42+'政府機關及公、私立學校之員工'!E42+職業訓練機構接受訓練者!E42+職業勞工!E42+漁會之甲類會員!E42+自願投保者!E42 -> 29589428235 | F42: ='產業勞工及交通、公用事業之員工'!F42+'公司、行號之員工'!F42+'新聞、文化、公益及合作事業之員工'!F42+'政府機關及公、私立學校之員工'!F42+職業訓練機構接受訓練者!F42+職業勞工!F42+漁會之甲類會員!F42+自願投保者!F42 -> 2833509617 | G42: 8095.08
A43: 76年 1987 | B43: ='產業勞工及交通、公用事業之員工'!B43+'公司、行號之員工'!B43+'新聞、文化、公益及合作事業之員工'!B43+'政府機關及公、私立學校之員工'!B43+職業訓練機構接受訓練者!B43+職業勞工!B43+漁會之甲類會員!B43+自願投保者!B43 -> 161317 | C43: ='產業勞工及交通、公用事業之員工'!C43+'公司、行號之員工'!C43+'新聞、文化、公益及合作事業之員工'!C43+'政府機關及公、私立學校之員工'!C43+職業訓練機構接受訓練者!C43+職業勞工!C43+漁會之甲類會員!C43+自願投保者!C43 -> 5321733 | D43: =SUM(E43:F43) -> 39127386025 | E43: ='產業勞工及交通、公用事業之員工'!E43+'公司、行號之員工'!E43+'新聞、文化、公益及合作事業之員工'!E43+'政府機關及公、私立學校之員工'!E43+職業訓練機構接受訓練者!E43+職業勞工!E43+漁會之甲類會員!E43+自願投保者!E43 -> 35737258652 | F43: ='產業勞工及交通、公用事業之員工'!F43+'公司、行號之員工'!F43+'新聞、文化、公益及合作事業之員工'!F43+'政府機關及公、私立學校之員工'!F43+職業訓練機構接受訓練者!F43+職業勞工!F43+漁會之甲類會員!F43+自願投保者!F43 -> 3390127373 | G43: 8499.29
A44: 77年 1988 | B44: ='產業勞工及交通、公用事業之員工'!B44+'公司、行號之員工'!B44+'新聞、文化、公益及合作事業之員工'!B44+'政府機關及公、私立學校之員工'!B44+受僱從事漁業生產之勞動者!B44+職業訓練機構接受訓練者!B44+職業勞工!B44+漁會之甲類會員!B44+自願投保者!B44 -> 202767 | C44: ='產業勞工及交通、公用事業之員工'!C44+'公司、行號之員工'!C44+'新聞、文化、公益及合作事業之員工'!C44+'政府機關及公、私立學校之員工'!C44+受僱從事漁業生產之勞動者!C44+職業訓練機構接受訓練者!C44+職業勞工!C44+漁會之甲類會員!C44+自願投保者!C44 -> 5980157 | D44: =SUM(E44:F44) -> 48389170123 | E44: ='產業勞工及交通、公用事業之員工'!E44+'公司、行號之員工'!E44+'新聞、文化、公益及合作事業之員工'!E44+'政府機關及公、私立學校之員工'!E44+受僱從事漁業生產之勞動者!E44+職業訓練機構接受訓練者!E44+職業勞工!E44+漁會之甲類會員!E44+自願投保者!E44 -> 44227928187 | F44: ='產業勞工及交通、公用事業之員工'!F44+'公司、行號之員工'!F44+'新聞、文化、公益及合作事業之員工'!F44+'政府機關及公、私立學校之員工'!F44+受僱從事漁業生產之勞動者!F44+職業訓練機構接受訓練者!F44+職業勞工!F44+漁會之甲類會員!F44+自願投保者!F44 -> 4161241936 | G44: 9313.29
A45: 78年 1989 | B45: ='產業勞工及交通、公用事業之員工'!B45+'公司、行號之員工'!B45+'新聞、文化、公益及合作事業之員工'!B45+'政府機關及公、私立學校之員工'!B45+受僱從事漁業生產之勞動者!B45+職業訓練機構接受訓練者!B45+職業勞工!B45+漁會之甲類會員!B45+自願投保者!B45 -> 240706 | C45: ='產業勞工及交通、公用事業之員工'!C45+'公司、行號之員工'!C45+'新聞、文化、公益及合作事業之員工'!C45+'政府機關及公、私立學校之員工'!C45+受僱從事漁業生產之勞動者!C45+職業訓練機構接受訓練者!C45+職業勞工!C45+漁會之甲類會員!C45+自願投保者!C45 -> 6549661 | D45: =SUM(E45:F45) -> 61024200064 | E45: ='產業勞工及交通、公用事業之員工'!E45+'公司、行號之員工'!E45+'新聞、文化、公益及合作事業之員工'!E45+'政府機關及公、私立學校之員工'!E45+受僱從事漁業生產之勞動者!E45+職業訓練機構接受訓練者!E45+職業勞工!E45+漁會之甲類會員!E45+自願投保者!E45 -> 55919225491 | F45: ='產業勞工及交通、公用事業之員工'!F45+'公司、行號之員工'!F45+'新聞、文化、公益及合作事業之員工'!F45+'政府機關及公、私立學校之員工'!F45+受僱從事漁業生產之勞動者!F45+職業訓練機構接受訓練者!F45+職業勞工!F45+漁會之甲類會員!F45+自願投保者!F45 -> 5104974573 | G45: 10631.11
A46: 79年 1990 | B46: ='產業勞工及交通、公用事業之員工'!B46+'公司、行號之員工'!B46+'新聞、文化、公益及合作事業之員工'!B46+'政府機關及公、私立學校之員工'!B46+受僱從事漁業生產之勞動者!B46+職業訓練機構接受訓練者!B46+職業勞工!B46+漁會之甲類會員!B46+自願投保者!B46 -> 265497 | C46: ='產業勞工及交通、公用事業之員工'!C46+'公司、行號之員工'!C46+'新聞、文化、公益及合作事業之員工'!C46+'政府機關及公、私立學校之員工'!C46+受僱從事漁業生產之勞動者!C46+職業訓練機構接受訓練者!C46+職業勞工!C46+漁會之甲類會員!C46+自願投保者!C46 -> 6852978 | D46: =SUM(E46:F46) -> 72999235490 | E46: ='產業勞工及交通、公用事業之員工'!E46+'公司、行號之員工'!E46+'新聞、文化、公益及合作事業之員工'!E46+'政府機關及公、私立學校之員工'!E46+受僱從事漁業生產之勞動者!E46+職業訓練機構接受訓練者!E46+職業勞工!E46+漁會之甲類會員!E46+自願投保者!E46 -> 67966981151 | F46: ='產業勞工及交通、公用事業之員工'!F46+'公司、行號之員工'!F46+'新聞、文化、公益及合作事業之員工'!F46+'政府機關及公、私立學校之員工'!F46+受僱從事漁業生產之勞動者!F46+職業訓練機構接受訓練者!F46+職業勞工!F46+漁會之甲類會員!F46+自願投保者!F46 -> 5032254339 | G46: 12148.21
A47: 80年 1991 | B47: ='產業勞工及交通、公用事業之員工'!B47+'公司、行號之員工'!B47+'新聞、文化、公益及合作事業之員工'!B47+'政府機關及公、私立學校之員工'!B47+受僱從事漁業生產之勞動者!B47+職業訓練機構接受訓練者!B47+職業勞工!B47+漁會之甲類會員!B47+自願投保者!B47 -> 294807 | C47: ='產業勞工及交通、公用事業之員工'!C47+'公司、行號之員工'!C47+'新聞、文化、公益及合作事業之員工'!C47+'政府機關及公、私立學校之員工'!C47+受僱從事漁業生產之勞動者!C47+職業訓練機構接受訓練者!C47+職業勞工!C47+漁會之甲類會員!C47+自願投保者!C47 -> 7281445 | D47: =SUM(E47:F47) -> 86453628397 | E47: ='產業勞工及交通、公用事業之員工'!E47+'公司、行號之員工'!E47+'新聞、文化、公益及合作事業之員工'!E47+'政府機關及公、私立學校之員工'!E47+受僱從事漁業生產之勞動者!E47+職業訓練機構接受訓練者!E47+職業勞工!E47+漁會之甲類會員!E47+自願投保者!E47 -> 80525756778 | F47: ='產業勞工及交通、公用事業之員工'!F47+'公司、行號之員工'!F47+'新聞、文化、公益及合作事業之員工'!F47+'政府機關及公、私立學校之員工'!F47+受僱從事漁業生產之勞動者!F47+職業訓練機構接受訓練者!F47+職業勞工!F47+漁會之甲類會員!F47+自願投保者!F47 -> 5927871619 | G47: 13654.43
A48: 81年 1992 | B48: ='產業勞工及交通、公用事業之員工'!B48+'公司、行號之員工'!B48+'新聞、文化、公益及合作事業之員工'!B48+'政府機關及公、私立學校之員工'!B48+受僱從事漁業生產之勞動者!B48+職業訓練機構接受訓練者!B48+職業勞工!B48+漁會之甲類會員!B48+自願投保者!B48 -> 333582 | C48: ='產業勞工及交通、公用事業之員工'!C48+'公司、行號之員工'!C48+'新聞、文化、公益及合作事業之員工'!C48+'政府機關及公、私立學校之員工'!C48+受僱從事漁業生產之勞動者!C48+職業訓練機構接受訓練者!C48+職業勞工!C48+漁會之甲類會員!C48+自願投保者!C48 -> 7708868 | D48: =SUM(E48:F48) -> 104205360378 | E48: ='產業勞工及交通、公用事業之員工'!E48+'公司、行號之員工'!E48+'新聞、文化、公益及合作事業之員工'!E48+'政府機關及公、私立學校之員工'!E48+受僱從事漁業生產之勞動者!E48+職業訓練機構接受訓練者!E48+職業勞工!E48+漁會之甲類會員!E48+自願投保者!E48 -> 97096801901 | F48: ='產業勞工及交通、公用事業之員工'!F48+'公司、行號之員工'!F48+'新聞、文化、公益及合作事業之員工'!F48+'政府機關及公、私立學校之員工'!F48+受僱從事漁業生產之勞動者!F48+職業訓練機構接受訓練者!F48+職業勞工!F48+漁會之甲類會員!F48+自願投保者!F48 -> 7108558477 | G48: 15444.59
A49: 82年 1993 | B49: ='產業勞工及交通、公用事業之員工'!B49+'公司、行號之員工'!B49+'新聞、文化、公益及合作事業之員工'!B49+'政府機關及公、私立學校之員工'!B49+受僱從事漁業生產之勞動者!B49+職業訓練機構接受訓練者!B49+職業勞工!B49+漁會之甲類會員!B49+自願投保者!B49 -> 368803 | C49: ='產業勞工及交通、公用事業之員工'!C49+'公司、行號之員工'!C49+'新聞、文化、公益及合作事業之員工'!C49+'政府機關及公、私立學校之員工'!C49+受僱從事漁業生產之勞動者!C49+職業訓練機構接受訓練者!C49+職業勞工!C49+漁會之甲類會員!C49+自願投保者!C49 -> 8144183 | D49: =SUM(E49:F49) -> 123089613585 | E49: ='產業勞工及交通、公用事業之員工'!E49+'公司、行號之員工'!E49+'新聞、文化、公益及合作事業之員工'!E49+'政府機關及公、私立學校之員工'!E49+受僱從事漁業生產之勞動者!E49+職業訓練機構接受訓練者!E49+職業勞工!E49+漁會之甲類會員!E49+自願投保者!E49 -> 114796444177 | F49: ='產業勞工及交通、公用事業之員工'!F49+'公司、行號之員工'!F49+'新聞、文化、公益及合作事業之員工'!F49+'政府機關及公、私立學校之員工'!F49+受僱從事漁業生產之勞動者!F49+職業訓練機構接受訓練者!F49+職業勞工!F49+漁會之甲類會員!F49+自願投保者!F49 -> 8293169408 | G49: 17316.76
A50: 83年 1994 | B50: ='產業勞工及交通、公用事業之員工'!B50+'公司、行號之員工'!B50+'新聞、文化、公益及合作事業之員工'!B50+'政府機關及公、私立學校之員工'!B50+受僱從事漁業生產之勞動者!B50+職業訓練機構接受訓練者!B50+職業勞工!B50+漁會之甲類會員!B50+自願投保者!B50 -> 400137 | C50: ='產業勞工及交通、公用事業之員工'!C50+'公司、行號之員工'!C50+'新聞、文化、公益及合作事業之員工'!C50+'政府機關及公、私立學校之員工'!C50+受僱從事漁業生產之勞動者!C50+職業訓練機構接受訓練者!C50+職業勞工!C50+漁會之甲類會員!C50+自願投保者!C50 -> 8496883 | D50: =SUM(E50:F50) -> 138456169873 | E50: ='產業勞工及交通、公用事業之員工'!E50+'公司、行號之員工'!E50+'新聞、文化、公益及合作事業之員工'!E50+'政府機關及公、私立學校之員工'!E50+受僱從事漁業生產之勞動者!E50+職業訓練機構接受訓練者!E50+職業勞工!E50+漁會之甲類會員!E50+自願投保者!E50 -> 129120483564 | F50: ='產業勞工及交通、公用事業之員工'!F50+'公司、行號之員工'!F50+'新聞、文化、公益及合作事業之員工'!F50+'政府機關及公、私立學校之員工'!F50+受僱從事漁業生產之勞動者!F50+職業訓練機構接受訓練者!F50+職業勞工!F50+漁會之甲類會員!F50+自願投保者!F50 -> 9335686309 | G50: 18482.88
A51: 84年 1995 | B51: ='產業勞工及交通、公用事業之員工'!B51+'公司、行號之員工'!B51+'新聞、文化、公益及合作事業之員工'!B51+'政府機關及公、私立學校之員工'!B51+受僱從事漁業生產之勞動者!B51+職業訓練機構接受訓練者!B51+職業勞工!B51+漁會之甲類會員!B51+自願投保者!B51 -> 386206 | C51: ='產業勞工及交通、公用事業之員工'!C51+'公司、行號之員工'!C51+'新聞、文化、公益及合作事業之員工'!C51+'政府機關及公、私立學校之員工'!C51+受僱從事漁業生產之勞動者!C51+職業訓練機構接受訓練者!C51+職業勞工!C51+漁會之甲類會員!C51+自願投保者!C51 -> 7635063 | D51: =SUM(E51:F51) -> 134902524444 | E51: ='產業勞工及交通、公用事業之員工'!E51+'公司、行號之員工'!E51+'新聞、文化、公益及合作事業之員工'!E51+'政府機關及公、私立學校之員工'!E51+受僱從事漁業生產之勞動者!E51+職業訓練機構接受訓練者!E51+職業勞工!E51+漁會之甲類會員!E51+自願投保者!E51 -> 125316124988 | F51: ='產業勞工及交通、公用事業之員工'!F51+'公司、行號之員工'!F51+'新聞、文化、公益及合作事業之員工'!F51+'政府機關及公、私立學校之員工'!F51+受僱從事漁業生產之勞動者!F51+職業訓練機構接受訓練者!F51+職業勞工!F51+漁會之甲類會員!F51+自願投保者!F51 -> 9586399456 | G51: 19869.22
A52: 85年 1996 | B52: ='產業勞工及交通、公用事業之員工'!B52+'公司、行號之員工'!B52+'新聞、文化、公益及合作事業之員工'!B52+'政府機關及公、私立學校之員工'!B52+受僱從事漁業生產之勞動者!B52+職業訓練機構接受訓練者!B52+職業勞工!B52+漁會之甲類會員!B52+自願投保者!B52 -> 379065 | C52: ='產業勞工及交通、公用事業之員工'!C52+'公司、行號之員工'!C52+'新聞、文化、公益及合作事業之員工'!C52+'政府機關及公、私立學校之員工'!C52+受僱從事漁業生產之勞動者!C52+職業訓練機構接受訓練者!C52+職業勞工!C52+漁會之甲類會員!C52+自願投保者!C52 -> 7434299 | D52: =SUM(E52:F52) -> 129408646238 | E52: ='產業勞工及交通、公用事業之員工'!E52+'公司、行號之員工'!E52+'新聞、文化、公益及合作事業之員工'!E52+'政府機關及公、私立學校之員工'!E52+受僱從事漁業生產之勞動者!E52+職業訓練機構接受訓練者!E52+職業勞工!E52+漁會之甲類會員!E52+自願投保者!E52 -> 122355953707 | F52: ='產業勞工及交通、公用事業之員工'!F52+'公司、行號之員工'!F52+'新聞、文化、公益及合作事業之員工'!F52+'政府機關及公、私立學校之員工'!F52+受僱從事漁業生產之勞動者!F52+職業訓練機構接受訓練者!F52+職業勞工!F52+漁會之甲類會員!F52+自願投保者!F52 -> 7052692531 | G52: 21080.52
A53: 86年 1997 | B53: ='產業勞工及交通、公用事業之員工'!B53+'公司、行號之員工'!B53+'新聞、文化、公益及合作事業之員工'!B53+'政府機關及公、私立學校之員工'!B53+受僱從事漁業生產之勞動者!B53+職業訓練機構接受訓練者!B53+職業勞工!B53+漁會之甲類會員!B53+自願投保者!B53 -> 381231 | C53: ='產業勞工及交通、公用事業之員工'!C53+'公司、行號之員工'!C53+'新聞、文化、公益及合作事業之員工'!C53+'政府機關及公、私立學校之員工'!C53+受僱從事漁業生產之勞動者!C53+職業訓練機構接受訓練者!C53+職業勞工!C53+漁會之甲類會員!C53+自願投保者!C53 -> 7500917 | D53: =SUM(E53:F53) -> 135381192630 | E53: ='產業勞工及交通、公用事業之員工'!E53+'公司、行號之員工'!E53+'新聞、文化、公益及合作事業之員工'!E53+'政府機關及公、私立學校之員工'!E53+受僱從事漁業生產之勞動者!E53+職業訓練機構接受訓練者!E53+職業勞工!E53+漁會之甲類會員!E53+自願投保者!E53 -> 128161326078 | F53: ='產業勞工及交通、公用事業之員工'!F53+'公司、行號之員工'!F53+'新聞、文化、公益及合作事業之員工'!F53+'政府機關及公、私立學校之員工'!F53+受僱從事漁業生產之勞動者!F53+職業訓練機構接受訓練者!F53+職業勞工!F53+漁會之甲類會員!F53+自願投保者!F53 -> 7219866552 | G53: 22106.05
A54: 87年 1998 | B54: ='產業勞工及交通、公用事業之員工'!B54+'公司、行號之員工'!B54+'新聞、文化、公益及合作事業之員工'!B54+'政府機關及公、私立學校之員工'!B54+受僱從事漁業生產之勞動者!B54+職業訓練機構接受訓練者!B54+職業勞工!B54+漁會之甲類會員!B54+自願投保者!B54 -> 385402 | C54: ='產業勞工及交通、公用事業之員工'!C54+'公司、行號之員工'!C54+'新聞、文化、公益及合作事業之員工'!C54+'政府機關及公、私立學校之員工'!C54+受僱從事漁業生產之勞動者!C54+職業訓練機構接受訓練者!C54+職業勞工!C54+漁會之甲類會員!C54+自願投保者!C54 -> 7597386 | D54: =SUM(E54:F54) -> 144495995905 | E54: ='產業勞工及交通、公用事業之員工'!E54+'公司、行號之員工'!E54+'新聞、文化、公益及合作事業之員工'!E54+'政府機關及公、私立學校之員工'!E54+受僱從事漁業生產之勞動者!E54+職業訓練機構接受訓練者!E54+職業勞工!E54+漁會之甲類會員!E54+自願投保者!E54 -> 137020158314 | F54: ='產業勞工及交通、公用事業之員工'!F54+'公司、行號之員工'!F54+'新聞、文化、公益及合作事業之員工'!F54+'政府機關及公、私立學校之員工'!F54+受僱從事漁業生產之勞動者!F54+職業訓練機構接受訓練者!F54+職業勞工!F54+漁會之甲類會員!F54+自願投保者!F54 -> 7475837591 | G54: 23312.53
A55: 88年 1999 | B55: ='產業勞工及交通、公用事業之員工'!B55+'公司、行號之員工'!B55+'新聞、文化、公益及合作事業之員工'!B55+'政府機關及公、私立學校之員工'!B55+受僱從事漁業生產之勞動者!B55+職業訓練機構接受訓練者!B55+職業勞工!B55+漁會之甲類會員!B55+自願投保者!B55 -> 390599 | C55: ='產業勞工及交通、公用事業之員工'!C55+'公司、行號之員工'!C55+'新聞、文化、公益及合作事業之員工'!C55+'政府機關及公、私立學校之員工'!C55+受僱從事漁業生產之勞動者!C55+職業訓練機構接受訓練者!C55+職業勞工!C55+漁會之甲類會員!C55+自願投保者!C55 -> 7738971 | D55: =SUM(E55:F55) -> 141303647197 | E55: ='產業勞工及交通、公用事業之員工'!E55+'公司、行號之員工'!E55+'新聞、文化、公益及合作事業之員工'!E55+'政府機關及公、私立學校之員工'!E55+受僱從事漁業生產之勞動者!E55+職業訓練機構接受訓練者!E55+職業勞工!E55+漁會之甲類會員!E55+自願投保者!E55 -> 134572605342 | F55: ='產業勞工及交通、公用事業之員工'!F55+'公司、行號之員工'!F55+'新聞、文化、公益及合作事業之員工'!F55+'政府機關及公、私立學校之員工'!F55+受僱從事漁業生產之勞動者!F55+職業訓練機構接受訓練者!F55+職業勞工!F55+漁會之甲類會員!F55+自願投保者!F55 -> 6731041855 | G55: 24012.79
... A79: 112年 2023 | B79: ='產業勞工及交通、公用事業之員工'!B79+'公司、行號之員工'!B79+'新聞、文化、公益及合作事業之員工'!B79+'政府機關及公、私立學校之員工'!B79+受僱從事漁業生產之勞動者!B79+職業訓練機構接受訓練者!B79+職業勞工!B79+漁會之甲類會員!B79+自願投保者!B79 -> 603101 | C79: ='產業勞工及交通、公用事業之員工'!C79+'公司、行號之員工'!C79+'新聞、文化、公益及合作事業之員工'!C79+'政府機關及公、私立學校之員工'!C79+受僱從事漁業生產之勞動者!C79+職業訓練機構接受訓練者!C79+職業勞工!C79+漁會之甲類會員!C79+自願投保者!C79 -> 10393546 | D79: =SUM(E79:F79) -> 476075743006 | E79: ='產業勞工及交通、公用事業之員工'!E79+'公司、行號之員工'!E79+'新聞、文化、公益及合作事業之員工'!E79+'政府機關及公、私立學校之員工'!E79+受僱從事漁業生產之勞動者!E79+職業訓練機構接受訓練者!E79+職業勞工!E79+漁會之甲類會員!E79+自願投保者!E79 -> 476075743006 | F79: ='產業勞工及交通、公用事業之員工'!F79+'公司、行號之員工'!F79+'新聞、文化、公益及合作事業之員工'!F79+'政府機關及公、私立學校之員工'!F79+受僱從事漁業生產之勞動者!F79+職業訓練機構接受訓練者!F79+職業勞工!F79+漁會之甲類會員!F79+自願投保者!F79 -> 0 | G79: 34415
A80: 113年 2024 | B80: ='產業勞工及交通、公用事業之員工'!B80+'公司、行號之員工'!B80+'新聞、文化、公益及合作事業之員工'!B80+'政府機關及公、私立學校之員工'!B80+受僱從事漁業生產之勞動者!B80+職業訓練機構接受訓練者!B80+職業勞工!B80+漁會之甲類會員!B80+自願投保者!B80 -> 613493 | C80: ='產業勞工及交通、公用事業之員工'!C80+'公司、行號之員工'!C80+'新聞、文化、公益及合作事業之員工'!C80+'政府機關及公、私立學校之員工'!C80+受僱從事漁業生產之勞動者!C80+職業訓練機構接受訓練者!C80+職業勞工!C80+漁會之甲類會員!C80+自願投保者!C80 -> 10479398 | D80: =SUM(E80:F80) -> 488128572122 | E80: ='產業勞工及交通、公用事業之員工'!E80+'公司、行號之員工'!E80+'新聞、文化、公益及合作事業之員工'!E80+'政府機關及公、私立學校之員工'!E80+受僱從事漁業生產之勞動者!E80+職業訓練機構接受訓練者!E80+職業勞工!E80+漁會之甲類會員!E80+自願投保者!E80+89380850 -> 488128572122 | F80: ='產業勞工及交通、公用事業之員工'!F80+'公司、行號之員工'!F80+'新聞、文化、公益及合作事業之員工'!F80+'政府機關及公、私立學校之員工'!F80+受僱從事漁業生產之勞動者!F80+職業訓練機構接受訓練者!F80+職業勞工!F80+漁會之甲類會員!F80+自願投保者!F80 -> 0 | G80: 35180
A81: 114年 2025 | B81: ='產業勞工及交通、公用事業之員工'!B81+'公司、行號之員工'!B81+'新聞、文化、公益及合作事業之員工'!B81+'政府機關及公、私立學校之員工'!B81+受僱從事漁業生產之勞動者!B81+職業訓練機構接受訓練者!B81+職業勞工!B81+漁會之甲類會員!B81+自願投保者!B81 -> 622263 | C81: ='產業勞工及交通、公用事業之員工'!C81+'公司、行號之員工'!C81+'新聞、文化、公益及合作事業之員工'!C81+'政府機關及公、私立學校之員工'!C81+受僱從事漁業生產之勞動者!C81+職業訓練機構接受訓練者!C81+職業勞工!C81+漁會之甲類會員!C81+自願投保者!C81 -> 10481213 | D81: =SUM(E81:F81) -> 524233220709 | E81: ='產業勞工及交通、公用事業之員工'!E81+'公司、行號之員工'!E81+'新聞、文化、公益及合作事業之員工'!E81+'政府機關及公、私立學校之員工'!E81+受僱從事漁業生產之勞動者!E81+職業訓練機構接受訓練者!E81+職業勞工!E81+漁會之甲類會員!E81+自願投保者!E81+3184777 -> 524233220709 | F81: ='產業勞工及交通、公用事業之員工'!F81+'公司、行號之員工'!F81+'新聞、文化、公益及合作事業之員工'!F81+'政府機關及公、私立學校之員工'!F81+受僱從事漁業生產之勞動者!F81+職業訓練機構接受訓練者!F81+職業勞工!F81+漁會之甲類會員!F81+自願投保者!F81 -> 0 | G81: 35943
A82: 註：1.68年修正勞保條例將綜合保險費率分為職業災害保險與普通事故保險兩類，69年起應計保險費始有職災、普通分類。
A83: 2.平均投保薪資自50年始有統計資料。
A84: 3.勞工職業災害保險及保護法自111年5月實施，原勞工保險之職業災害保險資料同時改列於勞工職業災害保險報表項下，
A85: 職業災害保險費統計至111年4月。
A86: 4.依據「勞動部辦理一百十三年花蓮縣轄區內受○四○三震災影響投保單位保險費補貼要點」，自113年6月至114年2月應計保險費
A87: 總計含政府補貼投保單位應負擔保險費之半數及補貼保費沖補金額，113年及114年分別為89,380,850元及3,184,777元無細項分類，
A88: 故細項加總容與總計不合。
A89: 5.本表投保單位及人數係指當年度12月計費開單之月底生效單位及人數。

Sheet 產業勞工及交通、公用事業之員工
A1: 開辦起勞工保險納保歷年資料 (續1)
A2: 產業勞工及交通、公用事業之員工
D3: 中華民國39-114年 | G3: =總計!G3 -> 單位：個、人、新台幣元
A4: 年 別 | B4: 單位 (年底) | C4: 人數 (年底) | D4: 應計保險費 | G4: 平均投保薪資
D5: 合計 | E5: 普通事故保險費 | F5: 職業災害保險費
A6: 39年 1950 | B6: 554 | C6: 128625 | D6: 4289172.6 | E6: - | F6: - | G6: -
A7: 40年 1951 | B7: 885 | C7: 159131 | D7: 8656401.3 | E7: - | F7: - | G7: -
A8: 41年 1952 | B8: 1166 | C8: 185631 | D8: 13723791 | E8: - | F8: - | G8: -
A9: 42年 1953 | B9: 1241 | C9: 195591 | D9: 18202331 | E9: - | F9: - | G9: -
A10: 43年 1954 | B10: 1252 | C10: 191924 | D10: 21985087 | E10: - | F10: - | G10: -
A11: 44年 1955 | B11: 1316 | C11: 211030 | D11: 25641634 | E11: - | F11: - | G11: -
A12: 45年 1956 | B12: 1415 | C12: 234924 | D12: 39964457 | E12: - | F12: - | G12: -
A13: 46年 1957 | B13: 1546 | C13: 259031 | D13: 57802148 | E13: - | F13: - | G13: -
A14: 47年 1958 | B14: 1610 | C14: 267346 | D14: 63510526 | E14: - | F14: - | G14: -
A15: 48年 1959 | B15: 1675 | C15: 280771 | D15: 68115295 | E15: - | F15: - | G15: -
A16: 49年 1960 | B16: 1736 | C16: 308658 | D16: 77010226 | E16: - | F16: - | G16: -
A17: 50年 1961 | B17: 1907 | C17: 319194 | D17: 1.0032464e+08 | E17: - | F17: - | G17: 674.58
A18: 51年 1962 | B18: 2239 | C18: 339434 | D18: 1.1095121e+08 | E18: - | F18: - | G18: 715.19
A19: 52年 1963 | B19: 2298 | C19: 345826 | D19: 1.2170078e+08 | E19: - | F19: - | G19: 754.69
A20: 53年 1964 | B20: 2518 | C20: 365225 | D20: 1.3197764e+08 | E20: - | F20: - | G20: 787.55
A21: 54年 1965 | B21: 2812 | C21: 408640 | D21: 1.5492543e+08 | E21: - | F21: - | G21: 839.81
A22: 55年 1966 | B22: 3071 | C22: 443296 | D22: 1.7484677e+08 | E22: - | F22: - | G22: 865.28
A23: 56年 1967 | B23: 3300 | C23: 486577 | D23: 1.9767624e+08 | E23: - | F23: - | G23: 900.22
A24: 57年 1968 | B24: 3603 | C24: 536559 | D24: 2.4769931e+08 | E24: - | F24: - | G24: 1016.79
A25: 58年 1969 | B25: 3944 | C25: 601957 | D25: 2.9354357e+08 | E25: - | F25: - | G25: 1082.58
A26: 59年 1970 | B26: 4556 | C26: 673466 | D26: 7.3795029e+08 | E26: - | F26: - | G26: 1212.83
A27: 60年 1971 | B27: 5117 | C27: 752490 | D27: 8.7801734e+08 | E27: - | F27: - | G27: 1297.16
A28: 61年 1972 | B28: 5888 | C28: 854739 | D28: 1.0347138e+09 | E28: - | F28: - | G28: 1363.71
... A35: 68年 1979 | B35: 18823 | C35: 1632707 | D35: 5.7415431e+09 | E35: - | F35: - | G35: 3848.64
A36: 69年 1980 | B36: 22892 | C36: 1749632 | D36: =SUM(E36:F36) -> 7612968211 | E36: 6630963942 | F36: 982004269 | G36: 4717.92
A37: 70年 1981 | B37: 27480 | C37: 1853740 | D37: =SUM(E37:F37) -> 9626179981 | E37: 8378874217 | F37: 1247305764 | G37: 5586.92
A38: 71年 1982 | B38: 30830 | C38: 1868859 | D38: =SUM(E38:F38) -> 10646093528 | E38: 9271071459 | F38: 1375022069 | G38: 5995.1
A39: 72年 1983 | B39: 36092 | C39: 2065196 | D39: =SUM(E39:F39) -> 12480422923 | E39: 11180852965 | F39: 1299569958 | G39: 6833.5
A40: 73年 1984 | B40: 43094 | C40: 2206577 | D40: =SUM(E40:F40) -> 15442433627 | E40: 13886716646 | F40: 1555716981 | G40: 7724.81
A41: 74年 1985 | B41: 49259 | C41: 2258006 | D41: =SUM(E41:F41) -> 17315007007 | E41: 15562876461 | F41: 1752130546 | G41: 8383.28
A42: 75年 1986 | B42: 59345 | C42: 2551250 | D42: =SUM(E42:F42) -> 19127793402 | E42: 17212446939 | F42: 1915346463 | G42: 8589
A43: 76年 1987 | B43: 73290 | C43: 2730936 | D43: =SUM(E43:F43) -> 22171850485 | E43: 19995115035 | F43: 2176735450 | G43: 9039.69
A44: 77年 1988 | B44: 90988 | C44: 2837930 | D44: =SUM(E44:F44) -> 25561091672 | E44: 23072035460 | F44: 2489056212 | G44: 9858.58
A45: 78年 1989 | B45: 103161 | C45: 2825286 | D45: =SUM(E45:F45) -> 29776791575 | E45: 26903798464 | F45: 2872993111 | G45: 11333.34
A46: 79年 1990 | B46: 108963 | C46: 2758716 | D46: =SUM(E46:F46) -> 32125453457 | E46: 29408999206 | F46: 2716454251 | G46: 12720.72
A47: 80年 1991 | B47: 116367 | C47: 2803937 | D47: =SUM(E47:F47) -> 36093601189 | E47: 33024116141 | F47: 3069485048 | G47: 14240.56
... A76: 109年 2020 | B76: 167549 | C76: 3339610 | D76: =SUM(E76:F76) -> 135291339532 | E76: 132204604785 | F76: 3086734747 | G76: 34333
A77: 110年 2021 | B77: 171209 | C77: 3399584 | D77: 145622298734 | E77: 142443618535 | F77: 3178680199 | G77: 34641
A78: 111年 2022 | B78: 172557 | C78: 3313803 | D78: =SUM(E78:F78) -> 148966691846 | E78: 147952544508 | F78: 1014147338 | G78: 35594
A79: 112年 2023 | B79: 175925 | C79: 3296150 | D79: =SUM(E79:F79) -> 158827023966 | E79: 158827023966 | F79: 0 | G79: 36270
A80: 113年 2024 | B80: 180635 | C80: 3353881 | D80: =SUM(E80:F80) -> 162393615696 | E80: 162393615696 | F80: 0 | G80: 36907
A81: 114年 2025 | B81: 184787 | C81: 3405801 | D81: =SUM(E81:F81) -> 176315337603 | E81: 176315337603 | F81: 0 | G81: 37586

Sheet 公司、行號之員工
A1: 開辦起勞工保險納保歷年資料 (續2)
A2: 公司、行號之員工
D3: 中華民國39-114年 | G3: =總計!G3 -> 單位：個、人、新台幣元
A4: 年 別 | B4: 單位 (年底) | C4: 人數 (年底) | D4: 應計保險費 | G4: 平均投保薪資
D5: 合計 | E5: 普通事故保險費 | F5: 職業災害保險費
A6: 39年 1950 | B6: - | C6: - | D6: - | E6: - | F6: - | G6: -
A7: 40年 1951 | B7: - | C7: - | D7: - | E7: - | F7: - | G7: -
A8: 41年 1952 | B8: - | C8: - | D8: - | E8: - | F8: - | G8: -
A9: 42年 1953 | B9: - | C9: - | D9: - | E9: - | F9: - | G9: -
A10: 43年 1954 | B10: - | C10: - | D10: - | E10: - | F10: - | G10: -
A11: 44年 1955 | B11: - | C11: - | D11: - | E11: - | F11: - | G11: -
A12: 45年 1956 | B12: - | C12: - | D12: - | E12: - | F12: - | G12: -
A13: 46年 1957 | B13: - | C13: - | D13: - | E13: - | F13: - | G13: -
A14: 47年 1958 | B14: - | C14: - | D14: - | E14: - | F14: - | G14: -
A15: 48年 1959 | B15: - | C15: - | D15: - | E15: - | F15: - | G15: -
A16: 49年 1960 | B16: - | C16: - | D16: - | E16: - | F16: - | G16: -
A17: 50年 1961 | B17: - | C17: - | D17: - | E17: - | F17: - | G17: -
... A25: 58年 1969 | B25: - | C25: - | D25: - | E25: - | F25: - | G25: -
A26: 59年 1970 | B26: 403 | C26: 17615 | D26: 18969600 | E26: - | F26: - | G26: 1878.86
A27: 60年 1971 | B27: 584 | C27: 24958 | D27: 40720324 | E27: - | F27: - | G27: 1928.22
A28: 61年 1972 | B28: 747 | C28: 30369 | D28: 54264901 | E28: - | F28: - | G28: 2042.31
A29: 62年 1973 | B29: 1106 | C29: 43599 | D29: 77830021 | E29: - | F29: - | G29: 2191.34
A30: 63年 1974 | B30: 1365 | C30: 50765 | D30: 110513122 | E30: - | F30: - | G30: 2433.58
A31: 64年 1975 | B31: 1666 | C31: 61379 | D31: 1.693e+08 | E31: - | F31: - | G31: 3170.87
A32: 65年 1976 | B32: 2184 | C32: 76932 | D32: 2.2369856e+08 | E32: - | F32: - | G32: 3373.72
A33: 66年 1977 | B33: 2791 | C33: 97797 | D33: 3.1392739e+08 | E33: - | F33: - | G33: 3730.42
A34: 67年 1978 | B34: 3619 | C34: 121105 | D34: 4.1621929e+08 | E34: - | F34: - | G34: 3979.82
A35: 68年 1979 | B35: 5442 | C35: 157397 | D35: 562738283 | E35: - | F35: - | G35: 4229.73
A36: 69年 1980 | B36: 8486 | C36: 205365 | D36: =SUM(E36:F36) -> 859658273 | E36: 788995863 | F36: 70662410 | G36: 5153
A37: 70年 1981 | B37: 12214 | C37: 258982 | D37: =SUM(E37:F37) -> 1305913857 | E37: 1202278350 | F37: 103635507 | G37: 6106.38
A38: 71年 1982 | B38: 15978 | C38: 304815 | D38: =SUM(E38:F38) -> 1682415192 | E38: 1551406070 | F38: 131009122 | G38: 6536
A39: 72年 1983 | B39: 20155 | C39: 371137 | D39: =SUM(E39:F39) -> 2128580839 | E39: 2003015330 | F39: 125565509 | G39: 7085.72
A40: 73年 1984 | B40: 26157 | C40: 451446 | D40: =SUM(E40:F40) -> 2896891013 | E40: 2732314331 | F40: 164576682 | G40: 7932.03
A41: 74年 1985 | B41: 32964 | C41: 533261 | D41: =SUM(E41:F41) -> 3663971087 | E41: 3461368086 | F41: 202603001 | G41: 8408.05
A42: 75年 1986 | B42: 42853 | C42: 669038 | D42: =SUM(E42:F42) -> 4458853300 | E42: 4199674221 | F42: 259179079 | G42: 8508
A43: 76年 1987 | B43: 56063 | C43: 851557 | D43: =SUM(E43:F43) -> 5908710802 | E43: 5546168753 | F43: 362542049 | G43: 8814.51
A44: 77年 1988 | B44: 91306 | C44: 1130551 | D44: =SUM(E44:F44) -> 8409815752 | E44: 7899806815 | F44: 510008937 | G44: 9359.86
A45: 78年 1989 | B45: 114555 | C45: 1384189 | D45: =SUM(E45:F45) -> 12015948697 | E45: 11316034873 | F45: 699913824 | G45: 10747.08
A46: 79年 1990 | B46: 131534 | C46: 1531813 | D46: =SUM(E46:F46) -> 15581562591 | E46: 14883061355 | F46: 698501236 | G46: 12166.19
A47: 80年 1991 | B47: 151213 | C47: 1695313 | D47: =SUM(E47:F47) -> 19079633996 | E47: 18212061363 | F47: 867572633 | G47: 13639.96
... A76: 109年 2020 | B76: 327364 | C76: 3589958 | D76: =SUM(E76:F76) -> 140206331661 | E76: 137863765231 | F76: 2342566430 | G76: 33096
A77: 110年 2021 | B77: 333123 | C77: 3612435 | D77: 149108437136 | E77: 146737551790 | F77: 2370885346 | G77: 33443
A78: 111年 2022 | B78: 334062 | C78: 3534344 | D78: =SUM(E78:F78) -> 153001145732 | E78: 152194477742 | F78: 806667990 | G78: 34232
A79: 112年 2023 | B79: 338797 | C79: 3579386 | D79: =SUM(E79:F79) -> 165667527900 | E79: 165667527900 | F79: 0 | G79: 34983
A80: 113年 2024 | B80: 342933 | C80: 3638473 | D80: =SUM(E80:F80) -> 171511870022 | E80: 171511870022 | F80: 0 | G80: 35688
A81: 114年 2025 | B81: 346135 | C81: 3666472 | D81: =SUM(E81:F81) -> 1.8474647e+11 | E81: 1.8474647e+11 | F81: 0 | G81: 36328

Sheet 新聞、文化、公益及合作事業之員工
A1: 開辦起勞工保險納保歷年資料 (續3)
A2: 新聞、文化、公益及合作事業之員工
D3: 中華民國39-114年 | G3: =總計!G3 -> 單位：個、人、新台幣元
A4: 年 別 | B4: 單位 (年底) | C4: 人數 (年底) | D4: 應計保險費 | G4: 平均投保薪資
D5: 合計 | E5: 普通事故保險費 | F5: 職業災害保險費
A6: 39年 1950 | B6: - | C6: - | D6: - | E6: - | F6: - | G6: -
A7: 40年 1951 | B7: - | C7: - | D7: - | E7: - | F7: - | G7: -
A8: 41年 1952 | B8: - | C8: - | D8: - | E8: - | F8: - | G8: -
A9: 42年 1953 | B9: - | C9: - | D9: - | E9: - | F9: - | G9: -
A10: 43年 1954 | B10: - | C10: - | D10: - | E10: - | F10: - | G10: -
A11: 44年 1955 | B11: - | C11: - | D11: - | E11: - | F11: - | G11: -
A12: 45年 1956 | B12: - | C12: - | D12: - | E12: - | F12: - | G12: -
A13: 46年 1957 | B13: - | C13: - | D13: - | E13: - | F13: - | G13: -
A14: 47年 1958 | B14: - | C14: - | D14: - | E14: - | F14: - | G14: -
A15: 48年 1959 | B15: - | C15: - | D15: - | E15: - | F15: - | G15: -
A16: 49年 1960 | B16: - | C16: - | D16: - | E16: - | F16: - | G16: -
A17: 50年 1961 | B17: - | C17: - | D17: - | E17: - | F17: - | G17: -
... A35: 68年 1979 | B35: - | C35: - | D35: - | E35: - | F35: - | G35: -
A36: 69年 1980 | B36: 465 | C36: 28531 | D36: =SUM(E36:F36) -> 111171374 | E36: 105119169 | F36: 6052205 | G36: 5855.26
A37: 70年 1981 | B37: 940 | C37: 51740 | D37: =SUM(E37:F37) -> 254786081 | E37: 240687750 | F37: 14098331 | G37: 6854.52
A38: 71年 1982 | B38: 1161 | C38: 58838 | D38: =SUM(E38:F38) -> 370232485 | E38: 349604254 | F38: 20628231 | G38: 7465
A39: 72年 1983 | B39: 1291 | C39: 65270 | D39: =SUM(E39:F39) -> 448450022 | E39: 432008024 | F39: 16441998 | G39: 8328.11
A40: 73年 1984 | B40: 1467 | C40: 74507 | D40: =SUM(E40:F40) -> 569838027 | E40: 548558820 | F40: 21279207 | G40: 9328
A41: 74年 1985 | B41: 1681 | C41: 81534 | D41: =SUM(E41:F41) -> 691528600 | E41: 664269417 | F41: 27259183 | G41: 10113.36
A42: 75年 1986 | B42: 1977 | C42: 91251 | D42: =SUM(E42:F42) -> 781365479 | E42: 746927708 | F42: 34437771 | G42: 10312
A43: 76年 1987 | B43: 2267 | C43: 99501 | D43: =SUM(E43:F43) -> 909780257 | E43: 864869799 | F43: 44910458 | G43: 10856.63
A44: 77年 1988 | B44: 3166 | C44: 110798 | D44: =SUM(E44:F44) -> 1083705430 | E44: 1029165209 | F44: 54540221 | G44: 11522.36
A45: 78年 1989 | B45: 3550 | C45: 121299 | D45: =SUM(E45:F45) -> 1372552799 | E45: 1306835028 | F45: 65717771 | G45: 13470.76
A46: 79年 1990 | B46: 3765 | C46: 126018 | D46: =SUM(E46:F46) -> 1603820615 | E46: 1555614103 | F46: 48206512 | G46: 15091.12
A47: 80年 1991 | B47: 4019 | C47: 134405 | D47: =SUM(E47:F47) -> 1933576972 | E47: 1876827831 | F47: 56749141 | G47: 17240.3
... A76: 109年 2020 | B76: 14559 | C76: 363450 | D76: =SUM(E76:F76) -> 15200822127 | E76: 15025698907 | F76: 175123220 | G76: 36059
A77: 110年 2021 | B77: 15343 | C77: 376426 | D77: 16590438525 | E77: 16407709887 | F77: 182728638 | G77: 36136
A78: 111年 2022 | B78: 15952 | C78: 372181 | D78: =SUM(E78:F78) -> 17224325782 | E78: 17161124461 | F78: 63201321 | G78: 36722
A79: 112年 2023 | B79: 16641 | C79: 386607 | D79: =SUM(E79:F79) -> 18830959347 | E79: 18830959347 | F79: 0 | G79: 37240
A80: 113年 2024 | B80: 17172 | C80: 399934 | D80: =SUM(E80:F80) -> 19894832452 | E80: 19894832452 | F80: 0 | G80: 37875
A81: 114年 2025 | B81: 17498 | C81: 407842 | D81: =SUM(E81:F81) -> 2.1716396e+10 | E81: 2.1716396e+10 | F81: 0 | G81: 38546

Sheet 政府機關及公、私立學校之員工
A1: 開辦起勞工保險納保歷年資料 (續4)
A2: 政府機關及公、私立學校之員工
D3: 中華民國39-114年 | G3: =總計!G3 -> 單位：個、人、新台幣元
A4: 年 別 | B4: 單位 (年底) | C4: 人數 (年底) | D4: 應計保險費 | G4: 平均投保薪資
D5: 合計 | E5: 普通事故保險費 | F5: 職業災害保險費
A6: 39年 1950 | B6: - | C6: - | D6: - | E6: - | F6: - | G6: -
A7: 40年 1951 | B7: - | C7: - | D7: - | E7: - | F7: - | G7: -
A8: 41年 1952 | B8: - | C8: - | D8: - | E8: - | F8: - | G8: -
A9: 42年 1953 | B9: - | C9: - | D9: - | E9: - | F9: - | G9: -
A10: 43年 1954 | B10: - | C10: - | D10: - | E10: - | F10: - | G10: -
A11: 44年 1955 | B11: - | C11: - | D11: - | E11: - | F11: - | G11: -
A12: 45年 1956 | B12: - | C12: - | D12: - | E12: - | F12: - | G12: -
A13: 46年 1957 | B13: - | C13: - | D13: - | E13: - | F13: - | G13: -
A14: 47年 1958 | B14: - | C14: - | D14: - | E14: - | F14: - | G14: -
A15: 48年 1959 | B15: - | C15: - | D15: - | E15: - | F15: - | G15: -
A16: 49年 1960 | B16: - | C16: - | D16: - | E16: - | F16: - | G16: -
A17: 50年 1961 | B17: - | C17: - | D17: - | E17: - | F17: - | G17: -
... A20: 53年 1964 | B20: - | C20: - | D20: - | E20: - | F20: - | G20: -
A21: 54年 1965 | B21: 742 | C21: 25984 | D21: 1812025.8 | E21: - | F21: - | G21: 634.68
A22: 55年 1966 | B22: 902 | C22: 32374 | D22: 10359596 | E22: - | F22: - | G22: 710.93
A23: 56年 1967 | B23: 931 | C23: 34113 | D23: 12198823 | E23: - | F23: - | G23: 762.21
A24: 57年 1968 | B24: 1004 | C24: 36887 | D24: 15392564 | E24: - | F24: - | G24: 906
A25: 58年 1969 | B25: 1333 | C25: 40310 | D25: 17762999 | E25: - | F25: - | G25: 956.84
A26: 59年 1970 | B26: 3380 | C26: 45477 | D26: 46230221 | E26: - | F26: - | G26: 1113.88
A27: 60年 1971 | B27: 3994 | C27: 49125 | D27: 60529768 | E27: - | F27: - | G27: 1321.7
A28: 61年 1972 | B28: 4327 | C28: 51253 | D28: 68939912 | E28: - | F28: - | G28: 1424.9
A29: 62年 1973 | B29: 4691 | C29: 53526 | D29: 82309558 | E29: - | F29: - | G29: 1631.85
A30: 63年 1974 | B30: 4756 | C30: 55940 | D30: 1.1762059e+08 | E30: - | F30: - | G30: 2246.41
A31: 64年 1975 | B31: 5009 | C31: 57427 | D31: 1.6972774e+08 | E31: - | F31: - | G31: 3113.93
A32: 65年 1976 | B32: 5218 | C32: 65421 | D32: 2.073844e+08 | E32: - | F32: - | G32: 3467.61
... A35: 68年 1979 | B35: 6003 | C35: 93849 | D35: 4.0720265e+08 | E35: - | F35: - | G35: 5197.39
A36: 69年 1980 | B36: 6296 | C36: 106470 | D36: =SUM(E36:F36) -> 545824255 | E36: 514192267 | F36: 31631988 | G36: 6222.75
A37: 70年 1981 | B37: 6498 | C37: 118521 | D37: =SUM(E37:F37) -> 785773328 | E37: 740011143 | F37: 45762185 | G37: 7765.18
A38: 71年 1982 | B38: 6347 | C38: 128360 | D38: =SUM(E38:F38) -> 917281374 | E38: 863902353 | F38: 53379021 | G38: 8430.39
A39: 72年 1983 | B39: 6467 | C39: 136633 | D39: =SUM(E39:F39) -> 1031790793 | E39: 992130682 | F39: 39660111 | G39: 8941.16
A40: 73年 1984 | B40: 6552 | C40: 144444 | D40: =SUM(E40:F40) -> 1181486208 | E40: 1137338324 | F40: 44147884 | G40: 9681.33
A41: 74年 1985 | B41: 6630 | C41: 150688 | D41: =SUM(E41:F41) -> 1370456212 | E41: 1318424124 | F41: 52032088 | G41: 10718.69
A42: 75年 1986 | B42: 6679 | C42: 158689 | D42: =SUM(E42:F42) -> 1522630542 | E42: 1459854802 | F42: 62775740 | G42: 11293
A43: 76年 1987 | B43: 6689 | C43: 163644 | D43: =SUM(E43:F43) -> 1660313172 | E43: 1586825921 | F43: 73487251 | G43: 11784.62
A44: 77年 1988 | B44: 6711 | C44: 173418 | D44: =SUM(E44:F44) -> 1854076073 | E44: 1773518809 | F44: 80557264 | G44: 12605.02
A45: 78年 1989 | B45: 6705 | C45: 177499 | D45: =SUM(E45:F45) -> 2150584537 | E45: 2059969987 | F45: 90614550 | G45: 14099.79
A46: 79年 1990 | B46: 6794 | C46: 185208 | D46: =SUM(E46:F46) -> 2452415149 | E46: 2384489141 | F46: 67926008 | G46: 15923.14
A47: 80年 1991 | B47: 6853 | C47: 190905 | D47: =SUM(E47:F47) -> 2895528513 | E47: 2816533728 | F47: 78994785 | G47: 17901.57
... A76: 109年 2020 | B76: 8357 | C76: 462931 | D76: =SUM(E76:F76) -> 19704366841 | E76: 19456214258 | F76: 248152583 | G76: 34231
A77: 110年 2021 | B77: 8424 | C77: 497977 | D77: 21077146761 | E77: 20823559544 | F77: 253587217 | G77: 34174
A78: 111年 2022 | B78: 8423 | C78: 476145 | D78: =SUM(E78:F78) -> 21847439769 | E78: 21757346831 | F78: 90092938 | G78: 34899
A79: 112年 2023 | B79: 8303 | C79: 468827 | D79: =SUM(E79:F79) -> 23314550986 | E79: 23314550986 | F79: 0 | G79: 36214
A80: 113年 2024 | B80: 8295 | C80: 475827 | D80: =SUM(E80:F80) -> 24176475372 | E80: 24176475372 | F80: 0 | G80: 37288
A81: 114年 2025 | B81: 8298 | C81: 484575 | D81: =SUM(E81:F81) -> 2.613628e+10 | E81: 2.613628e+10 | F81: 0 | G81: 37991

Sheet 受僱從事漁業生產之勞動者
A1: 開辦起勞工保險納保歷年資料 (續5)
A2: 受僱從事漁業生產之勞動者
D3: 中華民國39-114年 | G3: =總計!G3 -> 單位：個、人、新台幣元
A4: 年 別 | B4: 單位 (年底) | C4: 人數 (年底) | D4: 應計保險費 | G4: 平均投保薪資
D5: 合計 | E5: 普通事故保險費 | F5: 職業災害保險費
A6: 39年 1950 | B6: - | C6: - | D6: - | E6: - | F6: - | G6: -
A7: 40年 1951 | B7: - | C7: - | D7: - | E7: - | F7: - | G7: -
A8: 41年 1952 | B8: - | C8: - | D8: - | E8: - | F8: - | G8: -
A9: 42年 1953 | B9: - | C9: - | D9: - | E9: - | F9: - | G9: -
A10: 43年 1954 | B10: - | C10: - | D10: - | E10: - | F10: - | G10: -
A11: 44年 1955 | B11: - | C11: - | D11: - | E11: - | F11: - | G11: -
A12: 45年 1956 | B12: - | C12: - | D12: - | E12: - | F12: - | G12: -
A13: 46年 1957 | B13: - | C13: - | D13: - | E13: - | F13: - | G13: -
A14: 47年 1958 | B14: - | C14: - | D14: - | E14: - | F14: - | G14: -
A15: 48年 1959 | B15: - | C15: - | D15: - | E15: - | F15: - | G15: -
A16: 49年 1960 | B16: - | C16: - | D16: - | E16: - | F16: - | G16: -
A17: 50年 1961 | B17: - | C17: - | D17: - | E17: - | F17: - | G17: -
... A43: 76年 1987 | B43: - | C43: - | D43: - | E43: - | F43: - | G43: -
A44: 77年 1988 | B44: 884 | C44: 18077 | D44: =SUM(E44:F44) -> 195418304 | E44: 173150896 | F44: 22267408 | G44: 12957.75
A45: 78年 1989 | B45: 930 | C45: 16899 | D45: =SUM(E45:F45) -> 218728031 | E45: 193554902 | F45: 25173129 | G45: 12912.46
A46: 79年 1990 | B46: 965 | C46: 15966 | D46: =SUM(E46:F46) -> 209887763 | E46: 182963534 | F46: 26924229 | G46: 13004.83
A47: 80年 1991 | B47: 882 | C47: 12413 | D47: =SUM(E47:F47) -> 182221372 | E47: 158845601 | F47: 23375771 | G47: 13319.97
A48: 81年 1992 | B48: 832 | C48: 10361 | D48: =SUM(E48:F48) -> 154394751 | E48: 134586929 | F48: 19807822 | G48: 14008.99
A49: 82年 1993 | B49: 817 | C49: 8904 | D49: =SUM(E49:F49) -> 144669564 | E49: 124099503 | F49: 20570061 | G49: 15188.51
A50: 83年 1994 | B50: 806 | C50: 7409 | D50: =SUM(E50:F50) -> 130676910 | E50: 112096258 | F50: 18580652 | G50: 16461.13
A51: 84年 1995 | B51: 764 | C51: 6191 | D51: =SUM(E51:F51) -> 111550702 | E51: 94826587 | F51: 16724115 | G51: 17872.92
A52: 85年 1996 | B52: 780 | C52: 5703 | D52: =SUM(E52:F52) -> 106343541 | E52: 89191885 | F52: 17151656 | G52: 19339.1
A53: 86年 1997 | B53: 755 | C53: 5303 | D53: =SUM(E53:F53) -> 106327035 | E53: 89186178 | F53: 17140857 | G53: 20809.04
A54: 87年 1998 | B54: 745 | C54: 4875 | D54: =SUM(E54:F54) -> 105841260 | E54: 88778526 | F54: 17062734 | G54: 22396.87
A55: 88年 1999 | B55: 722 | C55: 4626 | D55: =SUM(E55:F55) -> 101364850 | E55: 85086189 | F55: 16278661 | G55: 23520.22
... A76: 109年 2020 | B76: 2110 | C76: 6302 | D76: =SUM(E76:F76) -> 173156581 | E76: 169716796 | F76: 3439785 | G76: 25902
A77: 110年 2021 | B77: 2446 | C77: 6843 | D77: 219920449 | E77: 215755071 | F77: 4165378 | G77: 25768
A78: 111年 2022 | B78: 2961 | C78: 9034 | D78: =SUM(E78:F78) -> 255666822 | E78: 254258731 | F78: 1408091 | G78: 26475
A79: 112年 2023 | B79: 3155 | C79: 10112 | D79: =SUM(E79:F79) -> 341189324 | E79: 341189324 | F79: 0 | G79: 27264
A80: 113年 2024 | B80: 3368 | C80: 10642 | D80: =SUM(E80:F80) -> 385080911 | E80: 385080911 | F80: 0 | G80: 28396
A81: 114年 2025 | B81: 3465 | C81: 10939 | D81: =SUM(E81:F81) -> 433275151 | E81: 433275151 | F81: 0 | G81: 29506

Sheet 職業訓練機構接受訓練者
A1: 開辦起勞工保險納保歷年資料 (續6)
A2: 職業訓練機構接受訓練者
D3: 中華民國39-114年 | G3: =總計!G3 -> 單位：個、人、新台幣元
A4: 年 別 | B4: 單位 (年底) | C4: 人數 (年底) | D4: 應計保險費 | G4: 平均投保薪資
D5: 合計 | E5: 普通事故保險費 | F5: 職業災害保險費
A6: 39年 1950 | B6: - | C6: - | D6: - | E6: - | F6: - | G6: -
A7: 40年 1951 | B7: - | C7: - | D7: - | E7: - | F7: - | G7: -
A8: 41年 1952 | B8: - | C8: - | D8: - | E8: - | F8: - | G8: -
A9: 42年 1953 | B9: - | C9: - | D9: - | E9: - | F9: - | G9: -
A10: 43年 1954 | B10: - | C10: - | D10: - | E10: - | F10: - | G10: -
A11: 44年 1955 | B11: - | C11: - | D11: - | E11: - | F11: - | G11: -
A12: 45年 1956 | B12: - | C12: - | D12: - | E12: - | F12: - | G12: -
A13: 46年 1957 | B13: - | C13: - | D13: - | E13: - | F13: - | G13: -
A14: 47年 1958 | B14: - | C14: - | D14: - | E14: - | F14: - | G14: -
A15: 48年 1959 | B15: - | C15: - | D15: - | E15: - | F15: - | G15: -
A16: 49年 1960 | B16: - | C16: - | D16: - | E16: - | F16: - | G16: -
A17: 50年 1961 | B17: - | C17: - | D17: - | E17: - | F17: - | G17: -
... A35: 68年 1979 | B35: - | C35: - | D35: - | E35: - | F35: - | G35: -
A36: 69年 1980 | B36: 12 | C36: 2020 | D36: =SUM(E36:F36) -> 2150878 | E36: 2037366 | F36: 113512 | G36: 1730.16
A37: 70年 1981 | B37: 23 | C37: 3113 | D37: =SUM(E37:F37) -> 7075104 | E37: 6701710 | F37: 373394 | G37: 2389.44
A38: 71年 1982 | B38: 24 | C38: 3899 | D38: =SUM(E38:F38) -> 9251998 | E38: 8763710 | F38: 488288 | G38: 2412
A39: 72年 1983 | B39: 31 | C39: 4395 | D39: =SUM(E39:F39) -> 12233489 | E39: 11828080 | F39: 405409 | G39: 2857.5
A40: 73年 1984 | B40: 36 | C40: 5288 | D40: =SUM(E40:F40) -> 19659037 | E40: 19033775 | F40: 625262 | G40: 4308.03
A41: 74年 1985 | B41: 43 | C41: 6104 | D41: =SUM(E41:F41) -> 24736586 | E41: 23949632 | F41: 786954 | G41: 4515.09
A42: 75年 1986 | B42: 48 | C42: 7069 | D42: =SUM(E42:F42) -> 27357503 | E42: 26387592 | F42: 969911 | G42: 4511
A43: 76年 1987 | B43: 53 | C43: 6443 | D43: =SUM(E43:F43) -> 32034210 | E43: 30759765 | F43: 1274445 | G43: 4945.71
A44: 77年 1988 | B44: 56 | C44: 6590 | D44: =SUM(E44:F44) -> 31964172 | E44: 30692562 | F44: 1271610 | G44: 5402.5
A45: 78年 1989 | B45: 54 | C45: 6085 | D45: =SUM(E45:F45) -> 35571133 | E45: 34210353 | F45: 1360780 | G45: 6131.28
A46: 79年 1990 | B46: 65 | C46: 6611 | D46: =SUM(E46:F46) -> 39366389 | E46: 38486676 | F46: 879713 | G46: 6964.82
A47: 80年 1991 | B47: 68 | C47: 6524 | D47: =SUM(E47:F47) -> 47229976 | E47: 46173428 | F47: 1056548 | G47: 7842.2
... A76: 109年 2020 | B76: 199 | C76: 9473 | D76: =SUM(E76:F76) -> 215713472 | E76: 213255625 | F76: 2457847 | G76: 13732
A77: 110年 2021 | B77: 180 | C77: 9253 | D77: 255248095 | E77: 252487202 | F77: 2760893 | G77: 13701
A78: 111年 2022 | B78: 187 | C78: 8992 | D78: =SUM(E78:F78) -> 221198337 | E78: 220565802 | F78: 632535 | G78: 13732
A79: 112年 2023 | B79: 200 | C79: 10046 | D79: =SUM(E79:F79) -> 258001661 | E79: 258001661 | F79: 0 | G79: 14403
A80: 113年 2024 | B80: 174 | C80: 9413 | D80: =SUM(E80:F80) -> 245682312 | E80: 245682312 | F80: 0 | G80: 14206
A81: 114年 2025 | B81: 184 | C81: 9068 | D81: =SUM(E81:F81) -> 2.6422751e+08 | E81: 2.6422751e+08 | F81: 0 | G81: 14758

Sheet 職業勞工
A1: 開辦起勞工保險納保歷年資料 (續7)
A2: 職業勞工
D3: 中華民國39-114年 | G3: =總計!G3 -> 單位：個、人、新台幣元
A4: 年 別 | B4: 單位 (年底) | C4: 人數 (年底) | D4: 應計保險費 | G4: 平均投保薪資
D5: 合計 | E5: 普通事故保險費 | F5: 職業災害保險費
A6: 39年 1950 | B6: - | C6: - | D6: - | E6: - | F6: - | G6: -
A7: 40年 1951 | B7: 29 | C7: 4210 | D7: 51151.4 | E7: - | F7: - | G7: -
A8: 41年 1952 | B8: 48 | C8: 9195 | D8: 554926.6 | E8: - | F8: - | G8: -
A9: 42年 1953 | B9: 62 | C9: 12333 | D9: 808761.92 | E9: - | F9: - | G9: -
A10: 43年 1954 | B10: 82 | C10: 13657 | D10: 1081131.9 | E10: - | F10: - | G10: -
A11: 44年 1955 | B11: 85 | C11: 14258 | D11: 1302730.3 | E11: - | F11: - | G11: -
A12: 45年 1956 | B12: 87 | C12: 15989 | D12: 1621700.6 | E12: - | F12: - | G12: -
A13: 46年 1957 | B13: 80 | C13: 15366 | D13: 1769243.5 | E13: - | F13: - | G13: -
A14: 47年 1958 | B14: 81 | C14: 15718 | D14: 1783686.6 | E14: - | F14: - | G14: -
A15: 48年 1959 | B15: 83 | C15: 16146 | D15: 1869905.1 | E15: - | F15: - | G15: -
A16: 49年 1960 | B16: 86 | C16: 17255 | D16: 2607546.3 | E16: - | F16: - | G16: -
A17: 50年 1961 | B17: 85 | C17: 17379 | D17: 3090901.2 | E17: - | F17: - | G17: 369.74
A18: 51年 1962 | B18: 81 | C18: 17421 | D18: 3138472.8 | E18: - | F18: - | G18: 376.73
A19: 52年 1963 | B19: 78 | C19: 17061 | D19: 3164381.6 | E19: - | F19: - | G19: 382.37
A20: 53年 1964 | B20: 83 | C20: 19767 | D20: 3511962.4 | E20: - | F20: - | G20: 396.18
A21: 54年 1965 | B21: 88 | C21: 21328 | D21: 4149586.4 | E21: - | F21: - | G21: 420.15
A22: 55年 1966 | B22: 96 | C22: 23508 | D22: 4750675 | E22: - | F22: - | G22: 440.09
A23: 56年 1967 | B23: 103 | C23: 18456 | D23: 5202919.1 | E23: - | F23: - | G23: 475.39
A24: 57年 1968 | B24: 107 | C24: 19678 | D24: 4900046.6 | E24: - | F24: - | G24: 537.48
A25: 58年 1969 | B25: 113 | C25: 22124 | D25: 5526978.7 | E25: - | F25: - | G25: 547.89
A26: 59年 1970 | B26: 126 | C26: 23776 | D26: 13198912 | E26: - | F26: - | G26: 593.31
A27: 60年 1971 | B27: 134 | C27: 25421 | D27: 14271348 | E27: - | F27: - | G27: 606.03
A28: 61年 1972 | B28: 140 | C28: 28848 | D28: 16069914 | E28: - | F28: - | G28: 616.43
... A35: 68年 1979 | B35: 241 | C35: 214873 | D35: 449210728 | E35: - | F35: - | G35: 2406.96
A36: 69年 1980 | B36: 294 | C36: 261786 | D36: =SUM(E36:F36) -> 620895915 | E36: 548850360 | F36: 72045555 | G36: 2752.26
A37: 70年 1981 | B37: 350 | C37: 318937 | D37: =SUM(E37:F37) -> 947442667 | E37: 838174601 | F37: 109268066 | G37: 3469.32
A38: 71年 1982 | B38: 433 | C38: 395258 | D38: =SUM(E38:F38) -> 1249216371 | E38: 1107799062 | F38: 141417309 | G38: 3710
A39: 72年 1983 | B39: 514 | C39: 473863 | D39: =SUM(E39:F39) -> 1723823094 | E39: 1571424965 | F39: 152398129 | G39: 4311.1
A40: 73年 1984 | B40: 581 | C40: 579323 | D40: =SUM(E40:F40) -> 2884477876 | E40: 2634845011 | F40: 249632865 | G40: 6057.86
A41: 74年 1985 | B41: 742 | C41: 758889 | D41: =SUM(E41:F41) -> 4003598664 | E41: 3649674285 | F41: 353924379 | G41: 6582.05
A42: 75年 1986 | B42: 884 | C42: 943110 | D42: =SUM(E42:F42) -> 5195474846 | E42: 4731752299 | F42: 463722547 | G42: 6604
A43: 76年 1987 | B43: 1078 | C43: 1140159 | D43: =SUM(E43:F43) -> 6829553390 | E43: 6222728725 | F43: 606824665 | G43: 7121.52
A44: 77年 1988 | B44: 1540 | C44: 1443707 | D44: =SUM(E44:F44) -> 9333392392 | E44: 8494357680 | F44: 839034712 | G44: 7851.2
A45: 78年 1989 | B45: 1786 | C45: 1733169 | D45: =SUM(E45:F45) -> 13053653160 | E45: 11902635049 | F45: 1151018111 | G45: 8879.25
A46: 79年 1990 | B46: 1934 | C46: 1925717 | D46: =SUM(E46:F46) -> 18104092841 | E46: 16825968511 | F46: 1278124330 | G46: 10926.52
A47: 80年 1991 | B47: 2031 | C47: 2121290 | D47: =SUM(E47:F47) -> 22811032490 | E47: 21204242807 | F47: 1606789683 | G47: 12466.83
... A76: 109年 2020 | B76: 3953 | C76: 2068677 | D76: =SUM(E76:F76) -> 70938540610 | E76: 69159592261 | F76: 1778948349 | G76: 28239
A77: 110年 2021 | B77: 4000 | C77: 2119652 | D77: 74749115241 | E77: 72957428394 | F77: 1791686847 | G77: 28218
A78: 111年 2022 | B78: 4039 | C78: 2016983 | D78: =SUM(E78:F78) -> 75475975996 | E78: 74883194734 | F78: 592781262 | G78: 29127
A79: 112年 2023 | B79: 4050 | C79: 1940418 | D79: =SUM(E79:F79) -> 78271522295 | E79: 78271522295 | F79: 0 | G79: 29988
A80: 113年 2024 | B80: 4052 | C80: 1886552 | D80: =SUM(E80:F80) -> 77924941472 | E80: 77924941472 | F80: 0 | G80: 30827
A81: 114年 2025 | B81: 4046 | C81: 1793390 | D81: =SUM(E81:F81) -> 80795062156 | E81: 80795062156 | F81: 0 | G81: 31734

Sheet 漁會之甲類會員
A1: 開辦起勞工保險納保歷年資料 (續8)
A2: 漁會之甲類會員 (專業漁撈勞動者)
D3: 中華民國39-114年 | G3: =總計!G3 -> 單位：個、人、新台幣元
A4: 年 別 | B4: 單位 (年底) | C4: 人數 (年底) | D4: 應計保險費 | G4: 平均投保薪資
D5: 合計 | E5: 普通事故保險費 | F5: 職業災害保險費
A6: 39年 1950 | B6: - | C6: - | D6: - | E6: - | F6: - | G6: -
A7: 40年 1951 | B7: - | C7: - | D7: - | E7: - | F7: - | G7: -
A8: 41年 1952 | B8: - | C8: - | D8: - | E8: - | F8: - | G8: -
A9: 42年 1953 | B9: 80 | C9: 60354 | D9: 2157474.5 | E9: - | F9: - | G9: -
A10: 43年 1954 | B10: 80 | C10: 73892 | D10: 3901878.9 | E10: - | F10: - | G10: -
A11: 44年 1955 | B11: 79 | C11: 86054 | D11: 5015970.2 | E11: - | F11: - | G11: -
A12: 45年 1956 | B12: 79 | C12: 110452 | D12: 6627919.1 | E12: - | F12: - | G12: -
A13: 46年 1957 | B13: 77 | C13: 126208 | D13: 7602984.5 | E13: - | F13: - | G13: -
A14: 47年 1958 | B14: 75 | C14: 136248 | D14: 9302970.7 | E14: - | F14: - | G14: -
A15: 48年 1959 | B15: 77 | C15: 145978 | D15: 9926451.2 | E15: - | F15: - | G15: -
A16: 49年 1960 | B16: 77 | C16: 152408 | D16: 19098031 | E16: - | F16: - | G16: -
A17: 50年 1961 | B17: 77 | C17: 150091 | D17: 22985790 | E17: - | F17: - | G17: 315.22
A18: 51年 1962 | B18: 66 | C18: 143885 | D18: 22057307 | E18: - | F18: - | G18: 316.11
A19: 52年 1963 | B19: 66 | C19: 141512 | D19: 21497320 | E19: - | F19: - | G19: 315.99
A20: 53年 1964 | B20: 67 | C20: 134648 | D20: 21033032 | E20: - | F20: - | G20: 316.83
A21: 54年 1965 | B21: 68 | C21: 130793 | D21: 19962383 | E21: - | F21: - | G21: 316.7
A22: 55年 1966 | B22: 68 | C22: 134770 | D22: 20243107 | E22: - | F22: - | G22: 317.27
A23: 56年 1967 | B23: 68 | C23: 137891 | D23: 20616173 | E23: - | F23: - | G23: 314.34
A24: 57年 1968 | B24: 68 | C24: 140912 | D24: 21227263 | E24: - | F24: - | G24: 317.21
A25: 58年 1969 | B25: 68 | C25: 143199 | D25: 21724398 | E25: - | F25: - | G25: 318.22
A26: 59年 1970 | B26: 70 | C26: 141763 | D26: 98479628 | E26: - | F26: - | G26: 726.11
A27: 60年 1971 | B27: 70 | C27: 141947 | D27: 99692143 | E27: - | F27: - | G27: 729.32
A28: 61年 1972 | B28: 71 | C28: 141396 | D28: 100443787 | E28: - | F28: - | G28: 738.02
... A35: 68年 1979 | B35: 43 | C35: 145397 | D35: 236326368 | E35: - | F35: - | G35: 1725.24
A36: 69年 1980 | B36: 43 | C36: 150304 | D36: =SUM(E36:F36) -> 249543026 | E36: 214068779 | F36: 35474247 | G36: 1732.97
A37: 70年 1981 | B37: 42 | C37: 150671 | D37: =SUM(E37:F37) -> 253781657 | E37: 217704854 | F37: 36076803 | G37: 1733.29
A38: 71年 1982 | B38: 42 | C38: 160042 | D38: =SUM(E38:F38) -> 265408239 | E38: 227678645 | F38: 37729594 | G38: 1741
A39: 72年 1983 | B39: 42 | C39: 170616 | D39: =SUM(E39:F39) -> 318074668 | E39: 284542368 | F39: 33532300 | G39: 2049.59
A40: 73年 1984 | B40: 39 | C40: 182394 | D40: =SUM(E40:F40) -> 579002706 | E40: 519607822 | F40: 59394884 | G40: 3513.29
A41: 74年 1985 | B41: 39 | C41: 186502 | D41: =SUM(E41:F41) -> 616934993 | E41: 553643890 | F41: 63291103 | G41: 3516.82
A42: 75年 1986 | B42: 39 | C42: 192643 | D42: =SUM(E42:F42) -> 617553797 | E42: 551226763 | F42: 66327034 | G42: 3494
A43: 76年 1987 | B43: 39 | C43: 204188 | D43: =SUM(E43:F43) -> 655916051 | E43: 581171553 | F43: 74744498 | G43: 3500.8
A44: 77年 1988 | B44: 39 | C44: 167722 | D44: =SUM(E44:F44) -> 1188331878 | E44: 1052948238 | F44: 135383640 | G44: 6400.94
A45: 78年 1989 | B45: 39 | C45: 179017 | D45: =SUM(E45:F45) -> 1430519576 | E45: 1269127159 | F45: 161392417 | G45: 8810.32
A46: 79年 1990 | B46: 39 | C46: 183760 | D46: =SUM(E46:F46) -> 1673419508 | E46: 1506495340 | F46: 166924168 | G46: 9919.48
A47: 80年 1991 | B47: 39 | C47: 182597 | D47: =SUM(E47:F47) -> 1894493437 | E47: 1706560026 | F47: 187933411 | G47: 11187.36
... A76: 109年 2020 | B76: 39 | C76: 260481 | D76: =SUM(E76:F76) -> 9064448754 | E76: 8894766491 | F76: 169682263 | G76: 28410
A77: 110年 2021 | B77: 39 | C77: 257571 | D77: 9391263850 | E77: 9223731134 | F77: 167532716 | G77: 28604
A78: 111年 2022 | B78: 39 | C78: 248363 | D78: =SUM(E78:F78) -> 9372978808 | E78: 9315604845 | F78: 57373963 | G78: 29444
A79: 112年 2023 | B79: 39 | C79: 239877 | D79: =SUM(E79:F79) -> 9711892628 | E79: 9711892628 | F79: 0 | G79: 30245
A80: 113年 2024 | B80: 39 | C80: 232473 | D80: =SUM(E80:F80) -> 9657095329 | E80: 9657095329 | F80: 0 | G80: 31020
A81: 114年 2025 | B81: 39 | C81: 222776 | D81: =SUM(E81:F81) -> 9.9995277e+09 | E81: 9.9995277e+09 | F81: 0 | G81: 31874

Sheet 自願投保者
A1: 開辦起勞工保險納保歷年資料 (續9完)
A2: 自願投保者
D3: 中華民國39-114年 | G3: =總計!G3 -> 單位：個、人、新台幣元
A4: 年 別 | B4: 單位 (年底) | C4: 人數 (年底) | D4: 應計保險費 | G4: 平均投保薪資
D5: 合計 | E5: 普通事故保險費 | F5: 職業災害保險費
A6: 39年 1950 | B6: - | C6: - | D6: - | E6: - | F6: - | G6: -
A7: 40年 1951 | B7: - | C7: - | D7: - | E7: - | F7: - | G7: -
A8: 41年 1952 | B8: - | C8: - | D8: - | E8: - | F8: - | G8: -
A9: 42年 1953 | B9: - | C9: - | D9: - | E9: - | F9: - | G9: -
A10: 43年 1954 | B10: - | C10: - | D10: - | E10: - | F10: - | G10: -
A11: 44年 1955 | B11: - | C11: - | D11: - | E11: - | F11: - | G11: -
A12: 45年 1956 | B12: - | C12: - | D12: - | E12: - | F12: - | G12: -
A13: 46年 1957 | B13: - | C13: - | D13: - | E13: - | F13: - | G13: -
A14: 47年 1958 | B14: - | C14: - | D14: - | E14: - | F14: - | G14: -
A15: 48年 1959 | B15: - | C15: - | D15: - | E15: - | F15: - | G15: -
A16: 49年 1960 | B16: - | C16: - | D16: - | E16: - | F16: - | G16: -
A17: 50年 1961 | B17: - | C17: - | D17: - | E17: - | F17: - | G17: -
... A25: 58年 1969 | B25: - | C25: - | D25: - | E25: - | F25: - | G25: -
A26: 59年 1970 | B26: 73 | C26: 3513 | D26: 2862433.1 | E26: - | F26: - | G26: 1580.97
A27: 60年 1971 | B27: 153 | C27: 5656 | D27: 7944598.5 | E27: - | F27: - | G27: 1718.36
A28: 61年 1972 | B28: 187 | C28: 8526 | D28: 13991441 | E28: - | F28: - | G28: 1967.7
A29: 62年 1973 | B29: 219 | C29: 10414 | D29: 20640090 | E29: - | F29: - | G29: 2286.5
A30: 63年 1974 | B30: 266 | C30: 12322 | D30: 27808009 | E30: - | F30: - | G30: 2560.02
A31: 64年 1975 | B31: 323 | C31: 14774 | D31: 46820608 | E31: - | F31: - | G31: 3571.95
A32: 65年 1976 | B32: 364 | C32: 16976 | D32: 59448975 | E32: - | F32: - | G32: 3863.37
A33: 66年 1977 | B33: 458 | C33: 20774 | D33: 78473212 | E33: - | F33: - | G33: 4279.42
A34: 67年 1978 | B34: 656 | C34: 28659 | D34: 1.1138202e+08 | E34: - | F34: - | G34: 4605.73
A35: 68年 1979 | B35: 947 | C35: 39293 | D35: 159966719 | E35: - | F35: - | G35: 4929.79
A36: 69年 1980 | B36: 992 | C36: 34017 | D36: =SUM(E36:F36) -> 179832304 | E36: 166349238 | F36: 13483066 | G36: 6264.9
A37: 70年 1981 | B37: 1169 | C37: 25808 | D37: =SUM(E37:F37) -> 198727447 | E37: 183376720 | F37: 15350727 | G37: 7517.46
A38: 71年 1982 | B38: 1495 | C38: 30048 | D38: =SUM(E38:F38) -> 202459929 | E38: 186405679 | F38: 16054250 | G38: 7976
A39: 72年 1983 | B39: 3029 | C39: 35867 | D39: =SUM(E39:F39) -> 243463511 | E39: 229655595 | F39: 13807916 | G39: 8512.09
A40: 73年 1984 | B40: 5704 | C40: 49297 | D40: =SUM(E40:F40) -> 338984312 | E40: 323788875 | F40: 15195437 | G40: 8840.78
A41: 74年 1985 | B41: 10870 | C41: 74488 | D41: =SUM(E41:F41) -> 489628495 | E41: 470626063 | F41: 19002432 | G41: 9087.37
A42: 75年 1986 | B42: 15581 | C42: 98919 | D42: =SUM(E42:F42) -> 691908983 | E42: 661157911 | F42: 30751072 | G42: 8804
A43: 76年 1987 | B43: 21838 | C43: 125305 | D43: =SUM(E43:F43) -> 959227658 | E43: 909619101 | F43: 49608557 | G43: 8914.56
A44: 77年 1988 | B44: 8077 | C44: 91364 | D44: =SUM(E44:F44) -> 731374450 | E44: 702252518 | F44: 29121932 | G44: 10145.31
A45: 78年 1989 | B45: 9926 | C45: 106218 | D45: =SUM(E45:F45) -> 969850556 | E45: 933059676 | F45: 36790880 | G45: 11308.61
A46: 79年 1990 | B46: 11438 | C46: 119169 | D46: =SUM(E46:F46) -> 1209217177 | E46: 1180903285 | F46: 28313892 | G46: 12531.5
A47: 80年 1991 | B47: 13335 | C47: 134061 | D47: =SUM(E47:F47) -> 1516310452 | E47: 1480395853 | F47: 35914599 | G47: 14039.35
... A76: 109年 2020 | B76: 54315 | C76: 454063 | D76: =SUM(E76:F76) -> 17379914186 | E76: 17174574357 | F76: 205339829 | G76: 32850
A77: 110年 2021 | B77: 55333 | C77: 461906 | D77: 18701285815 | E77: 18489428205 | F77: 211857610 | G77: 33117
A78: 111年 2022 | B78: 54997 | C78: 450427 | D78: =SUM(E78:F78) -> 19140190905 | E78: 19066619240 | F78: 73571665 | G78: 33796
A79: 112年 2023 | B79: 55991 | C79: 462123 | D79: =SUM(E79:F79) -> 20853074899 | E79: 20853074899 | F79: 0 | G79: 34495
A80: 113年 2024 | B80: 56825 | C80: 472203 | D80: =SUM(E80:F80) -> 21849597706 | E80: 21849597706 | F80: 0 | G80: 35227
A81: 114年 2025 | B81: 57811 | C81: 480350 | D81: =SUM(E81:F81) -> 23823459966 | E81: 23823459966 | F81: 0 | G81: 35971
