Workbook

Sheet 總計
A1: 開辦起就業保險納保歷年資料
B3: 中華民國92-114年 | E3: 單位：個、人、新台幣元
A4: 年 別 | B4: 單位 (年底) | C4: 人數 (年底) | D4: 應計保險費 | E4: 平均投保薪資
A5: 92年 2003 | B5: ='產業勞工及交通、公用事業之員工'!B5+'公司、行號之員工'!B5+'新聞、文化、公益及合作事業之員工'!B5+'政府機關及公、私立學校之員工'!B5+受僱從事漁業生產之勞動者!B5+其他各業員工!B5 -> 379112 | C5: ='產業勞工及交通、公用事業之員工'!C5+'公司、行號之員工'!C5+'新聞、文化、公益及合作事業之員工'!C5+'政府機關及公、私立學校之員工'!C5+受僱從事漁業生產之勞動者!C5+其他各業員工!C5 -> 5024816 | D5: ='產業勞工及交通、公用事業之員工'!D5+'公司、行號之員工'!D5+'新聞、文化、公益及合作事業之員工'!D5+'政府機關及公、私立學校之員工'!D5+受僱從事漁業生產之勞動者!D5+其他各業員工!D5 -> 16260940259 | E5: 27455
A6: 93年 2004 | B6: ='產業勞工及交通、公用事業之員工'!B6+'公司、行號之員工'!B6+'新聞、文化、公益及合作事業之員工'!B6+'政府機關及公、私立學校之員工'!B6+受僱從事漁業生產之勞動者!B6+其他各業員工!B6 -> 394009 | C6: ='產業勞工及交通、公用事業之員工'!C6+'公司、行號之員工'!C6+'新聞、文化、公益及合作事業之員工'!C6+'政府機關及公、私立學校之員工'!C6+受僱從事漁業生產之勞動者!C6+其他各業員工!C6 -> 5242310 | D6: ='產業勞工及交通、公用事業之員工'!D6+'公司、行號之員工'!D6+'新聞、文化、公益及合作事業之員工'!D6+'政府機關及公、私立學校之員工'!D6+受僱從事漁業生產之勞動者!D6+其他各業員工!D6 -> 17082766222 | E6: 27592
A7: 94年 2005 | B7: ='產業勞工及交通、公用事業之員工'!B7+'公司、行號之員工'!B7+'新聞、文化、公益及合作事業之員工'!B7+'政府機關及公、私立學校之員工'!B7+受僱從事漁業生產之勞動者!B7+其他各業員工!B7 -> 418635 | C7: ='產業勞工及交通、公用事業之員工'!C7+'公司、行號之員工'!C7+'新聞、文化、公益及合作事業之員工'!C7+'政府機關及公、私立學校之員工'!C7+受僱從事漁業生產之勞動者!C7+其他各業員工!C7 -> 5369278 | D7: ='產業勞工及交通、公用事業之員工'!D7+'公司、行號之員工'!D7+'新聞、文化、公益及合作事業之員工'!D7+'政府機關及公、私立學校之員工'!D7+受僱從事漁業生產之勞動者!D7+其他各業員工!D7 -> 17814770267 | E7: 28063
A8: 95年 2006 | B8: ='產業勞工及交通、公用事業之員工'!B8+'公司、行號之員工'!B8+'新聞、文化、公益及合作事業之員工'!B8+'政府機關及公、私立學校之員工'!B8+受僱從事漁業生產之勞動者!B8+其他各業員工!B8 -> 427648 | C8: ='產業勞工及交通、公用事業之員工'!C8+'公司、行號之員工'!C8+'新聞、文化、公益及合作事業之員工'!C8+'政府機關及公、私立學校之員工'!C8+受僱從事漁業生產之勞動者!C8+其他各業員工!C8 -> 5447373 | D8: ='產業勞工及交通、公用事業之員工'!D8+'公司、行號之員工'!D8+'新聞、文化、公益及合作事業之員工'!D8+'政府機關及公、私立學校之員工'!D8+受僱從事漁業生產之勞動者!D8+其他各業員工!D8 -> 18658808848 | E8: 28705
A9: 96年 2007 | B9: ='產業勞工及交通、公用事業之員工'!B9+'公司、行號之員工'!B9+'新聞、文化、公益及合作事業之員工'!B9+'政府機關及公、私立學校之員工'!B9+受僱從事漁業生產之勞動者!B9+其他各業員工!B9 -> 429970 | C9: ='產業勞工及交通、公用事業之員工'!C9+'公司、行號之員工'!C9+'新聞、文化、公益及合作事業之員工'!C9+'政府機關及公、私立學校之員工'!C9+受僱從事漁業生產之勞動者!C9+其他各業員工!C9 -> 5507865 | D9: ='產業勞工及交通、公用事業之員工'!D9+'公司、行號之員工'!D9+'新聞、文化、公益及合作事業之員工'!D9+'政府機關及公、私立學校之員工'!D9+受僱從事漁業生產之勞動者!D9+其他各業員工!D9 -> 19281117817 | E9: 29281
A10: 97年 2008 | B10: ='產業勞工及交通、公用事業之員工'!B10+'公司、行號之員工'!B10+'新聞、文化、公益及合作事業之員工'!B10+'政府機關及公、私立學校之員工'!B10+受僱從事漁業生產之勞動者!B10+其他各業員工!B10 -> 429428 | C10: ='產業勞工及交通、公用事業之員工'!C10+'公司、行號之員工'!C10+'新聞、文化、公益及合作事業之員工'!C10+'政府機關及公、私立學校之員工'!C10+受僱從事漁業生產之勞動者!C10+其他各業員工!C10 -> 5420549 | D10: ='產業勞工及交通、公用事業之員工'!D10+'公司、行號之員工'!D10+'新聞、文化、公益及合作事業之員工'!D10+'政府機關及公、私立學校之員工'!D10+受僱從事漁業生產之勞動者!D10+其他各業員工!D10 -> 19679573224 | E10: 29639
A11: 98年 2009 | B11: ='產業勞工及交通、公用事業之員工'!B11+'公司、行號之員工'!B11+'新聞、文化、公益及合作事業之員工'!B11+'政府機關及公、私立學校之員工'!B11+受僱從事漁業生產之勞動者!B11+其他各業員工!B11 -> 436372 | C11: ='產業勞工及交通、公用事業之員工'!C11+'公司、行號之員工'!C11+'新聞、文化、公益及合作事業之員工'!C11+'政府機關及公、私立學校之員工'!C11+受僱從事漁業生產之勞動者!C11+其他各業員工!C11 -> 5584169 | D11: ='產業勞工及交通、公用事業之員工'!D11+'公司、行號之員工'!D11+'新聞、文化、公益及合作事業之員工'!D11+'政府機關及公、私立學校之員工'!D11+受僱從事漁業生產之勞動者!D11+其他各業員工!D11 -> 19466889450 | E11: 29539
A12: 99年 2010 | B12: ='產業勞工及交通、公用事業之員工'!B12+'公司、行號之員工'!B12+'新聞、文化、公益及合作事業之員工'!B12+'政府機關及公、私立學校之員工'!B12+受僱從事漁業生產之勞動者!B12+其他各業員工!B12 -> 447838 | C12: ='產業勞工及交通、公用事業之員工'!C12+'公司、行號之員工'!C12+'新聞、文化、公益及合作事業之員工'!C12+'政府機關及公、私立學校之員工'!C12+受僱從事漁業生產之勞動者!C12+其他各業員工!C12 -> 5880500 | D12: ='產業勞工及交通、公用事業之員工'!D12+'公司、行號之員工'!D12+'新聞、文化、公益及合作事業之員工'!D12+'政府機關及公、私立學校之員工'!D12+受僱從事漁業生產之勞動者!D12+其他各業員工!D12 -> 20475636112 | E12: 29520
A13: 100年 2011 | B13: ='產業勞工及交通、公用事業之員工'!B13+'公司、行號之員工'!B13+'新聞、文化、公益及合作事業之員工'!B13+'政府機關及公、私立學校之員工'!B13+受僱從事漁業生產之勞動者!B13+其他各業員工!B13 -> 460045 | C13: ='產業勞工及交通、公用事業之員工'!C13+'公司、行號之員工'!C13+'新聞、文化、公益及合作事業之員工'!C13+'政府機關及公、私立學校之員工'!C13+受僱從事漁業生產之勞動者!C13+其他各業員工!C13 -> 6118570 | D13: ='產業勞工及交通、公用事業之員工'!D13+'公司、行號之員工'!D13+'新聞、文化、公益及合作事業之員工'!D13+'政府機關及公、私立學校之員工'!D13+受僱從事漁業生產之勞動者!D13+其他各業員工!D13 -> 21637953225 | E13: 29873
A14: 101年 2012 | B14: ='產業勞工及交通、公用事業之員工'!B14+'公司、行號之員工'!B14+'新聞、文化、公益及合作事業之員工'!B14+'政府機關及公、私立學校之員工'!B14+受僱從事漁業生產之勞動者!B14+其他各業員工!B14 -> 464610 | C14: ='產業勞工及交通、公用事業之員工'!C14+'公司、行號之員工'!C14+'新聞、文化、公益及合作事業之員工'!C14+'政府機關及公、私立學校之員工'!C14+受僱從事漁業生產之勞動者!C14+其他各業員工!C14 -> 6224341 | D14: ='產業勞工及交通、公用事業之員工'!D14+'公司、行號之員工'!D14+'新聞、文化、公益及合作事業之員工'!D14+'政府機關及公、私立學校之員工'!D14+受僱從事漁業生產之勞動者!D14+其他各業員工!D14 -> 22615075262 | E14: 30350
A15: 102年 2013 | B15: ='產業勞工及交通、公用事業之員工'!B15+'公司、行號之員工'!B15+'新聞、文化、公益及合作事業之員工'!B15+'政府機關及公、私立學校之員工'!B15+受僱從事漁業生產之勞動者!B15+其他各業員工!B15 -> 471214 | C15: ='產業勞工及交通、公用事業之員工'!C15+'公司、行號之員工'!C15+'新聞、文化、公益及合作事業之員工'!C15+'政府機關及公、私立學校之員工'!C15+受僱從事漁業生產之勞動者!C15+其他各業員工!C15 -> 6310245 | D15: ='產業勞工及交通、公用事業之員工'!D15+'公司、行號之員工'!D15+'新聞、文化、公益及合作事業之員工'!D15+'政府機關及公、私立學校之員工'!D15+受僱從事漁業生產之勞動者!D15+其他各業員工!D15 -> 23209155417 | E15: 30767
A16: 103年 2014 | B16: ='產業勞工及交通、公用事業之員工'!B16+'公司、行號之員工'!B16+'新聞、文化、公益及合作事業之員工'!B16+'政府機關及公、私立學校之員工'!B16+受僱從事漁業生產之勞動者!B16+其他各業員工!B16 -> 480444 | C16: ='產業勞工及交通、公用事業之員工'!C16+'公司、行號之員工'!C16+'新聞、文化、公益及合作事業之員工'!C16+'政府機關及公、私立學校之員工'!C16+受僱從事漁業生產之勞動者!C16+其他各業員工!C16 -> 6437767 | D16: ='產業勞工及交通、公用事業之員工'!D16+'公司、行號之員工'!D16+'新聞、文化、公益及合作事業之員工'!D16+'政府機關及公、私立學校之員工'!D16+受僱從事漁業生產之勞動者!D16+其他各業員工!D16 -> 23945252846 | E16: 31121
... A25: 112年 2023 | B25: ='產業勞工及交通、公用事業之員工'!B25+'公司、行號之員工'!B25+'新聞、文化、公益及合作事業之員工'!B25+'政府機關及公、私立學校之員工'!B25+受僱從事漁業生產之勞動者!B25+其他各業員工!B25 -> 565833 | C25: ='產業勞工及交通、公用事業之員工'!C25+'公司、行號之員工'!C25+'新聞、文化、公益及合作事業之員工'!C25+'政府機關及公、私立學校之員工'!C25+受僱從事漁業生產之勞動者!C25+其他各業員工!C25 -> 7324239 | D25: ='產業勞工及交通、公用事業之員工'!D25+'公司、行號之員工'!D25+'新聞、文化、公益及合作事業之員工'!D25+'政府機關及公、私立學校之員工'!D25+受僱從事漁業生產之勞動者!D25+其他各業員工!D25 -> 31730865619 | E25: 35848
A26: 113年 2024 | B26: ='產業勞工及交通、公用事業之員工'!B26+'公司、行號之員工'!B26+'新聞、文化、公益及合作事業之員工'!B26+'政府機關及公、私立學校之員工'!B26+受僱從事漁業生產之勞動者!B26+其他各業員工!B26 -> 575921 | C26: ='產業勞工及交通、公用事業之員工'!C26+'公司、行號之員工'!C26+'新聞、文化、公益及合作事業之員工'!C26+'政府機關及公、私立學校之員工'!C26+受僱從事漁業生產之勞動者!C26+其他各業員工!C26 -> 7404921 | D26: ='產業勞工及交通、公用事業之員工'!D26+'公司、行號之員工'!D26+'新聞、文化、公益及合作事業之員工'!D26+'政府機關及公、私立學校之員工'!D26+受僱從事漁業生產之勞動者!D26+其他各業員工!D26+7159354 -> 32619861573 | E26: 36540
A27: 114年 2025 | B27: ='產業勞工及交通、公用事業之員工'!B27+'公司、行號之員工'!B27+'新聞、文化、公益及合作事業之員工'!B27+'政府機關及公、私立學校之員工'!B27+受僱從事漁業生產之勞動者!B27+其他各業員工!B27 -> 584596 | C27: ='產業勞工及交通、公用事業之員工'!C27+'公司、行號之員工'!C27+'新聞、文化、公益及合作事業之員工'!C27+'政府機關及公、私立學校之員工'!C27+受僱從事漁業生產之勞動者!C27+其他各業員工!C27 -> 7450861 | D27: ='產業勞工及交通、公用事業之員工'!D27+'公司、行號之員工'!D27+'新聞、文化、公益及合作事業之員工'!D27+'政府機關及公、私立學校之員工'!D27+受僱從事漁業生產之勞動者!D27+其他各業員工!D27+248756 -> 33557925336 | E27: 37221
A28: 註：1.依據「勞動部辦理一百十三年花蓮縣轄區內受○四○三震災影響投保單位保險費補貼要點」，自113年6月至114年2月應計保險費總計含政府補貼
A29: 投保單位應負擔保險費之半數及補貼保費沖補金額，113年及114年分別為7,159,354元及248,756元無細項分類，故細項加總容與總計不合。
A30: 2.本表投保單位及人數係指當年度12月計費開單之月底生效單位及人數。

Sheet 產業勞工及交通、公用事業之員工
A1: 開辦起就業保險納保歷年資料 (續1)
A2: 產業勞工及交通、公用事業之員工
B3: 中華民國92-114年 | E3: 單位：個、人、新台幣元
A4: 年 別 | B4: 單位 (年底) | C4: 人數 (年底) | D4: 應計保險費 | E4: 平均投保薪資
A5: 92年 2003 | B5: 109782 | C5: 2147508 | D5: 7205720450 | E5: 28208
A6: 93年 2004 | B6: 109743 | C6: 2200122 | D6: 7464314243 | E6: 28441
A7: 94年 2005 | B7: 113644 | C7: 2188485 | D7: 7611133206 | E7: 29124
A8: 95年 2006 | B8: 118116 | C8: 2243843 | D8: 7953972023 | E8: 29977
A9: 96年 2007 | B9: 119670 | C9: 2264871 | D9: 8247148770 | E9: 30454
A10: 97年 2008 | B10: 119313 | C10: 2180222 | D10: 8367239891 | E10: 30849
A11: 98年 2009 | B11: 119813 | C11: 2203030 | D11: 8023015241 | E11: 30785
A12: 99年 2010 | B12: 123110 | C12: 2354686 | D12: 8489017561 | E12: 30874
A13: 100年 2011 | B13: 127544 | C13: 2426588 | D13: 9020145072 | E13: 31251
A14: 101年 2012 | B14: 129462 | C14: 2451639 | D14: 9323237989 | E14: 31753
A15: 102年 2013 | B15: 132356 | C15: 2498151 | D15: 9538174304 | E15: 32167
A16: 103年 2014 | B16: 135677 | C16: 2549151 | D16: 9874329956 | E16: 32432
... A27: 114年 2025 | B27: 171209 | C27: 2816116 | D27: 13005411900 | E27: 38259

Sheet 公司、行號之員工
A1: 開辦起就業保險納保歷年資料 (續2)
A2: 公司、行號之員工
B3: 中華民國92-114年 | E3: 單位：個、人、新台幣元
A4: 年 別 | B4: 單位 (年底) | C4: 人數 (年底) | D4: 應計保險費 | E4: 平均投保薪資
A5: 92年 2003 | B5: 224094 | C5: 2208750 | D5: 6685815385 | E5: 25956
A6: 93年 2004 | B6: 236766 | C6: 2351449 | D6: 7161980307 | E6: 26072
A7: 94年 2005 | B7: 252620 | C7: 2452845 | D7: 7623170953 | E7: 26452
A8: 95年 2006 | B8: 255165 | C8: 2453389 | D8: 7985569701 | E8: 26982
A9: 96年 2007 | B9: 254695 | C9: 2478105 | D9: 8200682868 | E9: 27653
A10: 97年 2008 | B10: 253225 | C10: 2439877 | D10: 8389442217 | E10: 28007
A11: 98年 2009 | B11: 257107 | C11: 2512314 | D11: 8283754006 | E11: 27944
A12: 99年 2010 | B12: 263356 | C12: 2648781 | D12: 8721916889 | E12: 27857
A13: 100年 2011 | B13: 269373 | C13: 2781463 | D13: 9280737538 | E13: 28208
A14: 101年 2012 | B14: 271252 | C14: 2834734 | D14: 9788628036 | E14: 28690
A15: 102年 2013 | B15: 273655 | C15: 2858982 | D15: 10055400835 | E15: 29139
A16: 103年 2014 | B16: 278045 | C16: 2915388 | D16: 10351526180 | E16: 29589
... A27: 114年 2025 | B27: 329550 | C27: 3351056 | D27: 14706181050 | E27: 36237

Sheet 新聞、文化、公益及合作事業之員工
A1: 開辦起就業保險納保歷年資料 (續3)
A2: 新聞、文化、公益及合作事業之員工
B3: 中華民國92-114年 | E3: 單位：個、人、新台幣元
A4: 年 別 | B4: 單位 (年底) | C4: 人數 (年底) | D4: 應計保險費 | E4: 平均投保薪資
A5: 92年 2003 | B5: 8400 | C5: 192184 | D5: 721200760 | E5: 31731
A6: 93年 2004 | B6: 8935 | C6: 200991 | D6: 753332617 | E6: 31759
A7: 94年 2005 | B7: 9490 | C7: 209851 | D7: 788360608 | E7: 31847
A8: 95年 2006 | B8: 9725 | C8: 214606 | D8: 831716484 | E8: 32343
A9: 96年 2007 | B9: 9853 | C9: 215662 | D9: 858617862 | E9: 32890
A10: 97年 2008 | B10: 10036 | C10: 220519 | D10: 875086687 | E10: 33198
A11: 98年 2009 | B11: 10401 | C11: 234401 | D11: 917028187 | E11: 33138
A12: 99年 2010 | B12: 10665 | C12: 240814 | D12: 950582876 | E12: 33066
A13: 100年 2011 | B13: 10867 | C13: 249713 | D13: 983772833 | E13: 33184
A14: 101年 2012 | B14: 10997 | C14: 256925 | D14: 1026267151 | E14: 33582
A15: 102年 2013 | B15: 11271 | C15: 261564 | D15: 1063458080 | E15: 33928
A16: 103年 2014 | B16: 11528 | C16: 267926 | D16: 1094709141 | E16: 34183
... A27: 114年 2025 | B27: 17338 | C27: 383819 | D27: 1791508802 | E27: 38777

Sheet 政府機關及公、私立學校之員工
A1: 開辦起就業保險納保歷年資料 (續4)
A2: 政府機關及公、私立學校之員工
B3: 中華民國92-114年 | E3: 單位：個、人、新台幣元
A4: 年 別 | B4: 單位 (年底) | C4: 人數 (年底) | D4: 應計保險費 | E4: 平均投保薪資
A5: 92年 2003 | B5: 8518 | C5: 265138 | D5: 1010572632 | E5: 31820
A6: 93年 2004 | B6: 8473 | C6: 268318 | D6: 1030961846 | E6: 31971
A7: 94年 2005 | B7: 8435 | C7: 279647 | D7: 1082997442 | E7: 32586
A8: 95年 2006 | B8: 8438 | C8: 288248 | D8: 1128204912 | E8: 33259
A9: 96年 2007 | B9: 8439 | C9: 295868 | D9: 1177977413 | E9: 33626
A10: 97年 2008 | B10: 8462 | C10: 320219 | D10: 1221645081 | E10: 33757
A11: 98年 2009 | B11: 8484 | C11: 356613 | D11: 1367371083 | E11: 32675
A12: 99年 2010 | B12: 8405 | C12: 346923 | D12: 1389015066 | E12: 32568
A13: 100年 2011 | B13: 8473 | C13: 356474 | D13: 1375855691 | E13: 33200
A14: 101年 2012 | B14: 8453 | C14: 369991 | D14: 1441304582 | E14: 33648
A15: 102年 2013 | B15: 8379 | C15: 372869 | D15: 1475338917 | E15: 33830
A16: 103年 2014 | B16: 8325 | C16: 377751 | D16: 1501452560 | E16: 33953
... A27: 114年 2025 | B27: 8280 | C27: 462757 | D27: 2193857214 | E27: 38381

Sheet 受僱從事漁業生產之勞動者
A1: 開辦起就業保險納保歷年資料 (續5)
A2: 受僱從事漁業生產之勞動者
B3: 中華民國92-114年 | E3: 單位：個、人、新台幣元
A4: 年 別 | B4: 單位 (年底) | C4: 人數 (年底) | D4: 應計保險費 | E4: 平均投保薪資
A5: 92年 2003 | B5: 703 | C5: 2831 | D5: 10135404 | E5: 28389
A6: 93年 2004 | B6: 687 | C6: 2528 | D6: 9513442 | E6: 29457
A7: 94年 2005 | B7: 622 | C7: 2083 | D7: 8544666 | E7: 30881
A8: 95年 2006 | B8: 521 | C8: 1697 | D8: 7074072 | E8: 31866
A9: 96年 2007 | B9: 493 | C9: 1524 | D9: 6403122 | E9: 32863
A10: 97年 2008 | B10: 437 | C10: 1342 | D10: 5678555 | E10: 33352
A11: 98年 2009 | B11: 430 | C11: 1272 | D11: 5367690 | E11: 33583
A12: 99年 2010 | B12: 413 | C12: 1203 | D12: 5133061 | E12: 34207
A13: 100年 2011 | B13: 396 | C13: 1152 | D13: 4753480 | E13: 34314
A14: 101年 2012 | B14: 382 | C14: 1077 | D14: 4643023 | E14: 34647
A15: 102年 2013 | B15: 345 | C15: 921 | D15: 4168421 | E15: 34861
A16: 103年 2014 | B16: 308 | C16: 804 | D16: 3759993 | E16: 35066
... A27: 114年 2025 | B27: 213 | C27: 655 | D27: 2924247 | E27: 36118

Sheet 其他各業員工
A1: 開辦起就業保險納保歷年資料 (續6完)
A2: 其他各業員工
B3: 中華民國92-114年 | E3: 單位：個、人、新台幣元
A4: 年 別 | B4: 單位 (年底) | C4: 人數 (年底) | D4: 應計保險費 | E4: 平均投保薪資
A5: 92年 2003 | B5: 27615 | C5: 208405 | D5: 627495628 | E5: 25730
A6: 93年 2004 | B6: 29405 | C6: 218902 | D6: 662663767 | E6: 25817
A7: 94年 2005 | B7: 33824 | C7: 236367 | D7: 700563392 | E7: 25916
A8: 95年 2006 | B8: 35683 | C8: 245590 | D8: 752271656 | E8: 26055
A9: 96年 2007 | B9: 36820 | C9: 251835 | D9: 790287782 | E9: 26510
A10: 97年 2008 | B10: 37955 | C10: 258370 | D10: 820480793 | E10: 26888
A11: 98年 2009 | B11: 40137 | C11: 276539 | D11: 870353243 | E11: 26935
A12: 99年 2010 | B12: 41889 | C12: 288093 | D12: 919970659 | E12: 27016
A13: 100年 2011 | B13: 43392 | C13: 303180 | D13: 972688611 | E13: 27405
A14: 101年 2012 | B14: 44064 | C14: 309975 | D14: 1030994481 | E14: 27971
A15: 102年 2013 | B15: 45208 | C15: 317758 | D15: 1072614860 | E15: 28428
A16: 103年 2014 | B16: 46561 | C16: 326747 | D16: 1119475016 | E16: 28842
... A27: 114年 2025 | B27: 58006 | C27: 436458 | D27: 1857793367 | E27: 35474
