Workbook
Name \0: [1]稅捐!#REF!
Name \0: [2]稅捐!#REF!
Name \0: [2]稅捐!#REF!
Name \0: [2]稅捐!#REF!
Name \0: [2]稅捐!#REF!
Name \0: [2]稅捐!#REF!
Name \0: [2]稅捐!#REF!
Name \0: [2]稅捐!#REF!
Name \0: [2]稅捐!#REF!
Name \d: #REF!
Name \d: #REF!
Name _R: #REF!
Name _R: #REF!
Name _R: #REF!
Name a: #REF!
Name a: #REF!
Name a: #REF!
Name a: #REF!
Name a: #REF!
Name a: #REF!
Name a: #REF!
Name a: #REF!
Name a: #REF!
Name a: #REF!
Name aa: #REF!
Name aa: #REF!
Name aa: #REF!
Name aa: #REF!
Name aa: #REF!
Name aa: #REF!
Name aa: #REF!
Name aa: #REF!
Name aa: #REF!
Name aa: #REF!
Name aaaa: #REF!
Name abcd: #REF!
Name K: #REF!
Name K: #REF!
Name K: #REF!
Name Print_Area_MI: #REF!
Name Print_Area_MI: #REF!
Name S: #REF!
Name S: #REF!
Name S: #REF!
Name SALE_UNIT: #N/A
Name Sigma: #REF!
Name Sigma: #REF!
Name Sigma: #REF!
Name T: #REF!
Name T: #REF!
Name T: #REF!
Name 昌: #REF!
Name 昌: #REF!
Name 昌: #REF!
Name 原住民: #REF!
Name 原住民: #REF!
Name 原住民: #REF!
Name 原住民1: #REF!
Name 圖: #REF!
Name 圖: #REF!

Sheet 圖1
A1: 圖1
A2: 116年度固定資產建設改良擴充及資金來源
B19: 單位：新臺幣千元
B20: 建設改良擴充 | C20: 116年度預算 | D20: 資金來源 | E20: 116年度預算
B21: 不動產、廠房及設備 | C21: =SUM(C22:C24) -> 95267 | D21: 自有資金 | E21: =C21 -> 95267
B22: 機械及設備 | C22: 92052 | F22: =C22/$C$21 -> 0.96625274
B23: 交通及運輸設備 | C23: 3200 | F23: =C23/$C$21 -> 0.033589805
B24: 什項設備 | C24: 15 | F24: =C24/$C$21 -> 0.00015745221
B25: 合 計 | C25: =SUM(C22:C24) -> 95267 | D25: 合 計 | E25: =E21 -> 95267
B26: 註:自有資金95,267千元，係由中央政府責任準備支應。

Sheet 圖2
A1: 圖2
A2: 116年度收入、成本與費用及賸餘
A26: 單位：新臺幣千元
A27: 收 入 | B27: 116年度預算 | C27: 成本與費用及賸餘 | D27: 116年度預算
A28: 業務收入 | B28: =SUM(B29:B31) -> 158295442 | C28: 業務成本與費用 | D28: =SUM(D29:D31) -> 158746534
A29: 投融資業務收入 | B29: =收支餘絀預計表!D8 -> 28837476 | C29: 投融資業務成本 | D29: =收支餘絀預計表!D21 -> 701344 | E29: =B29/B34 -> 0.18165736 | F29: =D29/D34 -> 0.0044180114
A30: 保險收入 | B30: =收支餘絀預計表!D14 -> 64568282 | C30: 保險成本 | D30: =收支餘絀預計表!D24 -> 156647846 | E30: =B30/B34 -> 0.40673822 | F30: =D30/D34 -> 0.98677963
A31: 其他業務收入 | B31: =收支餘絀預計表!D17 -> 64889684 | C31: 業務費用 | D31: =收支餘絀預計表!D31 -> 1397344 | E31: =B31/B34 -> 0.40876284 | F31: =D31/D34 -> 0.0088023591
A32: 業務外收入 | B32: =收支餘絀預計表!D33 -> 451092 | C32: 本期賸餘 | D32: 0 | E32: =B32/B34 -> 0.0028415865
A34: 收入總額 | B34: =SUM(B29:B33) -> 158746534 | C34: 成本、費用及賸餘總額 | D34: =D28+D32 -> 158746534
A65: 年度 | B65: 97年度決算 | C65: 98年度決算 | D65: 99年度決算
A66: 項目 | E66: 100年度預算 | F66: 101年度預算
A67: 收入
A68: 業務收入 | B68: 50962006 | C68: 60199718 | D68: 66933126
A69: 收入合計 | B69: 50962006 | C69: 60199718 | D69: 66933126 | E69: 62574443 | F69: 65563410
A70: 支出 | E70: 62574443 | F70: 65563410
A71: 業務成本與費用 | B71: 50962006 | C71: 60199718 | D71: 66933126
A72: 支出合計 | B72: 50962006 | C72: 60199718 | D72: 66933126 | E72: 62574443 | F72: 65563410
E73: 62574443 | F73: 65563410

Sheet 圖3
A1: 圖3
A2: 最近5年收入與費用
A20: 單位：新臺幣千元
A21: 年度 | B21: 112年度決算 | C21: 113年度決算 | D21: 114年度決算 | E21: 115年度預算 | F21: 116年度預算
A22: 項目
A23: 收入
A24: 業務收入 | B24: 233515735 | C24: 262790979 | D24: 297048959 | E24: 137627629 | F24: =收支餘絀預計表!D7 -> 158295442
A25: 業務外收入 | B25: 204844 | C25: 271381 | D25: 358101 | E25: 431305 | F25: =收支餘絀預計表!D33 -> 451092
A26: 收入合計 | B26: =+B24+B25 -> 233720579 | C26: =+C24+C25 -> 263062360 | D26: =+D24+D25 -> 297407060 | E26: =+E24+E25 -> 138058934 | F26: =+F24+F25 -> 158746534
A27: 費用
A28: 業務成本與費用 | B28: 233720178 | C28: 263060757 | D28: 297405940 | E28: 138058934 | F28: =收支餘絀預計表!D20 -> 158746534
A29: 業務外費用 | B29: 401 | C29: 1603 | D29: 1120 | E29: 0 | F29: 0
A30: 費用合計 | B30: =+B28+B29 -> 233720579 | C30: =+C28+C29 -> 263062360 | D30: =+D28+D29 -> 297407060 | E30: =+E28+E29 -> 138058934 | F30: =+F28+F29 -> 158746534
A31: 本期賸餘 | B31: =+B26-B30 -> 0 | C31: =+C26-C30 -> 0 | D31: =+D26-D30 -> 0 | E31: =+E26-E30 -> 0 | F31: =+F26-F30 -> 0
A32: 註：1.112至114年度決算數為審定決算數；115年度預算為預算案數。以下各表同。
A33: 2.決算數細數之和與總數或略有出入，係四捨五入關係。
A37: 年度 | B37: 112 | C37: 113 | D37: 114 | E37: 115 | F37: 116

Sheet 業務計畫
A1: 業務計畫及預算說明

Sheet 預算主要表
A1: 預算主要表

Sheet 收支餘絀預計表
A1: 衛 生 福 利 部 主 管
A2: 國 民 年 金 保 險 基 金
A3: 收支餘絀預計表
A4: 中華民國116年度 單位：新臺幣千元
A5: 前年度決算數 | C5: 科 目 | D5: 本年度預算數 | F5: 上年度預算數 | H5: 比較增減(-)
A6: 金 額 | B6: ％ | D6: 金 額 | E6: ％ | F6: 金 額 | G6: ％ | H6: 金 額 | I6: ％
A7: 297048959 | B7: =ROUND(A7/$A$7*100,2) -> 100 | C7: 業務收入 | D7: =D8+D14+D17 -> 158295442 | E7: =ROUND(D7/$D$7*100,2) -> 100 | F7: =F14+F8+F17 -> 137627629 | G7: =ROUND(F7/$F$7*100,2) -> 100 | H7: =D7-F7 -> 20667813 | I7: =H7/F7*100 -> 15.017198
A8: 189981697 | B8: =A8/$A$7*100 -> 63.956358 | C8: 投融資業務收入 | D8: =SUM(D9:D13) -> 28837476 | E8: =ROUND(D8/$D$7*100,2) -> 18.22 | F8: =SUM(F9:F13) -> 24838461 | G8: =ROUND(F8/$F$7*100,2) -> 18.05 | H8: =D8-F8 -> 3999015 | I8: =H8/F8*100 -> 16.100092
A9: 160753203 | B9: =A9/$A$7*100 -> 54.116737 | C9: 投資業務收入 | D9: 27866854 | E9: =ROUND(D9/$D$7*100,2) -> 17.6 | F9: 24040109 | G9: =ROUND(F9/$F$7*100,2) -> 17.47 | H9: =D9-F9 -> 3826745 | I9: =H9/F9*100 -> 15.918168
A10: 207062 | B10: =A10/$A$7*100 -> 0.069706354 | C10: 融資業務收入 | D10: 5081 | E10: =ROUND(D10/$D$7*100,2) -> 0 | F10: 191194 | G10: =ROUND(F10/$F$7*100,2) -> 0.14 | H10: =D10-F10 -> -186113 | I10: =H10/F10*100 -> -97.34249
A11: 27581590 | B11: =A11/$A$7*100 -> 9.2852 | C11: 兌換賸餘 | D11: 0 | E11: 0 | F11: ='[3]收支餘絀表 (勞)'!F11+'[3]收支餘絀表 (基)'!F11 -> 0 | G11: 0 | H11: 0 | I11: 0
A12: 144565 | B12: =A12/$A$7*100 -> 0.048667062 | C12: 手續費收入 | D12: 0 | E12: 0 | F12: 0 | G12: 0 | H12: 0 | I12: 0
A13: 1295277 | B13: =A13/$A$7*100 -> 0.43604832 | C13: 存款利息收入 | D13: 965541 | E13: =ROUND(D13/$D$7*100,2) -> 0.61 | F13: 607158 | G13: =ROUND(F13/$F$7*100,2) -> 0.44 | H13: =D13-F13 -> 358383 | I13: =H13/F13*100 -> 59.026316
A14: 58240991 | B14: =A14/$A$7*100 -> 19.606529 | C14: 保險收入 | D14: =SUM(D15) -> 64568282 | E14: =ROUND(D14/$D$7*100,2) -> 40.79 | F14: =F15 -> 62157156 | G14: =ROUND(F14/$F$7*100,2) -> 45.16 | H14: =D14-F14 -> 2411126 | I14: =H14/F14*100 -> 3.8790803
A15: 58240991 | B15: =A15/$A$7*100 -> 19.606529 | C15: 保費收入 | D15: 64568282 | E15: =ROUND(D15/$D$7*100,2) -> 40.79 | F15: 62157156 | G15: =ROUND(F15/$F$7*100,2) -> 45.16 | H15: =D15-F15 -> 2411126 | I15: =H15/F15*100 -> 3.8790803
A16: 0 | B16: =A16/$A$7*100 -> 0 | C16: 收回安全準備 | E16: 0 | F16: 0 | G16: 0 | H16: 0 | I16: 0
A17: 48826271 | B17: =A17/$A$7*100 -> 16.437112 | C17: 其他業務收入 | D17: =SUM(D18:D19) -> 64889684 | E17: =ROUND(D17/$D$7*100,2) -> 40.99 | F17: =F18+F19 -> 50632012 | G17: =ROUND(F17/$F$7*100,2) -> 36.79 | H17: =+D17-F17 -> 14257672 | I17: =H17/F17*100 -> 28.159402
A18: 48309259 | B18: =A18/$A$7*100 -> 16.263063 | C18: 其他補助收入 | D18: 64437611 | E18: =ROUND(D18/$D$7*100,2) -> 40.71 | F18: 50206247 | G18: =ROUND(F18/$F$7*100,2) -> 36.48 | H18: =D18-F18 -> 14231364 | I18: =H18/F18*100 -> 28.345803
A19: 517011 | B19: =A19/$A$7*100 -> 0.17404909 | C19: 雜項業務收入 | D19: 452073 | E19: =ROUND(D19/$D$7*100,2) -> 0.29 | F19: 425765 | G19: =ROUND(F19/$F$7*100,2) -> 0.31 | H19: =D19-F19 -> 26308 | I19: =H19/F19*100 -> 6.1789955
A20: 297405940 | B20: =A20/$A$7*100 -> 100.12018 | C20: 業務成本與費用 | D20: =D21+D24+D28+D30 -> 158746534 | E20: =ROUND(D20/$D$7*100,2) -> 100.28 | F20: =F24+F21+F28+F30 -> 138058934 | G20: =ROUND(F20/$F$7*100,2) -> 100.31 | H20: =D20-F20 -> 20687600 | I20: =H20/F20*100 -> 14.984615
A21: 102937577 | B21: =A21/$A$7*100 -> 34.653404 | C21: 投融資業務成本 | D21: =SUM(D22:D23) -> 701344 | E21: =ROUND(D21/$D$7*100,2) -> 0.44 | F21: =F22 -> 628857 | G21: =ROUND(F21/$F$7*100,2) -> 0.46 | H21: =D21-F21 -> 72487 | I21: =H21/F21*100 -> 11.526786
A22: 63888362 | B22: =A22/$A$7*100 -> 21.507688 | C22: 投資業務成本 | D22: 701344 | E22: =ROUND(D22/$D$7*100,2) -> 0.44 | F22: 628857 | G22: =ROUND(F22/$F$7*100,2) -> 0.46 | H22: =D22-F22 -> 72487 | I22: =H22/F22*100 -> 11.526786
A23: 39049215 | B23: =A23/$A$7*100 -> 13.145717 | C23: 兌換短絀 | D23: 0 | E23: 0 | F23: 0 | G23: 0 | H23: 0 | I23: 0
A24: 193372089 | B24: =A24/$A$7*100 -> 65.097716 | C24: 保險成本 | D24: =SUM(D25:D27) -> 156647846 | E24: =ROUND(D24/$D$7*100,2) -> 98.96 | F24: =SUM(F25:F27) -> 136082237 | G24: =ROUND(F24/$F$7*100,2) -> 98.88 | H24: =D24-F24 -> 20565609 | I24: =H24/F24*100 -> 15.112633
A25: 81971079 | B25: =A25/$A$7*100 -> 27.595141 | C25: 保險給付 | D25: 103844190 | E25: =ROUND(D25/$D$7*100,2) -> 65.6 | F25: 87848639 | G25: =ROUND(F25/$F$7*100,2) -> 63.83 | H25: =D25-F25 -> 15995551 | I25: =H25/F25*100 -> 18.208081
A26: 98385660 | B26: =A26/$A$7*100 -> 33.121025 | C26: 提存安全準備 | D26: 40065820 | E26: =ROUND(D26/$D$7*100,2) -> 25.31 | F26: 36170425 | G26: =ROUND(F26/$F$7*100,2) -> 26.28 | H26: =D26-F26 -> 3895395 | I26: =H26/F26*100 -> 10.769558
A27: 13015350 | B27: =A27/$A$7*100 -> 4.3815505 | C27: 呆帳 | D27: 12737836 | E27: =ROUND(D27/$D$7*100,2) -> 8.05 | F27: 12063173 | G27: =ROUND(F27/$F$7*100,2) -> 8.77 | H27: =D27-F27 -> 674663 | I27: =H27/F27*100 -> 5.5927491
A28: 0 | B28: =A28/$A$7*100 -> 0 | C28: 其他業務成本 | D28: =SUM(D29) -> 0 | E28: - | F28: =F29 -> 0 | G28: =ROUND(F28/$D$7*100,2) -> 0 | H28: =D28-F28 -> 0 | I28: =H28/F28*100 -> #DIV/0!
A29: 0 | B29: =A29/$A$7*100 -> 0 | C29: 雜項業務成本 | D29: ='[4]收支餘絀表 (勞)'!D28+'[4]收支餘絀表 (基)'!D28 -> 0 | E29: - | F29: 0 | G29: =ROUND(F29/$D$7*100,2) -> 0 | H29: =D29-F29 -> 0 | I29: =H29/F29*100 -> #DIV/0!
A30: 1096274 | B30: =A30/$A$7*100 -> 0.36905499 | C30: 業務費用 | D30: =SUM(D31) -> 1397344 | E30: =ROUND(D30/$D$7*100,2) -> 0.88 | F30: =F31 -> 1347840 | G30: =ROUND(F30/$F$7*100,2) -> 0.98 | H30: =+D30-F30 -> 49504 | I30: =H30/F30*100 -> 3.6728395
A31: 1096274 | B31: =A31/$A$7*100 -> 0.36905499 | C31: 業務費用 | D31: 1397344 | E31: =ROUND(D31/$D$7*100,2) -> 0.88 | F31: 1347840 | G31: =ROUND(F31/$F$7*100,2) -> 0.98 | H31: =D31-F31 -> 49504 | I31: =H31/F31*100 -> 3.6728395
A32: -356981 | B32: =A32/$A$7*100 -> -0.12017581 | C32: 業務賸餘(短絀) | D32: =D7-D20 -> -451092 | E32: =ROUND(D32/$D$7*100,2) -> -0.28 | F32: =F7-F20 -> -431305 | G32: =ROUND(F32/$F$7*100,2) -> -0.31 | H32: =D32-F32 -> -19787 | I32: =H32/F32*100 -> 4.5877048
A33: 358101 | B33: =A33/$A$7*100 -> 0.12055285 | C33: 業務外收入 | D33: =D34+D36 -> 451092 | E33: =ROUND(D33/$D$7*100,2) -> 0.28 | F33: =F34+F36 -> 431305 | G33: =ROUND(F33/$F$7*100,2) -> 0.31 | H33: =D33-F33 -> 19787 | I33: =H33/F33*100 -> 4.5877048
A34: 4 | B34: =ROUND(A34/$A$7*100,2) -> 0 | C34: 財務收入 | D34: =SUM(D35) -> 0 | E34: - | F34: 0 | G34: - | H34: =D34-F34 -> 0 | I34: -
A35: 4 | B35: =ROUND(A35/$A$7*100,2) -> 0 | C35: 利息收入 | D35: 0 | E35: - | F35: 0 | G35: - | H35: =D35-F35 -> 0 | I35: -
A36: 358098 | B36: =A36/$A$7*100 -> 0.12055184 | C36: 其他業務外收入 | D36: =SUM(D37:D40) -> 451092 | E36: =ROUND(D36/$D$7*100,2) -> 0.28 | F36: =SUM(F38:F40) -> 431305 | G36: =ROUND(F36/$F$7*100,2) -> 0.31 | H36: =D36-F36 -> 19787 | I36: =H36/F36*100 -> 4.5877048
A37: 90 | B37: =ROUND(A37/$A$7*100,2) -> 0 | C37: 財產交易賸餘 | D37: 0 | E37: - | F37: 0 | G37: - | H37: =D37-F37 -> 0 | I37: -
A38: 1270 | B38: =ROUND(A38/$A$7*100,2) -> 0 | C38: 違規罰款收入 | D38: 327 | E38: =ROUND(D38/$D$7*100,2) -> 0 | F38: 327 | G38: =ROUND(F38/$F$7*100,2) -> 0 | H38: =D38-F38 -> 0 | I38: -
A39: 331588 | B39: =A39/$A$7*100 -> 0.11162739 | C39: 收回呆帳 | D39: 448992 | E39: =ROUND(D39/$D$7*100,2) -> 0.28 | F39: 429010 | G39: =ROUND(F39/$F$7*100,2) -> 0.31 | H39: =D39-F39 -> 19982 | I39: =H39/F39*100 -> 4.6577003
A40: 25149 | B40: =ROUND(A40/$A$7*100,2) -> 0.01 | C40: 雜項收入 | D40: 1773 | E40: =ROUND(D40/$D$7*100,2) -> 0 | F40: 1968 | G40: =ROUND(F40/$F$7*100,2) -> 0 | H40: =D40-F40 -> -195 | I40: =H40/F40*100 -> -9.9085366
...

Sheet 收支餘絀預計表說明
A1: 衛 生 福 利 部 主 管
A2: 國 民 年 金 保 險 基 金
A3: 收支餘絀預計表說明
A4: 中華民國116年度
A6: 一、 | B6: 本年度業務收入158,295,442千元：
B7: （一） | C7: 投融資業務收入28,837,476千元，係本基金投資運用收益、存款利息收入及融資業務收入。
B8: （二） | C8: 保險收入64,568,282千元，係保費收入。
B9: （三） | C9: 其他業務收入64,889,684千元，包括中央主管機關應負擔之其他補助收入64,437,611千元，及依國民年金法第14條規定計收之遲繳保費利息452,073千元。
A10: 二、 | B10: 本年度業務成本與費用158,746,534千元：
B11: （一） | C11: 投融資業務成本701,344千元，係本基金投資運用之委託經營經理費、國外投資保管費及票券帳戶維護費等。
B12: （二） | C12: 保險成本156,647,846千元，包括保險給付103,844,190千元、提存安全準備40,065,820千元及呆帳12,737,836千元。
B13: （三） | C13: 其他業務成本83,730千元，係中央政府遲延繳納保險費產生之利息。
B14: （三） | C14: 業務費用1,397,344千元，係辦理國民年金保險所需之人事及行政管理經費。
A15: 三、 | B15: 本年度業務外收入451,092千元，包括依國民年金法第50條規定辦理之罰鍰收入327千元、依國民年金法第17條規定辦理之呆帳收回448,992千元及溢收保費屆滿4年轉雜項收入1,773千元。
A16: 四、 | B16: 本年度業務總收支相抵後，賸餘無列數。

Sheet 餘絀撥補預計表
A1: 衛 生 福 利 部 主 管
A2: 國 民 年 金 保 險 基 金
A3: 餘絀撥補預計表
A4: 中華民國116年度 單位：新臺幣千元
A5: 上年度預算數 | C5: 項目 | D5: 本年度預算數 | F5: 說 明
A6: 金 額 | B6: ％ | D6: 金 額 | E6: ％
A7: - | B7: - | C7: 賸餘之部 | D7: - | E7: -
A8: - | B8: - | C8: 本期賸餘 | D8: - | E8: -
A9: - | B9: - | C9: 未分配賸餘 | D9: - | E9: -

Sheet 現金流量預計表 (90)
A1: 衛 生 福 利 部 主 管
A2: 國 民 年 金 保 險 基 金
A3: 現金流量預計表
A4: 中華民國116年度 單位：新臺幣千元
A5: 項目 | B5: 預算數 | C5: 說 明
A6: 業務活動之現金流量
A7: 本期賸餘（短絀） | B7: 0
A8: 利息股利之調整 | B8: -18051173 | C8: 1. | D8: 票券及債券利息收入、融資業務收入、存款利息收入及遲繳保費利息等6,954,190千元。
C9: 2. | D9: 現金股利收入11,096,983千元。
A10: 未計利息股利之本期賸餘（短絀） | B10: =B7+B8 -> -18051173
A11: 調整項目 | B11: 3923253 | C11: 1. | D11: 提存呆帳12,737,827千元。
C12: 2. | D12: 提存安全準備40,065,820千元。
C13: 3. | D13: 責任準備提列呆帳(年金差額)9千元、提列折舊98,551千元及攤銷無形資產56,084千元，爰同額增加其他補助收入154,644千元。
C14: 4. | D14: 流動資產淨增49,063,419千元。
C15: 5. | D15: 流動負債淨增183,025千元。
A16: 未計利息股利之現金流入（流出） | B16: =B10+B11 -> -14127920
A17: 收取利息 | B17: 450709 | C17: 遲繳保費利息淨收現450,709千元。
A18: 業務活動之淨現金流入（流出） | B18: =SUM(B16:B17) -> -13677211
A19: 投資活動之現金流量
A20: 減少流動金融資產及短期貸墊款 | B20: 1704529 | C20: 減少短期貸款1,704,529千元。
A21: 減少投資、長期應收款、貸墊款及準備金 | C21: 減少投資-非流動金融資產1,244,160千元。
A22: 收取利息 | B22: 6440712 | C22: 票券及債券利息收入、融資業務收入、存款利息收入等淨收現6,440,712千元。
A23: 收取股利 | B23: 11096983 | C23: 現金股利收入11,096,983千元。
A24: 增加流動金融資產及短期貸墊款 | B24: -1368636 | C24: 增加流動金融資產1,368,636千元。
A25: 增加投資、長期應收款、貸墊款及準備金 | B25: -4911916 | C25: 增加投資-非流動金融資產4,911,916千元。
A26: 增加不動產、廠房及設備、礦產資源 | B26: -95267 | C26: 增加不動產、廠房及設備95,267千元。
A27: 增加無形資產及其他資產 | B27: -69017 | C27: 增加無形資產69,017千元。
A28: 投資活動之淨現金流入（流出） | B28: =B22+B23+B24+B25+B26+B27+B20+B21 -> 12797388
A29: 籌資活動之現金流量
A30: 增加短期債務、流動金融負債及其他負債 | B30: 87961572 | C30: 增加其他負債87,961,572千元，主要係中央政府責任準備之公益彩券盈餘等收入。
A31: 增加基金、公積及填補短絀 | C31: 增加公積205,240千元，主要係中央政府責任準備購置之不動產、廠房及設備、無形資產。
A32: 其他籌資活動之現金流入 | B32: 21586879 | C32: 增加應付代收款21,586,879千元，主要係代收老年及身心障礙基本保證年金、原住民給付。
A33: 減少短期債務、流動金融負債及其他負債 | B33: -83363191 | C33: 減少其他負債83,363,191千元，主要係中央政府責任準備應負擔之保險費、年金差額、人事及行政管理經費等支出。
A34: 其他籌資活動之現金流出 | B34: -21586879 | C34: 減少應付代收款21,586,879千元，主要係代付老年及身心障礙基本保證年金、原住民給付等。
A35: 籌資活動之淨現金流入（流出） | B35: =B30+B31+B32+B34+B33 -> 4598381
A36: 現金及約當現金之淨增（淨減） | B36: =B18+B28+B35 -> 3718558
A37: 期初現金及約當現金 | B37: 37417486
A38: 期末現金及約當現金 | B38: =B36+B37 -> 41136044
A39: 補充說明：不影響現金流量之籌資活動係增加資本公積9,649千元，包括增加購置不動產、廠房及設備暨
A40: 補充說明：無形資產164,284千元，及折減提列折舊、攤銷費用154,635千元。

Sheet 預算明細表
A1: 預算明細表

Sheet 投融資業務收入
A1: 衛 生 福 利 部 主 管
A2: 國 民 年 金 保 險 基 金
A3: 投融資業務收入明細表
A4: 中華民國116年度 單位：新臺幣千元
A5: 科目及業務項目 | B5: 單位 | C5: 預 算 數 | F5: 說明
C6: 數 量 (業務量) | D6: 利(費)率 | E6: 金 額
A8: 投融資業務收入 | B8: 年 | C8: =C17+C9+C18 -> 744263000 | E8: =E9+E17+E18 -> 28837476 | F8: 本科目全數由勞動部勞動基金運用局辦理。
A9: 投資業務收入 | B9: 年 | C9: =C10+C13+C14 -> 678768000 | E9: =E10+E13+E14 -> 27866854
A10: 權益證券 | B10: 年 | C10: =SUM(C11:C12) -> 454001000 | E10: =SUM(E11:E12) -> 22335359
A11: 國內投資 | B11: 年 | C11: 193508000 | D11: 0.049 | E11: 9481892 | F11: 現金股利收入4,934,454千元，買賣利益4,547,438千元。
A12: 國外投資 | B12: 年 | C12: 260493000 | D12: 0.0493 | E12: 12853467 | F12: 現金股利收入6,162,529千元，買賣利益6,690,938千元。
A13: 票券 | B13: 年 | C13: 10420000 | D13: 0.0125 | E13: 130250 | F13: 投資短期票券等利息收入。
A14: 債務證券 | B14: 年 | C14: =SUM(C15:C16) -> 214347000 | E14: =SUM(E15:E16) -> 5401245
A15: 國內投資 | B15: 年 | C15: 56564000 | D15: 0.0185 | E15: 1046434 | F15: 投資國內債務證券等利息收入。
A16: 國外投資 | B16: 年 | C16: 157783000 | D16: 0.0276 | E16: 4354811 | F16: 投資國外債務證券等利息收入。
A17: 融資業務收入 | B17: 年 | C17: 290675 | D17: 0.01748 | E17: 5081 | F17: 短期週轉金之利息收入。
A18: 存款利息收入 | B18: 年 | C18: =SUM(C19:C20) -> 65204325 | E18: =SUM(E19:E20) -> 965541 | F18: 國內及國外存款等利息收入。
A19: 國內 | B19: 年 | C19: 51807325 | D19: 0.0115 | E19: 595784
A20: 國外 | B20: 年 | C20: 13397000 | D20: 0.0276 | E20: 369757

Sheet 保險收入明細表 
A1: 衛 生 福 利 部 主 管
A2: 國 民 年 金 保 險 基 金
A3: 保險收入明細表
A4: 中華民國116年度 單位：新臺幣千元
A5: 科目及業務項目 | B5: 預算數 | C5: 說明
A8: 保險收入 | B8: =B9+B14 -> 64568282
A9: 保費收入 | B9: =SUM(B10:B12) -> 64568282 | C9: 預估116年被保險人數約288萬人，月投保金額21,103元，保險費率11%。
A10: 中央政府應負擔數 | B10: 19220631
A11: 地方政府應負擔數 | B11: 3169847
A12: 被保險人應負擔數 | B12: 42177804
A14: 收回責任準備 | B14: 0 | D14: 依國民年金法第47條規定，中央主管機關應補助之保險費及應負擔之款項，除第36條規定之基本保證年金應由中央主管機關編列預算支應外，餘由供國民年金用之公益彩券盈餘支應，若有結餘時，應作為以後年度中央政府責任準備。 本年度預估公益彩券盈餘分配收入 千元，尚不足支應中央政府應負擔之保險費 千元、年金差額 千元及行政管理經費 千元，計 千元，不足數 千元，除中央政府撥補 千元外，並沖回以前年度責任準備 千元（其中認列收回責任準備 千元），另 千元認列應收保費。

Sheet 其他業務收入明細表
A1: 衛 生 福 利 部 主 管
A2: 國 民 年 金 保 險 基 金
A3: 其他業務收入明細表
A4: 中華民國116年度 單位：新臺幣千元
A5: 科目及業務項目 | B5: 預算數 | C5: 說明
A8: 其他業務收入 | B8: =SUM(B9:B13) -> 64889684
A9: 其他補助收入 | B9: 64437611 | C9: 中央主管機關應負擔經費中，保險給付之年金差額63,040,258千元、溢領保險給付年金差額產生之呆帳9千元，以及業務費用1,397,344千元，共計64,437,611千元，由中央政府責任準備支應。
A11: 雜項業務收入 | B11: 452073 | C11: 依國民年金法第14條規定向被保險人及中央政府計收之遲繳保費利息，分別為245,043千元及207,030千元。

Sheet 業務外收入明細表
A1: 衛 生 福 利 部 主 管
A2: 國 民 年 金 保 險 基 金
A3: 業務外收入明細表
A4: 中華民國116年度 單位：新臺幣千元
A5: 科目及業務項目 | B5: 預算數 | C5: 說明
A8: 業務外收入 | B8: =B10 -> 451092
A10: 其他業務外收入 | B10: =B11+B13+B15 -> 451092
A11: 違規罰款收入 | B11: 327 | C11: 依國民年金法第50條規定辦理之罰鍰收入。
A13: 收回呆帳 | B13: 448992 | C13: 依國民年金法第17條規定辦理之呆帳收回。
A15: 雜項收入 | B15: 1773 | C15: 溢收保費屆滿4年轉雜項收入。

Sheet 投融資業務成本明細表
A1: 衛 生 福 利 部 主 管
A2: 國 民 年 金 保 險 基 金
A3: 投融資業務成本明細表
A4: 中華民國116年度 單位：新臺幣千元
A5: 前年度決算數 | B5: 上年度預算數 | C5: 科目及業務計畫項目 | D5: 本年度預算數
A6: =A15+A7 -> 102937577 | B6: =B15+B7 -> 628857 | C6: 投融資業務成本 | D6: =D15+D7 -> 701344
A7: =A8+A11+A13 -> 63888362 | B7: =B8+B13 -> 628857 | C7: 投資業務成本 | D7: =D8+D13 -> 701344
A8: =SUM(A9:A10) -> 581454 | B8: 628857 | C8: 服務費用 | D8: =SUM(D9:D10) -> 701344
A9: 579115 | B9: 625443 | C9: 一般服務費 | D9: 697047
A10: 2339 | B10: 3414 | C10: 專業服務費 | D10: 4297
A11: =SUM(A12) -> 32671 | B11: - | C11: 租金與利息 | D11: =+D12 -> 0
A12: 32671 | B12: - | C12: 利息 | D12: 0
A13: =A14 -> 63274237 | B13: =B14 -> 0 | C13: 短絀、賠償與保險給付 | D13: =+D14 -> 0
A14: 63274237 | B14: 0 | C14: 各項短絀 | D14: 0
A15: =A16 -> 39049215 | B15: =B16 -> 0 | C15: 兌換短絀 | D15: 0
A16: =A17 -> 39049215 | B16: =B17 -> 0 | C16: 短絀、賠償與保險給付 | D16: 0
A17: 39049215 | B17: 0 | C17: 各項短絀 | D17: 0

Sheet 投融資業務成本說明
A1: 衛 生 福 利 部 主 管
A2: 國 民 年 金 保 險 基 金
A3: 投融資業務成本說明
A4: 中華民國116年度
A5: 科目 | C5: 說 明
A6: 投融資業務成本 | C6: 本科目全數由勞動部勞動基金運用局辦理。
B7: 投資業務成本 | C7: 主要係國民年金保險基金投資運用之委託經營經理費、國外投資保管費及票券帳戶維護費等，計701,344千元。其中委託調查研究費編列3,647千元，係依據國民年金保險基金委託經營辦法第5條規定，委託專業投資顧問公司協助辦理國外委託經營受託機構之遴選、績效評定及考核管理，包括： 1. 國外委託監管顧問案2,697千元。 2. 國外委託遴選顧問案950千元。

Sheet 保險成本明細表
A1: 衛 生 福 利 部 主 管
A2: 國 民 年 金 保 險 基 金
A3: 保險成本明細表
A4: 中華民國116年度 單位：新臺幣千元
A5: 前年度決算數 | B5: 上年度預算數 | C5: 科目及業務計畫項目 | D5: 本年度預算數
A6: =+A7+A11+A15 -> 193372089 | B6: =+B7+B11+B15 -> 136082237 | C6: 保險成本 | D6: =+D7+D11+D15 -> 156647846
A7: =A8 -> 81971079 | B7: =B8 -> 87848639 | C7: 保險給付 | D7: =D8 -> 103844190
A8: =A9 -> 81971079 | B8: =B9 -> 87848639 | C8: 短絀、賠償與保險給付 | D8: =D9 -> 103844190
A9: 81971079 | B9: 87848639 | C9: 保險給付 | D9: 103844190
A11: =A12 -> 98385660 | B11: =B12 -> 36170425 | C11: 提存安全準備 | D11: =D12 -> 40065820
A12: =A13 -> 98385660 | B12: =B13 -> 36170425 | C12: 短絀、賠償與保險給付 | D12: =D13 -> 40065820
A13: 98385660 | B13: 36170425 | C13: 提存 | D13: 40065820
A15: =A16 -> 13015350 | B15: =B16 -> 12063173 | C15: 呆帳 | D15: =D16 -> 12737836
A16: =A17 -> 13015350 | B16: =B17 -> 12063173 | C16: 短絀、賠償與保險給付 | D16: =D17 -> 12737836
A17: 13015350 | B17: 12063173 | C17: 各項短絀 | D17: 12737836
A18: 0 | B18: 0 | C18: 其他準備提存 | D18: 22859941

Sheet 保險成本說明
A1: 衛 生 福 利 部 主 管
A2: 國 民 年 金 保 險 基 金
A3: 保險成本說明
A4: 中華民國116年度
A5: 科目 | B5: 說 明
A6: 保險成本
A7: 保險給付 | B7: 預計103,844,190千元，說明如下：
B8: 1.保險支出： | C8: 係老年年金給付、生育給付、身心障礙年金給付、喪葬給付及遺屬年金給付，計40,803,769千元。
B9: 2.年金差額： | C9: 係老年年金給付差額、身心障礙年金給付差額及遺屬年金給付差額，計63,040,258千元。
B10: 3.複檢費用： | C10: 係身心障礙年金及身心障礙基本保證年金之複檢費用，計163千元。
A12: 提存責任準備 | B12: 本項係以其他補助收入26,594,377千元支應年金差額17,159,158千元及業務費用1,107,490千元，結餘8,327,729千元，悉數提存責任準備。
A14: 提存安全準備 | B14: 依據國民年金法第49條規定，本保險之財務，由政府負最後支付責任，為維持本基金之財源籌措，爰參採現有全民健康保險制度之運作，就本基金之收支結餘提存安全準備，備供以後年度填補短絀之用，116年度預估提存40,065,820千元。
A16: 呆帳 | B16: 係應收保費、其他應收款及催收款項按收回情況提列呆帳，計12,737,836千元。

Sheet 業務費用明細表-勞保局
A1: 衛 生 福 利 部 主 管
A2: 國 民 年 金 保 險 基 金
A3: 業務費用明細表-勞工保險局
A4: 中華民國116年度 單位：新臺幣千元
A5: 前年度決算數 | B5: 上年度預算數 | C5: 科目及業務計畫項目 | D5: 本年度預算數
A6: =+A7 -> 1063694 | B6: =+B7 -> 1310535 | C6: 業務費用 | D6: =+D7 -> 1358248
A7: =+A8+A16+A28+A31+A37+A40+A43+A47 -> 1063694 | B7: =+B8+B16+B28+B31+B37+B40+B43+B47 -> 1310535 | C7: 業務費用 | D7: =+D8+D16+D28+D31+D37+D40+D43+D47 -> 1358248
A8: =SUM(A9:A15)-1 -> 204695 | B8: =SUM(B9:B15) -> 232017 | C8: 用人費用 | D8: =SUM(D9:D15) -> 241418
A9: 129139 | B9: 146522 | C9: 正式員額薪資 | D9: 159905
A10: 4834 | B10: 0 | C10: 聘僱及兼職人員薪資 | D10: 0
A11: 5899 | B11: 8122 | C11: 加（夜）班費 | D11: 7326
A12: 33120 | B12: 36211 | C12: 獎金 | D12: 38436
A13: 14437 | B13: 22314 | C13: 退休及卹償金 | D13: 16717
A14: 17265 | B14: 18845 | C14: 福利費 | D14: 19031
A15: 2 | B15: 3 | C15: 提繳費 | D15: 3
A16: =SUM(A17:A27) -> 374630 | B16: =SUM(B17:B27) -> 524865 | C16: 服務費用 | D16: =SUM(D17:D27) -> 623800
A17: 3146 | B17: 3005 | C17: 水電費 | D17: 3627
A18: 130655 | B18: 141868 | C18: 郵電費 | D18: 144156
A19: 973 | B19: 329 | C19: 旅運費 | D19: 336
A20: 1837 | B20: 2212 | C20: 印刷裝訂及公告費 | D20: 2442
A21: 1387 | B21: 2341 | C21: 修理保養及保固費 | D21: 2089
A22: 48 | B22: 67 | C22: 保險費 | D22: 67
A23: 113433 | B23: 140158 | C23: 一般服務費 | D23: 262708
A24: 97676 | B24: 208183 | C24: 專業服務費 | D24: 181373
A25: 62 | B25: 460 | C25: 公關慰勞費 | D25: 460
A26: 24721 | B26: 25542 | C26: 媒體政策及業務宣導費 | D26: 25542
A27: 692 | B27: 700 | C27: 推展費 | D27: 1000
A28: =SUM(A29:A30) -> 1979 | B28: =SUM(B29:B30) -> 2488 | C28: 材料及用品費 | D28: =SUM(D29:D30) -> 2482
A29: 101 | B29: 73 | C29: 使用材料費 | D29: 73
A30: 1878 | B30: 2415 | C30: 用品消耗 | D30: 2409
A31: =SUM(A32:A36)-1 -> 48406 | B31: =SUM(B32:B36) -> 65346 | C31: 租金與利息 | D31: =SUM(D32:D36) -> 64918
A32: 95 | B32: 97 | C32: 地租及水租 | D32: 97
A33: 44198 | B33: 60252 | C33: 房租 | D33: 59715
A34: 3226 | B34: 3887 | C34: 機器租金 | D34: 3952
A35: 349 | B35: 384 | C35: 交通及運輸設備租金 | D35: 384
A36: 539 | B36: 726 | C36: 什項設備租金 | D36: 770
A37: =SUM(A38:A39) -> 192617 | B37: =SUM(B38:B39) -> 224633 | C37: 折舊、折耗及攤銷 | D37: =SUM(D38:D39) -> 152053
A38: 115503 | B38: 151182 | C38: 不動產、廠房及設備折舊 | D38: 97760
A39: 77114 | B39: 73451 | C39: 攤銷 | D39: 54293
A40: =SUM(A41:A42) -> 109 | B40: =SUM(B41:B42) -> 131 | C40: 稅捐與規費(強制費) | D40: =SUM(D41:D42) -> 113
...

Sheet 業務費用明細表-運用局
A1: 衛 生 福 利 部 主 管
A2: 國 民 年 金 保 險 基 金
A3: 業務費用明細表-勞動基金運用局
A4: 中華民國116年度 單位：新臺幣千元
A5: 前年度決算數 | B5: 上年度預算數 | C5: 科目及業務計畫項目 | D5: 本年度預算數
A6: =+A7 -> 32580 | B6: =+B7 -> 37305 | C6: 業務費用 | D6: =+D7 -> 39096
A7: =+A8+A16+A25+A28+A35+A41+A44+A48 -> 32580 | B7: =+B8+B16+B25+B28+B35+B41+B44+B48 -> 37305 | C7: 業務費用 | D7: =+D8+D16+D25+D28+D35+D41+D44+D48 -> 39096
A8: =SUM(A9:A15)-1 -> 21969 | B8: =SUM(B9:B15) -> 26098 | C8: 用人費用 | D8: =SUM(D9:D15) -> 27784
A9: 12037 | B9: 14472 | C9: 正式員額薪資 | D9: 15485
A10: 0 | B10: 0 | C10: 聘僱及兼職人員薪資 | D10: 0
A11: 776 | B11: 940 | C11: 加（夜）班費 | D11: 985
A12: 6391 | B12: 7405 | C12: 獎金 | D12: 7923
A13: 1320 | B13: 1448 | C13: 退休及卹償金 | D13: 1506
A14: 1446 | B14: 1833 | C14: 福利費 | D14: 1885
C15: 提繳費
A16: =SUM(A17:A24) -> 3748 | B16: =SUM(B17:B24) -> 5407 | C16: 服務費用 | D16: =SUM(D17:D24) -> 5496
A17: 253 | B17: 250 | C17: 水電費 | D17: 250
A18: 717 | B18: 1073 | C18: 郵電費 | D18: 1037
A19: 262 | B19: 685 | C19: 旅運費 | D19: 685
A20: 11 | B20: 27 | C20: 印刷裝訂及公告費 | D20: 30
A21: 448 | B21: 504 | C21: 修理保養及保固費 | D21: 520
C22: 保險費
A23: 304 | B23: 453 | C23: 一般服務費 | D23: 613
A24: 1753 | B24: 2415 | C24: 專業服務費 | D24: 2361
A25: =SUM(A26:A27) -> 1000 | B25: =SUM(B26:B27) -> 345 | C25: 材料及用品費 | D25: =SUM(D26:D27) -> 345
C26: 使用材料費
A27: 1000 | B27: 345 | C27: 用品消耗 | D27: 345
A28: =SUM(A29:A33) -> 2702 | B28: =SUM(B29:B33) -> 2749 | C28: 租金與利息 | D28: =SUM(D29:D33) -> 2749
C29: 地租及水租
A30: 2595 | B30: 2596 | C30: 房租 | D30: 2596
C31: 機器租金
A32: 0 | B32: 3 | C32: 交通及運輸設備租金 | D32: 3
A33: 107 | B33: 150 | C33: 什項設備租金 | D33: 150
A35: =SUM(A36:A40)-1 -> 3042 | B35: =SUM(B36:B40) -> 2566 | C35: 折舊、折耗及攤銷 | D35: =SUM(D36:D40) -> 2582
A36: 447 | B36: 632 | C36: 不動產、廠房及設備折舊 | D36: 791
C37: 交通及運輸設備折舊
C38: 什項設備折舊
C39: 租賃資產及租賃權益改良 折舊
A40: 2596 | B40: 1934 | C40: 攤銷 | D40: 1791
A41: =A43 -> 0 | B41: 0 | C41: 稅捐與規費(強制費) | D41: 0
...

Sheet 業務費用說明
A1: 衛 生 福 利 部 主 管
A2: 國 民 年 金 保 險 基 金
A3: 業務費用說明
A4: 中華民國116年度
A5: 科 目 | B5: 說 明
A6: 用人費用 | B6: 按預算員額207人(勞保局：191人，基金運用局：16人)，參酌待遇標準計編列269,202千元(勞保局：241,418千元，基金運用局：27,784千元)。
A7: 正式員額薪資 | B7: 係於預算員額內，依全國軍公教員工待遇支給要點，編列職員薪金175,390千元(勞保局：159,905千元，基金運用局：15,485千元)。
A8: 加（夜）班費 | B8: 依業務實際需要編列延長工時加班費2,320千元及未休假加班費5,991千元，合共編列8,311千元(勞保局：7,326千元，基金運用局：985千元)。
A9: 獎金 | B9: 編列46,359千元(勞保局：38,436千元，基金運用局：7,923千元)，包括：
B10: 1. | C10: 年終獎金依「軍公教人員年終工作獎金發給注意事項」，編列21,806千元；考績獎金依「公務人員考績法」，編列19,981千元。
B11: 2. | C11: 其他獎金依「獎章條例」及「公務人員領有勳章獎章榮譽紀念章發給獎勵金實施要點」，預計5人，編列150千元，以及依行政院110年5月7日院授人給字第1104000375號函核定之勞動部勞動基金運用局業務人員獎金，預計16人，編列4,422千元，合共編列4,572千元。
A12: 退休及卹償金 | B12: 編列職員退休及離職金 18,223千元(勞保局：16,717千元，基金運用局：1,506千元)。
A13: 福利費 | B13: 編列20,916千元(勞保局：19,031千元，基金運用局：1,885千元)，包括：
B14: 1. | C14: 依全民健康保險法、公教人員保險法、勞工保險條例、就業保險法、勞工職業災害保險及保護法之規定編列分擔員工及眷屬保險費16,128千元。
B15: 2. | C15: 40歲以上2年1次之健康檢查費，編列傷病醫藥費253千元。
B16: 3. | C16: 依「行政院與所屬中央及地方各機關公務人員休假改進措施」編列員工休假補助費3,258千元，及各項生活津貼1,277千元，合共編列其他福利費4,535千元。
A17: 提繳費 | B17: 依積欠工資墊償基金提繳及墊償管理辦法，編列3千元(勞保局)。
A18: 服務費用
A19: 水電費 | B19: 依業務實際需要並遵行節能減碳政策，編列3,877千元(勞保局：3,627千元，基金運用局：250千元)。
A20: 郵電費 | B20: 寄發繳款單、給付核定函等所需郵費、電話費及使用數據專線等，編列145,193千元(勞保局：144,156千元，基金運用局：1,037千元)。
A21: 旅運費 | B21: 按國內、外出差旅費報支要點規定及業務實際所需之國內、外旅費及貨物運費等，編列1,021千元(勞保局：336千元，基金運用局：685千元)。其中派員出國計畫之國外旅費，編列543千元(基金運用局)。
A22: 印刷裝訂及公告費 | B22: 編列2,472千元(勞保局：2,442千元，基金運用局：30千元)，包括：
B23: 1. | C23: 各種文件、表單、報表、書函等印刷及裝訂費，編列2,461千元。
B24: 2. | C24: 給付溢領移送強制執行，進行不動產拍賣前登報所需之公告費，編列11千元。
A25: 修理保養及保固費 | B25: 房屋、機械、交通運輸及什項設備之保養、維修費等，編列2,609千元(勞保局：2,089千元，基金運用局：520千元)，其中勞務承攬人力編列108千元(基金運用局)。
A26: 保險費 | B26: 公共意外責任險、機械及交通運輸等設備之保險費，編列67千元(勞保局)。
A27: 一般服務費 | B27: 編列263,321千元(勞保局：262,708千元，基金運用局：613千元)，包括：
B28: 1. | C28: 海外投資市場開立或現有市場帳戶維護之文件公證費，編列20千元。
B29: 1. | C29: 辦理保費收入及保險給付業務等所需之匯費及手續費，編列132,224千元。
B30: 2. | C30: 委託印製及裝封寄發繳款單，以及辦理電話服務中心諮詢服務、郵件收受及公文繕校等外包費，編列128,818千元。其中勞務承攬人力預計進用131人，編列83,978千元，及辦理員工協助方案，提供機關同仁生活、工作、法律等各項諮詢服務，編列76千元。
B31: 3. | C31: 各辦事處依業務所需之志工交通費、保險、訓練、交流活動等志工服務費，編列1,451千元。
B32: 4. | C32: 體育活動費，編列828千元。
A33: 專業服務費 | B33: 編列183,734千元(勞保局：181,373千元，基金運用局：2,361千元)，包括：
B34: 1. | C34: 辦理各項講習之講課鐘點費與邀請專家學者及採購評選委員之出席費等，編列302千元。
B35: 2. | C35: 依國民年金法施行細則第10條規定，辦理保險費率委外精算之委託調查研究費，編列760千元，包括：
B36: (1) | C36: 114年國民年金保險費率精算及財務評估案：為延續性計畫，總經費2,391千元，期程為114年至117年，以前年度執行數為1,912千元，本年度續編240千元，以後年度預計編列239千元。
B37: (2) | C37: 116年國民年金保險費率精算及財務評估案：為延續性計畫，總經費2,600千元，期程為116年至119年，本年度編列520千元，以後年度預計編列2,080千元。
B38: 3. | C38: 委託顧問服務費、資安檢測服務及特約醫師審核給付案件等之委託檢驗(定)試驗認證費，編列905千元。
B39: 4. | C39: 辦理員工教育訓練所需之委託考選訓練費，編列160千元。
B40: 5. | C40: 資訊應用系統服務作業及各項應用系統維護等電腦軟體服務費，編列181,604千元。
...

Sheet 固定資產建設改良
A1: 衛 生 福 利 部 主 管
A2: 國 民 年 金 保 險 基 金
A3: 固定資產建設改良擴充明細表
A4: 中華民國116年度 單位：新臺幣千元
A5: 項 目 | B5: 不動產、廠房及設備 | E5: 合計 | F5: 說明
B6: 機械及 設備 | C6: 交通及運輸設備 | D6: 什項設備
A8: 一般建築及設備計畫 | B8: =B9+B18 -> 92052 | C8: =C9+C18 -> 3200 | D8: =D9+D18 -> 15 | E8: =SUM(B8:D8) -> 95267
A9: 勞動部勞工保險局 | B9: =B10+B13 -> 91266 | C9: =C10+C13 -> 3200 | D9: =D10+D13 -> 15 | E9: =SUM(B9:D9) -> 94481
A10: 分年性項目 | B10: =B11 -> 91221 | C10: =C11 -> 0 | D10: =D11 -> 0 | E10: =SUM(B10:D10) -> 91221
A11: 機械及設備 | B11: 91221 | C11: 0 | D11: 0 | E11: =SUM(B11:D11) -> 91221 | F11: 係購置電腦主機、磁碟陣列、防火牆、虛擬化管理系統及網路設備等基礎環境設備。
F12: 依行政院113年6月27日院臺勞字第1131015165號函核定勞保局數位轉型及永續發展計畫，本計畫總經費為4,478,172千元，其中國民年金保險基金負擔基礎環境建置購置678,746千元，以前年度已編列150,438千元，本年度續編91,221千元，未來尚需經費437,087千元。
A13: 一次性項目 | B13: =SUM(B14:B16) -> 45 | C13: =SUM(C14:C16) -> 3200 | D13: =SUM(D14:D16) -> 15 | E13: =SUM(B13:D13) -> 3260
A14: 機械及設備 | B14: 45 | C14: 0 | D14: 0 | E14: =SUM(B14:D14) -> 45 | F14: 係汰換數位投影機及電動釘書機等設備。
A15: 交通及運輸設備 | B15: 0 | C15: 3200 | D15: 0 | E15: =SUM(B15:D15) -> 3200 | F15: 係汰換5人座小客貨兩用車4輛。
A16: 什項設備 | B16: 0 | C16: 0 | D16: 15 | E16: =SUM(B16:D16) -> 15 | F16: 係汰換碎紙機。
A18: 勞動部勞動基金運用局 | B18: =B19 -> 786 | C18: =C19 -> 0 | D18: =D19 -> 0 | E18: =SUM(B18:D18) -> 786
A19: 一次性項目 | B19: =B20 -> 786 | C19: =C20 -> 0 | D19: =D20 -> 0 | E19: =SUM(B19:D19) -> 786
A20: 機械及設備 | B20: 786 | C20: 0 | D20: 0 | E20: =SUM(B20:D20) -> 786 | F20: 係購置儲存系統設備及筆記型電腦等設備。
A24: 合 計 | B24: =B8 -> 92052 | C24: =C8 -> 3200 | D24: =D8 -> 15 | E24: =SUM(B24:D24) -> 95267

Sheet 固定資產建設改良擴充資金來源
A1: 衛 生 福 | F1: 利 部 主 管
A2: 國 民 年 金 | F2: 保 險 基 金
A3: 固定資產建設改良 | F3: 擴充資金來源明細表
A4: 中 華 民 國 | F4: 116 年 度 | M4: 單位：新臺幣千元
A5: 項 目 | B5: 自有資金 | H5: 外借資金 | L5: 合 計
B6: 營 運 資 金 | C6: 出售不適用資產 | D6: 國 庫 撥 款 | E6: 其 他 | F6: 小 計 | H6: 國 內 借 款 | I6: 國 外 借 款 | J6: 小 計 | L6: 金 額 | M6: ％
B7: 營運資金 | C7: 出售不適用資產 | D7: 增資 | E7: 其他 | F7: 金 額 | G7: ％ | I7: 國外借款 | J7: 金 額 | K7: ％
A9: 一般建築及設備計畫 | B9: =B10+B14 -> 0 | C9: =C10+C14 -> 0 | D9: =D10+D14 -> 0 | E9: =E10+E14 -> 95267 | F9: =SUM(B9:E9) -> 95267 | G9: =E9/F9*100 -> 100 | H9: =H10+H14 -> 0 | I9: =I10+I14 -> 0 | J9: =J10+J14 -> 0 | K9: =K10+K14 -> 0 | L9: =F9 -> 95267 | M9: =M10+M14 -> 100
A10: 勞動部勞工保險局 | B10: =B11 -> 0 | C10: =C11 -> 0 | D10: =D11 -> 0 | E10: =E11+E12 -> 94481 | F10: =F11+F12 -> 94481 | G10: =E10/F10*100 -> 100 | H10: =H11 -> 0 | I10: =I11 -> 0 | J10: =J11 -> 0 | K10: =K11 -> 0 | L10: =F10 -> 94481 | M10: =ROUND(L10/L9*100,2) -> 99.17
A11: 分年性項目 | B11: =B12 -> 0 | C11: =C12 -> 0 | D11: =D12 -> 0 | E11: =固定資產建設改良!E10 -> 91221 | F11: =E11 -> 91221 | G11: =E11/F11*100 -> 100 | H11: =H12 -> 0 | I11: =I12 -> 0 | J11: =J12 -> 0 | K11: =K12 -> 0 | L11: =F11 -> 91221 | M11: =ROUND(L11/L9*100,2) -> 95.75
A12: 一次性項目 | B12: 0 | C12: 0 | D12: 0 | E12: =固定資產建設改良!E13 -> 3260 | F12: =E12 -> 3260 | G12: =E12/F12*100 -> 100 | H12: 0 | I12: 0 | J12: 0 | K12: 0 | L12: =F12 -> 3260 | M12: =ROUND(L12/L9*100,2) -> 3.42
A14: 勞動部勞動基金運用局 | B14: =B15 -> 0 | C14: =C15 -> 0 | D14: =D15 -> 0 | E14: =E15 -> 786 | F14: =E14 -> 786 | G14: =E14/F14*100 -> 100 | H14: =H15 -> 0 | I14: =I15 -> 0 | J14: =J15 -> 0 | K14: =K15 -> 0 | L14: =F14 -> 786 | M14: =M15 -> 0.83
A15: 一次性項目 | B15: 0 | C15: 0 | D15: 0 | E15: =固定資產建設改良!E19 -> 786 | F15: =E15 -> 786 | G15: =E15/F15*100 -> 100 | H15: 0 | I15: 0 | J15: 0 | K15: 0 | L15: =F15 -> 786 | M15: =ROUND(L15/L9*100,2) -> 0.83
A31: 合 計 | B31: =B9 -> 0 | C31: =C9 -> 0 | D31: =D9 -> 0 | E31: =E9 -> 95267 | F31: =F9 -> 95267 | G31: =G9 -> 100 | H31: =H9 -> 0 | I31: =I9 -> 0 | ... M31: =M9 -> 100
A32: 註:自有資金「其他」欄內列95,267千元，係由中央政府責任準備支應。

Sheet 固定資產建設改良擴充計畫預期進度
A1: 衛 生 福 | H1: 利 部 主 管
A2: 國 民 年 金 | H2: 保 險 基 金
A3: 固定資產建設改良 | H3: 擴充計畫預期進度明細表
A4: 中 華 民 國 | H4: 116 年 度 | O4: 單位：新臺幣千元
A5: 項 目 | B5: 全部 計畫 | M5: 預算數
B6: 投資總額 | C6: 資金來源 | H6: 目 標 能 量 | I6: 進 度 起 迄 年 月 | J6: 資 金 成 本 率(%) | K6: 內 部 報 酬 率(%) | L6: 收 回 年 限 (年) | M6: 本 年 度 | O6: 截至本年度累計數
C7: 自有資金 | G7: 外借資金 | M7: 金 額 | N7: 占 全 部 計 畫 ％ | O7: 金 額 | P7: 占 全 部 計 畫 ％
C8: 營運資金 | D8: 出售不適 用 資 產 | E8: 國庫撥款 | F8: 其 他 | G8: 外借資金
A10: 一般建築及設備計畫 | B10: =B11+B15 -> 682792 | C10: =C11+C15 -> 0 | D10: =D11+D15 -> 0 | E10: =E11+E15 -> 0 | F10: =B10 -> 682792 | G10: =G11+G15 -> 0 | J10: =J11+J15 -> 0 | K10: =K11+K15 -> 0 | M10: =M11+M15 -> 95267 | N10: =M10/B10*100 -> 13.952565 | O10: =O11+O15 -> 245705 | P10: =O10/B10*100 -> 35.985337
A11: 勞動部勞工保險局 | B11: =B12+B13 -> 682006 | C11: =C12+C13 -> 0 | D11: =D12+D13 -> 0 | E11: =E12+E13 -> 0 | F11: =B11 -> 682006 | G11: =G12+G13 -> 0 | J11: =J12+J13 -> 0 | K11: =K12+K13 -> 0 | M11: =M12+M13 -> 94481 | N11: =M11/B11*100 -> 13.853397 | O11: =O12+O13 -> 244919 | P11: =O11/B11*100 -> 35.911561
A12: 分年性項目 | B12: 678746 | C12: 0 | D12: 0 | E12: 0 | F12: =B12 -> 678746 | G12: 0 | I12: 115.1~120.12 | J12: 0 | K12: 0 | M12: =固定資產建設改良擴充資金來源!E11 -> 91221 | N12: =M12/B12*100 -> 13.439637 | O12: =150438+91221 -> 241659 | P12: =O12/B12*100 -> 35.603746
A13: 一次性項目 | B13: =固定資產建設改良!E13 -> 3260 | C13: 0 | D13: 0 | E13: 0 | F13: =B13 -> 3260 | G13: 0 | I13: 116.1~116.12 | J13: 0 | K13: 0 | M13: =F13 -> 3260 | N13: =M13/B13*100 -> 100 | O13: =M13 -> 3260 | P13: =O13/B13*100 -> 100
A15: 勞動部勞動基金運用局 | B15: =B16 -> 786 | C15: =C16 -> 0 | D15: =D16 -> 0 | E15: =E16 -> 0 | F15: =B15 -> 786 | G15: =G16 -> 0 | J15: =J16 -> 0 | K15: =K16 -> 0 | M15: =B15 -> 786 | N15: =M15/B15*100 -> 100 | O15: =M15 -> 786 | P15: =O15/B15*100 -> 100
A16: 一次性項目 | B16: =固定資產建設改良!E19 -> 786 | C16: 0 | D16: 0 | E16: 0 | F16: =B16 -> 786 | G16: 0 | I16: 116.1~116.12 | J16: 0 | K16: 0 | M16: =B16 -> 786 | N16: =M16/B16*100 -> 100 | O16: =M16 -> 786 | P16: =O16/B16*100 -> 100
A30: 註：依行政院113年6月27日院臺勞字第1131015165號函核定勞保局數位轉型及永續發展計畫，本計畫總經費為 4,478,172千元，其中國民年金保險基金負擔基礎環境建置購置678,746千元，以前年度已編列150,438千元，本年度
A31: 註：續編91,221千元，未來尚需經費437,087千元。

Sheet 資產折舊
A1: 衛 生 福 利 部 主 管
A2: 國 民 年 金 保 險 基 金
A3: 資產折舊明細表
A4: 中華民國 116年度 單位：新臺幣千元
A5: 項 目 | B5: 不動產、廠房及設備 | F5: 合 計
B6: 機械及 設備 | C6: 交通及運 輸設備 | D6: 什項 設備 | E6: 租賃權 益改良
A8: 前年度決算資產原值 | B8: 1116366 | C8: 3227 | D8: 9960 | E8: 170 | F8: =SUM(B8:E8) -> 1129723
A9: 上年度預計增減資產原值 | B9: 22613 | C9: 0 | D9: =30+368 -> 398 | E9: 0 | F9: =SUM(B9:E9) -> 23011
A10: 本年度預計增減資產原值 | B10: -37493 | C10: 1048 | D10: 0 | E10: 0 | F10: =SUM(B10:E10) -> -36445
A11: 資產重估增值額 | B11: 0 | C11: 0 | D11: 0 | E11: 0 | F11: =SUM(B11:E11) -> 0
A12: 本年度(12月底)止資產總額 | B12: =B8+B9+B10 -> 1101486 | C12: =C8+C9+C10 -> 4275 | D12: =D8+D9+D10 -> 10358 | E12: =E8+E9+E10 -> 170 | F12: =SUM(B12:E12) -> 1116289
A13: 本年度應提折舊額 | B13: =+B14 -> 97585 | C13: =+C14 -> 199 | D13: =+D14 -> 767 | E13: =+E14 -> 0 | F13: =SUM(B13:E13) -> 98551
A14: 業務費用 | B14: =B15+B16 -> 97585 | C14: =C15+C16 -> 199 | D14: =D15+D16 -> 767 | E14: =E15+E16 -> 0 | F14: =SUM(B14:E14) -> 98551
A15: 勞動部勞工保險局 | B15: 96794 | C15: 199 | D15: 767 | E15: 0 | F15: =SUM(B15:E15) -> 97760
A16: 勞動部勞動基金運用局 | B16: 791 | C16: 0 | D16: 0 | E16: 0 | F16: =SUM(B16:E16) -> 791

Sheet 資產報廢
A1: 衛 生 福 利 部 主 管
A2: 國 民 年 金 保 險 基 金
A3: 資產報廢明細表
A4: 中華民國 116年度 單位：新臺幣千元
A5: 項 目 | B5: 帳面價值 | E5: 殘餘價值 | F5: 未實現重估增值減少數 | G5: 報廢損失
B6: 成本或 重估價值 | C6: 已提 折舊額 | D6: 淨額
A8: 不動產、廠房及設備 | B8: =B9+B14 -> 131712 | C8: =B8 -> 131712 | D8: 0 | E8: 0 | F8: 0 | G8: 0
A9: 勞動部勞工保險局 | B9: =B10+B11+B12 -> 131712 | C9: =B9 -> 131712 | D9: 0 | E9: 0 | F9: 0 | G9: 0
A10: 機械及設備 | B10: 129545 | C10: =B10 -> 129545 | D10: 0 | E10: 0 | F10: 0 | G10: 0
A11: 交通及運輸設備 | B11: 2152 | C11: =B11 -> 2152 | D11: 0 | E11: 0 | F11: 0 | G11: 0
A12: 什項設備 | B12: 15 | C12: =B12 -> 15 | D12: 0 | E12: 0 | F12: 0 | G12: 0
A14: 勞動部勞動基金運用局 | B14: =B15+B16+B17 -> 0 | C14: =B14 -> 0 | D14: 0 | E14: 0 | F14: 0 | G14: 0
A15: 機械及設備 | B15: 0 | C15: =B15 -> 0 | D15: 0 | E15: 0 | F15: 0 | G15: 0

Sheet 基金數額增減明細表
A1: 衛 生 福 利 部 主 管
A2: 國 民 年 金 保 險 基 金
A3: 基金數額增減明細表
A4: 中華民國116年度 單位：新臺幣千元
A5: 項目 | B5: 金額 | C5: 說明
A6: 期初基金數額 | B6: 1000
A7: 加：
A8: 以前年度公積撥充 | B8: -
A9: 賸餘撥充 | B9: -
A10: 以國有財產撥充 | B10: -
A11: 國庫增撥數 | B11: -
A12: 其他 | B12: -
A13: 減：
A14: 填補短絀 | B14: -
A15: 折減基金繳庫 | B15: -
A16: 其他 | B16: -
A17: 期末基金數額 | B17: 1000

Sheet 無形資產明細表
A1: 衛 生 福 利 部 主 管
A2: 國 民 年 金 保 險 基 金
A3: 購置無形資產明細表
A4: 中華民國116年度 單位：新臺幣千元
A5: 前年度決算數 | B5: 上年度預算數 | C5: 科目及業務項目 | D5: 本年度預算數 | F5: 說明
A6: 61787 | B6: =B7+B11 -> 10147 | C6: 電腦軟體 | D6: =D7+D11 -> 69017
A7: 61328 | B7: =B8+B9 -> 9587 | C7: 勞動部勞工保險局 | D7: =D8+D9 -> 68457
A8: 59803 | B8: 8627 | C8: 委外開發設計應用軟體 | D8: 67353 | E8: 1. 2. | F8: 數位轉型及永續發展計畫之應用系統移轉與重新開發費用66,623千元。 勞動部勞工保險局全球資訊網功能增修等費用730千元。
A9: 1525 | B9: 960 | C9: 購置電腦軟體費 | D9: 1104 | E9: 購置單價1萬元以上等軟體費用。
A11: 459 | B11: =B12 -> 560 | C11: 勞動部勞動基金運用局 | D11: =D12 -> 560
A12: 225 | B12: 560 | C12: 委外開發設計應用軟體 | D12: 560 | E12: 國保基金系統年度例行性增修。
A13: 234 | B13: 0 | C13: 購置電腦軟體費 | D13: 0
A14: =A15 -> 0 | B14: 0 | C14: 發展中之無形資產 | D14: 0
A15: =A16 -> 0 | B15: 0 | C15: 勞動部勞工保險局 | D15: 0
A16: 0 | B16: 0 | C16: 委外開發設計應用軟體 | D16: 0
B18: =B19 -> 0 | C18: 發展中之無形資產 | D18: =D19 -> 0
B19: =B20 -> 0 | C19: 勞動部勞動基金運用局 | D19: =D20 -> 0
B20: 0 | C20: 委外開發設計應用軟體 | D20: 0
A26: 61787 | B26: =B6 -> 10147 | C26: 總 計 | D26: =D6 -> 69017
A27: 註：依行政院113年6月27日院臺勞字第1131015165號函核定勞保局數位轉型及永續發展計畫，本計畫總經 註：費為4,478,172千元，其中國民年金保險基金負擔無形資產109,523千元，以前年度已編列8,116千元，本 註：年度續編66,623千元，未來尚需經費34,784千元。

Sheet 貸出款明細表
A1: 衛 生 福 利 部 主 管
A2: 國 民 年 金 保 險 基 金
A3: 貸出款明細表
A4: 中華民國 116年度 單位：新臺幣千元
A5: 計畫名稱 | B5: 貸款 年度 | C5: 期初貸出 餘額 | D5: 本年度貸出金額 | E5: 本年度收回金額 | F5: 截至本年度 累計 貸出餘額 | G5: 備註
A7: 短期貸款 | B7: 116 | C7: 1704529 | D7: 0 | E7: 1704529 | F7: =C7+D7-E7 -> 0 | G7: 依據行政院103年6月9日院臺衛字第1030137370號函及衛生福利部103年10月30日衛部保字第1031260795號函，辦理中央政府向國保基金之短期週轉。

Sheet 預算參考表
A1: 預算參考表

Sheet 預計平衡表
A1: 衛 生 福 利 部 主 管
A2: 國 民 年 金 保 險 基 金
A3: 預計平衡表
B4: 中華民國116年12月31日 單位：新臺幣千元
A5: 114年12月31日 | C5: 科 目 | D5: 116年12月31日 | E5: 115年12月31日 | F5: 比較增減
A6: 實際數 | D6: 預計數 | E6: 預計數
A7: =SUM(A8,A14,A16,A21,A23)-1 -> 876771939 | C7: 資 產 | D7: =D8+D14+D23+D16+D21 -> 957787071 | E7: =E8+E14+E23+E16+E21 -> 913094480 | F7: =D7-E7 -> 44692591
A8: =A9+A11+A10+A13+A12+1 -> 641120079 | C8: 流動資產 | D8: =D9+D10+D11+D13 -> 653551556 | E8: =E9+E10+E11+E13 -> 623952619 | F8: =D8-E8 -> 29598937
A9: 30181339 | C9: 現金 | D9: 41136044 | E9: 37417486 | F9: =D9-E9 -> 3718558
A10: 554224106 | C10: 流動金融資產 | D10: 565575069 | E10: 539661923 | F10: =D10-E10 -> 25913146
A11: 44156200 | C11: 應收款項 | D11: 46840443 | E11: 45168681 | F11: =D11-E11 -> 1671762
C12: 預付款項 | D12: 0 | E12: 0 | F12: =D12-E12 -> 0
A13: 12558433 | C13: 短期貸墊款 | D13: 0 | E13: 1704529 | F13: =D13-E13 -> -1704529
A14: =A15 -> 114826110 | C14: 投資、長期應收款、貸墊款及準備金 | D14: =D15 -> 172917790 | E14: =E15 -> 168005874 | F14: =D14-E14 -> 4911916
A15: 114826110 | C15: 非流動金融資產 | D15: 172917790 | E15: 168005874 | F15: =D15-E15 -> 4911916
A16: =A17+A18+A19+A20 -> 200324 | C16: 不動產、廠房及設備 | D16: =D17+D18+D19+D20 -> 201182 | E16: =E17+E18+E19+E20 -> 204466 | F16: =D16-E16 -> -3284
A17: 196324 | C17: 機械及設備 | D17: 195296 | E17: 200829 | F17: =D17-E17 -> -5533
A18: 85 | C18: 交通及運輸設備 | D18: 3056 | E18: 55 | F18: =D18-E18 -> 3001
A19: 3915 | C19: 什項設備 | D19: 2830 | E19: 3582 | F19: =D19-E19 -> -752
A20: 0 | C20: 租賃權益改良 | D20: 0 | E20: 0 | F20: =D20-E20 -> 0
A21: =A22 -> 208845 | C21: 無形資產 | D21: =D22 -> 157131 | E21: =E22 -> 144198 | F21: =D21-E21 -> 12933
A22: 208845 | C22: 無形資產 | D22: 157131 | E22: 144198 | F22: =D22-E22 -> 12933
A23: =A24 -> 120416582 | C23: 其他資產 | D23: =D24 -> 130959412 | E23: =E24 -> 120787323 | F23: =D23-E23 -> 10172089
A24: 120416582 | C24: 什項資產 | D24: 130959412 | E24: 120787323 | F24: =D24-E24 -> 10172089
A25: 0 | C25: 暫付及待結轉帳項 | D25: - | E25: - | F25: -
A28: =A7 -> 876771939 | C28: 合 計 | D28: =+D7 -> 957787071 | E28: =E7 -> 913094480 | F28: =D28-E28 -> 44692591
A29: =A30+A34 -> 876361770 | C29: 負 債 | D29: =D30+D34 -> 957427758 | E29: =E30+E34 -> 912744816 | F29: =D29-E29 -> 44682942
A30: =A31+A32+A33-1 -> 5398645 | C30: 流動負債 | D30: =SUM(D31:D33) -> 5893131 | E30: =SUM(E31:E33) -> 5710106 | F30: =D30-E30 -> 183025
A31: 5231680 | C31: 應付款項 | D31: 5726165 | E31: 5543140 | F31: =D31-E31 -> 183025
A32: 124403 | C32: 預收款項 | D32: 124403 | E32: 124403 | F32: =D32-E32 -> 0
A33: 42563 | C33: 流動金融負債 | D33: 42563 | E33: 42563 | F33: =D33-E33 -> 0
A34: =A35+A36 -> 870963125 | C34: 其他負債 | D34: =D35+D36 -> 951534627 | E34: =E35+E36 -> 907034710 | F34: =D34-E34 -> 44499917
A35: 870650268 | C35: 負債準備 | D35: 947060614 | E35: 906994794 | F35: =D35-E35 -> 40065820
A36: 312857 | C36: 什項負債 | D36: 4474013 | E36: 39916 | F36: =+D36-E36 -> 4434097
A37: =A38+A40 -> 410169 | C37: 淨 值 | D37: =D38+D40 -> 359313 | E37: =E38+E40 -> 349664 | F37: =D37-E37 -> 9649
A38: =+A39 -> 1000 | C38: 基金 | D38: 1000 | E38: 1000 | F38: =D38-E38 -> 0
A39: 1000 | C39: 基金 | D39: 1000 | E39: 1000 | F39: =D39-E39 -> 0
A40: =+A41 -> 409169 | C40: 公積 | D40: =+D41 -> 358313 | E40: =+E41 -> 348664 | F40: =D40-E40 -> 9649
A41: 409169 | C41: 資本公積 | D41: 358313 | E41: 348664 | F41: =D41-E41 -> 9649
A42: - | C42: 累積餘絀 | D42: - | E42: - | F42: -
...

Sheet 預計平衡表說明 (現金制)
A1: 衛 生 福 利 部 主 管
A2: 國 民 年 金 保 險 基 金
A3: 預計平衡表說明
A4: 中華民國116年12月31日
B5: 什項負債116年12月31日預計金額為4,474,013千元，包括：
B6: （一）匯款未成功之保險給付39,916千元。
B7: （二）中央政府責任準備4,434,097千元，預估116年度收支增減如下：
E8: 單位：新臺幣千元
B9: 責 任 準 備 | C9: 預計數 | D9: 說 明
B10: 期初餘額 | C10: 0
B11: 收入： | C11: =SUM(C12:C14) -> 87961572 | D11: 依國民年金法第47條第1項及第3項規定，中央主管機關應負擔之保險費、年金差額、人事及行政管理經費，依序由供國民年金用之公益彩券盈餘、調增營業稅支應，若有結餘時，應作為以後年度中央政府責任準備。如依第1項規定籌措財源因應後，仍有不足，亦無法由中央政府責任準備支應時，應由中央主管機關編列預算撥補。本年度中央主管機關編列預算72,990,676千元撥補。
B12: 公益彩券盈餘分配收入 | C12: 14970896
B13: 中央應負擔款項其他財源收入 | C13: 72990676
D15: 二、 | E15: 依特種貨物及勞務稅稅課收入分配及運用辦法第3條規定，特種貨物及勞務稅稅課收入優先撥供國民年金保險中央應補助之保險費及應負擔款項之用。
B16: 支出： | C16: =SUM(C17:C22) -> 83527475
B17: 115年度中央政府應負擔保費 及利息 | C17: =18506901+205666 -> 18712567 | D17: 依國民年金法第13、14條規定，預估116年度中央政府應繳納115年度之保險費及利息。
B18: 年金差額 | C18: 61698305 | D18: 依國民年金法第30條第4項、第34條第4項，及第42條第4項規定，預估116年度中央主管機關應負擔之年金差額。
B19: 人事及行政管理經費 | C19: 1406993 | D19: 依國民年金法第46條規定，預估116年度中央主管機關應負擔之人事及行政管理經費，其中行銷及業務費用1,397,344千元，扣除折舊及攤銷後計154,635千元，加計增購不動產、廠房及設備95,267千元及無形資產69,017千元，合共1,406,993千元。
B20: 歸還中央政府短期週轉 | C20: 1704529 | D20: 中央政府責任準備115年度向國保基金短期週轉產生之本金及利息費用。
B21: 利息費用 | C21: 5081 | D21: 中央政府責任準備116年度向國保基金短期週轉產生之利息費用。
B22: 遲繳保費利息 | C22: 0 | D22: 依國民年金法第14條規定，計收104年度中央主管機關應負擔之遲繳保費利息
B23: 期末餘額 | C23: =C11-C16 -> 4434097 | D23: 依國民年金法第47條規定，其結餘作為以後年度中央政府責任準備，於次年度支應本年度12月之年金差額、人事及行政管理經費後無賸餘。
B24: 註：預估116年度中央政府應負擔保險費及利息計19,244,675千元，係由主管機關於次年度編列預算撥補。

Sheet 5年來主要營運項目分析表
A1: 衛 生 福 利 部 主 管
A2: 國 民 年 金 保 險 基 金
A3: 5年來主要營運項目分析表
A4: 中華民國116年度 單位：新臺幣千元
A5: 年 度 及 項 目 | B5: 單位 | C5: 數 量 | D5: 單位成本（元）或平均利（費）率 | E5: 預(決)算數 | F5: 說 明
A6: 本年度預算數 | E6: =E7 -> 103844190
A7: 保險給付 | E7: =E8+E14+E18 -> 103844190
A8: 保險支出 | E8: =SUM(E9:E13) -> 40803769
A9: 老年年金 | B9: 人 | C9: 1738919 | E9: 35411100 | F9: 係以平均每月增加6,973件所核算金額再加計累滾金額。
A10: 生育給付 | B10: 人 | C10: 12500 | E10: 527575 | F10: 12,500人×2個月× 21,103元 = 527,575千元。
A11: 身心障礙年金 | B11: 人 | C11: 8013 | E11: 178373 | F11: 係以平均每月增加16件所核算金額再加計累滾金額。
A12: 喪葬給付 | B12: 人 | C12: 11100 | E12: 1171217 | F12: 11,100人×5個月×21,103元=1,171,217千元。
A13: 遺屬年金 | B13: 人 | C13: 153611 | E13: 3515504 | F13: 係以平均每月增加700件所核算金額再加計累滾金額。
A14: 年金差額 | E14: =SUM(E15:E17) -> 63040258
A15: 老年年金 | B15: 人 | C15: 1222382 | E15: 56585037 | F15: 係以平均每月新增4,098件所核算金額再加計累滾金額。
A16: 身心障礙年金 | B16: 人 | C16: 5237 | E16: 267566 | F16: 係以平均每月增加8件所核算金額再加計累滾金額。
A17: 遺屬年金 | B17: 人 | C17: 153611 | E17: 6187655 | F17: 係以平均每月增加700件所核算金額再加計累滾金額。
A18: 複檢費用 | E18: =SUM(E19:E20) -> 163
A19: 身心障礙年金 | B19: 人 | C19: 136 | E19: 113 | F19: 136人×830元=113千元。
A20: 身心障礙基本保證年金 | B20: 人 | C20: 60 | E20: 50 | F20: 60人×830元=50千元。
A22: 上年度預算數 | E22: =SUM(E23:E25) -> 87848639
A23: 保險支出 | E23: 38990160
A24: 年金差額 | E24: 48858390
A25: 複檢費用 | E25: 89
A27: 前年度決算數 | E27: =SUM(E28:E30) -> 81971079
A28: 保險支出 | E28: 34736026
A29: 年金差額 | E29: 47234971
A30: 複檢費用 | E30: 82
A32: 113年度決算數 | E32: =SUM(E33:E35)-1 -> 79851594
A33: 保險支出 | E33: 32638844
A34: 年金差額 | E34: 47212631
A35: 複檢費用 | E35: 120
A37: 112年度決算數 | E37: =SUM(E38:E40) -> 73585726
A38: 保險支出 | E38: 30461867
A39: 年金差額 | E39: 43123743
A40: 複檢費用 | E40: 116

Sheet 員工人數彙計表
A1: 衛 生 福 利 部 主 管
A2: 國 民 年 金 保 險 基 金
A3: 員工人數彙計表
A4: 中華民國116年度 單位：人
A5: 科 目 | B5: 上年度最高 | C5: 本年度增減(-)數 | D5: 本年度最高 | E5: 說 明
B6: 可進用員額數 | D6: 可進用員額數
A7: 業務支出部分： | B7: =B8+B11 -> 207 | C7: =C8+C11 -> 0 | D7: =D8+D11 -> 207
A8: 勞動部勞工保險局 | B8: =B9 -> 191 | C8: =C9 -> 0 | D8: =D9 -> 191
A9: 專任人員 | B9: =B10 -> 191 | C9: =C10 -> 0 | D9: 191
A10: 職員 | B10: 191 | C10: 0 | D10: =B10+C10 -> 191
A11: 勞動部勞動基金運用局 | B11: =B12 -> 16 | C11: =C12 -> 0 | D11: =D12 -> 16
A12: 專任人員 | B12: =B13 -> 16 | C12: =C13 -> 0 | D12: =D13 -> 16
A13: 職員 | B13: 16 | C13: 0 | D13: =B13+C13 -> 16
A25: 總 計 | B25: =SUM(B7+B23) -> 207 | C25: 0 | D25: =SUM(D7+D23) -> 207
A26: 註：勞務承攬人力主要係辦理電話服務中心諮詢服務、郵件收受、公文繕校、辦公場所清潔與保全及資訊設備維護等 業務，預計131人。

Sheet 用人費用彙計表
A1: 衛 生 福 | G1: 利 部 主 管
A2: 國 民 年 金 | G2: 保 險 基 金
A3: 用人費 | G3: 用彙計表
A4: 中 華 民 國 | G4: 116 年 度 | L4: 單位：新臺幣千元
A5: 科 目 | B5: 正式員 額薪資 | C5: 加(夜)班費 | D5: 獎 金 | G5: 退休及卹償金 | H5: 福 利 費 | K5: 提繳費 | L5: 總 計
D6: 年終 獎金 | E6: 考績 獎金 | F6: 其他 | G6: 退休金 | H6: 分擔 保險費 | I6: 傷病醫藥費 | J6: 其他
A7: 業務支出部分： | B7: =B8 -> 175390 | C7: =C8 -> 8311 | D7: =D8 -> 21806 | E7: =E8 -> 19981 | F7: =F8 -> 4572 | G7: =G8 -> 18223 | H7: =H8 -> 16128 | I7: =I8 -> 253 | ... L7: =L8 -> 269202
A8: 業務費用 | B8: =B9 -> 175390 | C8: =C9 -> 8311 | D8: =D9 -> 21806 | E8: =E9 -> 19981 | F8: =F9 -> 4572 | G8: =G9 -> 18223 | H8: =H9 -> 16128 | I8: =I9 -> 253 | ... L8: =L9 -> 269202
A9: 業務費用 | B9: =B10+B14 -> 175390 | C9: =C10+C14 -> 8311 | D9: =D10+D14 -> 21806 | E9: =E10+E14 -> 19981 | F9: =F10+F14 -> 4572 | G9: =G10+G14 -> 18223 | H9: =H10+H14 -> 16128 | I9: =I10+I14 -> 253 | ... L9: =L10+L14 -> 269202
A10: 勞動部勞工保險局 | B10: =B11 -> 159905 | C10: =C11 -> 7326 | D10: =D11 -> 19987 | E10: =E11 -> 18299 | F10: =F11 -> 150 | G10: =G11 -> 16717 | H10: =H11 -> 14762 | I10: =I11 -> 217 | ... L10: =L11 -> 241418
A11: 正式人員 | B11: =B12 -> 159905 | C11: =C12 -> 7326 | D11: =D12 -> 19987 | E11: =E12 -> 18299 | F11: =F12 -> 150 | G11: =G12 -> 16717 | H11: =H12 -> 14762 | I11: =I12 -> 217 | ... L11: =L12 -> 241418
A12: 職員 | B12: 159905 | C12: 7326 | D12: 19987 | E12: 18299 | F12: 150 | G12: 16717 | H12: 14762 | I12: 217 | J12: 4052 | K12: 3 | L12: =SUM(B12:K12) -> 241418
A14: 勞動部勞動基金運用局 | B14: =B15 -> 15485 | C14: =C15 -> 985 | D14: =D15 -> 1819 | E14: =E15 -> 1682 | F14: =F15 -> 4422 | G14: =G15 -> 1506 | H14: =H15 -> 1366 | I14: =I15 -> 36 | J14: =J15 -> 483 | K14: 0 | L14: =L15 -> 27784
A15: 正式人員 | B15: =B16 -> 15485 | C15: =C16 -> 985 | D15: =D16 -> 1819 | E15: =E16 -> 1682 | F15: =F16 -> 4422 | G15: =G16 -> 1506 | H15: =H16 -> 1366 | I15: =I16 -> 36 | J15: =J16 -> 483 | K15: 0 | L15: =L16 -> 27784
A16: 職員 | B16: 15485 | C16: 985 | D16: 1819 | E16: 1682 | F16: 4422 | G16: 1506 | H16: 1366 | I16: 36 | J16: 483 | K16: 0 | L16: =SUM(B16:K16) -> 27784
A20: 合 計 | B20: =B7 -> 175390 | C20: =C7 -> 8311 | D20: =D7 -> 21806 | E20: =E7 -> 19981 | F20: =F7 -> 4572 | G20: =G7 -> 18223 | H20: =H7 -> 16128 | I20: =I7 -> 253 | ... L20: =L7 -> 269202
A21: 註：1.勞務承攬人力主要係辦理電話服務中心諮詢服務、郵件收受、公文繕校、辦公場所清潔與保全及資訊設備維護 等業務，預計131人，編列一般服務費83,978千元(勞保局83,462千元，基金運用局516千元)、修理保養及保固費108
A22: 千元(基金運用局)。
A23: 2.年終獎金依「軍公教人員年終工作獎金發給注意事項」，編列21,806千元；考績獎金依「公務人員考績法」， 編列19,981千元。
A24: 3.其他獎金依「獎章條例」及「公務人員領有勳章獎章榮譽紀念章發給獎勵金實施要點」，預計5人，編列150千 元，以及依行政院110年5月7日院授人給字第1104000375號函核定之勞動部勞動基金運用局業務人員獎金，預計16人
A25: 3.，編列4,422千元，合共編列4,572千元。

Sheet 政策宣導費彙計表
A1: 衛 生 福 利 部 主 管
A2: 國 民 年 金 保 險 基 金
A3: 媒體政策及業務宣導費彙計表
A4: 中華民國116年度 單位：新臺幣千元
A5: 科目 | B5: 預算數 | C5: 預計執行內容
A6: 業務支出部分 | B6: =B7 -> 25542 | C6: 本科目全數由勞動部勞工保險局辦理。
A7: 業務費用 | B7: =B8 -> 25542
A8: 業務費用 | B8: 25542 | C8: 辦理國民年金保險業務，平面、廣播、網路及電視等相關媒體宣導資料製作、託播及刊登等經費25,542千元。
A27: 總 計 | B27: =B6 -> 25542

Sheet 出國總表
A1: 衛 生 福 利 部 主 管
A2: 國 民 年 金 保 險 基 金
A3: 派員出國計畫預算總表
A4: 中華民國116年度 單位：新臺幣千元
A5: 類 別 | B5: 本年度 計畫項數 | C5: 本年度 預計人天 | D5: 本年度 預算數 | E5: 上年度 計畫項數 | F5: 上年度 核定人天 | G5: 上年度 預算數
A6: 考 察 | B6: 3 | C6: 27 | D6: 543 | E6: 3 | F6: 27 | G6: 543
A7: 視 察 | B7: 0 | C7: 0 | D7: 0 | E7: 0 | F7: 0 | G7: 0
A8: 訪 問 | B8: 0 | C8: 0 | D8: 0 | E8: 0 | F8: 0 | G8: 0
A9: 開 會 | B9: 0 | C9: 0 | D9: 0 | E9: 0 | F9: 0 | G9: 0
A10: 談 判 | B10: 0 | C10: 0 | D10: 0 | E10: 0 | F10: 0 | G10: 0
A11: 業務洽談 | B11: 0 | C11: 0 | D11: 0 | E11: 0 | F11: 0 | G11: 0
A12: 進 修 | B12: 0 | C12: 0 | D12: 0 | E12: 0 | F12: 0 | G12: 0
A13: 研 究 | B13: 0 | C13: 0 | D13: 0 | E13: 0 | F13: 0 | G13: 0
A14: 實 習 | B14: 0 | C14: 0 | D14: 0 | E14: 0 | F14: 0 | G14: 0
A24: 合 計 | B24: =B6 -> 3 | C24: =C6 -> 27 | D24: =D6 -> 543 | E24: =E6 -> 3 | F24: =F6 -> 27 | G24: =G6 -> 543

Sheet 出國類別表考察
A1: 衛 生 福 | F1: 利 部 主 管
A2: 國 民 年 金 | F2: 保 險 基 金
A3: 派員出國計畫預算類別 | F3: 表－考察、視察、訪問
A4: 中 華 民 國 | F4: 116 年 度 | I4: 單位：新臺幣千元
A5: 計畫名稱 | B5: 擬前往國家 | C5: 擬拜會或 視察機構 | D5: 計畫內容 | E5: 預計前 往期間 | F5: 預計 天數 | G5: 擬派 人數 | H5: 旅費預算 | L5: 科目 | M5: 前三年內有無赴同 一機構拜會、視察
H6: 交通費 | I6: 生活費 | J6: 辦公費 | K6: 合計 | M6: 有／無 | N6: 如有，說明其內容
A7: 一、考察
A8: 01 國外投資委託經 營實地業務訪察 | B8: 歐洲 | C8: 國保基金受託機構 | D8: 考察國外受託機構是否遵循國外投資委託契約相關規範並善盡善良管理人之義務。 | E8: 116.04-116.11 | F8: 9 | G8: 1 | H8: 50 | I8: 84 | J8: 9 | K8: 143 | L8: 業務成本與費用-業務費用 | M8: 無
A9: 02 國外投資委託經 營實地業務訪察 | B9: 美國 | C9: 國保基金受託機構 | D9: 考察國外受託機構是否遵循國外投資委託契約相關規範並善盡善良管理人之義務。 | E9: 116.04-116.11 | F9: 9 | G9: 1 | H9: 50 | I9: 141 | J9: 9 | K9: 200 | L9: 業務成本與費用-業務費用 | M9: 無
A10: 03 國外投資委託經 營實地業務訪察 | B10: 美國 | C10: 國保基金受託機構 | D10: 考察國外受託機構是否遵循國外投資委託契約相關規範並善盡善良管理人之義務。 | E10: 116.04-116.11 | F10: 9 | G10: 1 | H10: 50 | I10: 141 | J10: 9 | K10: 200 | L10: 業務成本與費用-業務費用 | M10: 無

Sheet 各項費用彙計表
A1: 衛 生 福 | E1: 利 部 主 管
A2: 國 民 年 金 | E2: 保 險 基 金
A3: 各項費 | E3: 用彙計表
A4: 中 華 民 國 | E4: 116年度 | H4: 單位：新臺幣千元
A5: 前年度 決算數 | B5: 上年度 預算數 | C5: 科 目 | D5: 本年度預算數
D6: 合 計 | E6: 投融資業務成本 | F6: 保險成本 | G6: 業務費用
G7: 小計 | H7: 勞工保險局 | I7: 勞動基金運用局
A8: 226664 | B8: 258115 | C8: 用人費用 | D8: =SUM(E8:G8) -> 269202 | E8: 0 | F8: 0 | G8: =H8+I8 -> 269202 | H8: =SUM(H9:H15) -> 241418 | I8: =SUM(I9:I15) -> 27784
A9: 141176 | B9: 160994 | C9: 正式員額薪資 | D9: =SUM(E9:G9) -> 175390 | E9: 0 | F9: 0 | G9: =H9+I9 -> 175390 | H9: 159905 | I9: 15485
A10: 4834 | B10: 0 | C10: 聘僱及兼職人員薪資 | D10: =SUM(E10:G10) -> 0 | E10: 0 | F10: 0 | G10: =H10+I10 -> 0 | H10: 0 | I10: 0
A11: 6675 | B11: 9062 | C11: 加(夜)班費 | D11: =SUM(E11:G11) -> 8311 | E11: 0 | F11: 0 | G11: =H11+I11 -> 8311 | H11: 7326 | I11: 985
A12: 39511 | B12: 43616 | C12: 獎金 | D12: =SUM(E12:G12) -> 46359 | E12: 0 | F12: 0 | G12: =H12+I12 -> 46359 | H12: 38436 | I12: 7923
A13: 15757 | B13: 23762 | C13: 退休及卹償金 | D13: =SUM(E13:G13) -> 18223 | E13: 0 | F13: 0 | G13: =H13+I13 -> 18223 | H13: 16717 | I13: 1506
A14: 18710 | B14: 20678 | C14: 福利費 | D14: =SUM(E14:G14) -> 20916 | E14: 0 | F14: 0 | G14: =H14+I14 -> 20916 | H14: 19031 | I14: 1885
A15: 2 | B15: 3 | C15: 提繳費 | D15: =SUM(E15:G15) -> 3 | E15: 0 | F15: 0 | G15: =H15+I15 -> 3 | H15: 3 | I15: 0
A16: 959831 | B16: 1159129 | C16: 服務費用 | D16: =SUM(E16:G16) -> 1330640 | E16: =SUM(E17:E25) -> 701344 | F16: 0 | G16: =H16+I16 -> 629296 | H16: =SUM(H17:H27) -> 623800 | I16: =SUM(I17:I27) -> 5496
A17: 3399 | B17: 3255 | C17: 水電費 | D17: =SUM(E17:G17) -> 3877 | E17: 0 | F17: 0 | G17: =H17+I17 -> 3877 | H17: 3627 | I17: 250
A18: 131372 | B18: 142941 | C18: 郵電費 | D18: =SUM(E18:G18) -> 145193 | E18: 0 | F18: 0 | G18: =H18+I18 -> 145193 | H18: 144156 | I18: 1037
A19: 1235 | B19: 1014 | C19: 旅運費 | D19: =SUM(E19:G19) -> 1021 | E19: 0 | F19: 0 | G19: =H19+I19 -> 1021 | H19: 336 | I19: 685
A20: 1848 | B20: 2239 | C20: 印刷裝訂及公告費 | D20: =SUM(E20:G20) -> 2472 | E20: 0 | F20: 0 | G20: =H20+I20 -> 2472 | H20: 2442 | I20: 30
A21: 1836 | B21: 2845 | C21: 修理保養及保固費 | D21: =SUM(E21:G21) -> 2609 | E21: 0 | F21: 0 | G21: =H21+I21 -> 2609 | H21: 2089 | I21: 520
A22: 48 | B22: 67 | C22: 保險費 | D22: =SUM(E22:G22) -> 67 | E22: 0 | F22: 0 | G22: =H22+I22 -> 67 | H22: 67 | I22: 0
A23: 692852 | B23: 766054 | C23: 一般服務費 | D23: =SUM(E23:G23) -> 960368 | E23: 697047 | F23: 0 | G23: =H23+I23 -> 263321 | H23: 262708 | I23: 613
A24: 101768 | B24: 214012 | C24: 專業服務費 | D24: =SUM(E24:G24) -> 188031 | E24: 4297 | F24: 0 | G24: =H24+I24 -> 183734 | H24: 181373 | I24: 2361
A25: 62 | B25: 460 | C25: 公關慰勞費 | D25: =SUM(E25:G25) -> 460 | E25: 0 | F25: 0 | G25: =H25+I25 -> 460 | H25: 460 | I25: 0
A26: 24721 | B26: 25542 | C26: 媒體政策及業務宣導費 | D26: =SUM(E26:G26) -> 25542 | E26: 0 | F26: 0 | G26: =H26+I26 -> 25542 | H26: 25542 | I26: 0
A27: 692 | B27: 700 | C27: 推展費 | D27: =SUM(E27:G27) -> 1000 | E27: 0 | F27: 0 | G27: =H27+I27 -> 1000 | H27: 1000 | I27: 0
A28: 2979 | B28: 2833 | C28: 材料及用品費 | D28: =SUM(E28:G28) -> 2827 | E28: 0 | F28: 0 | G28: =H28+I28 -> 2827 | H28: =SUM(H29:H30) -> 2482 | I28: =SUM(I29:I30) -> 345
A29: 101 | B29: 73 | C29: 使用材料費 | D29: =SUM(E29:G29) -> 73 | E29: 0 | F29: 0 | G29: =H29+I29 -> 73 | H29: 73 | I29: 0
A30: 2877 | B30: 2760 | C30: 用品消耗 | D30: =SUM(E30:G30) -> 2754 | E30: 0 | F30: 0 | G30: =H30+I30 -> 2754 | H30: 2409 | I30: 345
A31: 註：1.本年度國外旅費543千元、公共關係費460千元。
A32: 2. 前年度決算數配合行政院主計總處核定科目，為重分類之數。
A33: 2. 依行政院113年6月27日院臺勞字第1131015165號函核定勞保局「數位轉型及永續發展計畫」，本計畫總經費 為4,478,172千元，其中國民年金保險基金負擔1,906,360千元，以前年度已編列368,357千元，本年度續編327,955千元
A34: （包括「專業服務費」編列142,266千元，「房租」編列27,845千元，「不動產、廠房及設備」編列91,221千元 ，「無形資產」編列66,623千元），未來尚需經費1,210,048千元。
A35: 83780 | B35: 68095 | C35: 租金與利息 | D35: =SUM(E35:G35) -> 67667 | E35: 0 | F35: 0 | G35: =H35+I35 -> 67667 | H35: =SUM(H36:H41) -> 64918 | I35: =SUM(I36:I41) -> 2749
A36: 95 | B36: 97 | C36: 地租及水租 | D36: =SUM(E36:G36) -> 97 | E36: 0 | F36: 0 | G36: =H36+I36 -> 97 | H36: 97 | I36: 0
A37: 46793 | B37: 62848 | C37: 房租 | D37: =SUM(E37:G37) -> 62311 | E37: 0 | F37: 0 | G37: =H37+I37 -> 62311 | H37: 59715 | I37: 2596
A38: 3226 | B38: 3887 | C38: 機器租金 | D38: =SUM(E38:G38) -> 3952 | E38: 0 | F38: 0 | G38: =H38+I38 -> 3952 | H38: 3952 | I38: 0
A39: 349 | B39: 387 | C39: 交通及運輸設備租金 | D39: =SUM(E39:G39) -> 387 | E39: 0 | F39: 0 | G39: =H39+I39 -> 387 | H39: 384 | I39: 3
A40: 647 | B40: 876 | C40: 什項設備租金 | D40: =SUM(E40:G40) -> 920 | E40: 0 | F40: 0 | G40: =H40+I40 -> 920 | H40: 770 | I40: 150
...

Sheet 增購及汰舊換新各種公務車輛
A1: 衛 生 福 利 部 主 管
A2: 國 民 年 金 保 險 基 金
A3: 增購及汰舊換新管理用公務車輛明細表
A4: 中華民國116年度 單位：新臺幣千元
A5: 項 目 | B5: 單位 | C5: 增購部分 | E5: 汰舊換新部分 | G5: 合計 | I5: 說明
C6: 數量 | D6: 金額 | E6: 數量 | F6: 金額 | G6: 數量 | H6: 金額
A8: 5人座小客貨兩用車 | B8: 輛 | C8: 0 | D8: 0 | E8: 4 | F8: 3200 | G8: 4 | H8: 3200 | I8: 1.行政院115年8月20日院臺 財字第1155016778B號函 核定。
I9: 2.辦理國民年金業務使用， 預計116年9月汰換5人座 小客貨兩用車4輛。
A24: 註：1.管理用車輛：小客貨兩用車共5輛，其中8人座1輛，5人座4輛。
A25: 2.其他車輛：一般公務用機車1輛。

Sheet 附錄
A1: 附錄

Sheet 表背
A2: 中華民國116年度國民年金保險基金附屬單位預算
